{"text_format":"1","workbook":"xlsx","n_sheets":6,"sheets":["Simulador","Cronograma","CronogramaValores","Cronograma Referencial","BD Dias No utiles","CronogramaValoresNvo"],"not_rendered":{"charts":0,"images":1,"macros":1,"external_links":0,"defined_names":5,"comments":0,"pivot_tables":0},"unopened":[],"bounds":{"document_bytes":16777216,"sheet_cells":100000,"rows_first":2000,"rows_last":500,"rows_between":2000,"halvings":0,"cell_chars":16384,"cell_head_chars":4096},"cells_cut":0,"cells_raw":0,"read":"whole","date_system":"1900"}

{"sheet":"Simulador","index":0,"n_rows":77,"n_cols":26,"rows_kept":77,"cut":false,"hidden":false,"merged":[[11,5,11,6],[2,2,4,6],[14,5,14,6],[5,13,6,13],[5,14,6,14],[7,13,8,13],[7,14,8,14],[9,13,10,13],[9,14,10,14],[11,13,12,13],[11,14,12,14],[13,13,14,13],[13,14,14,14],[18,13,19,13],[18,14,19,14],[20,13,21,13],[20,14,21,14],[22,13,23,13],[22,14,23,14],[24,13,25,13],[24,14,25,14],[26,13,27,13],[26,14,27,14],[76,2,77,7]]}
[]
[null,null,null,null,null,null,null,null,null,"Parametros",null,null,null,"Tarifario Vigente al 20/02/16",null,null,null,null,null,null,null,"Periodo de gracia","Días","Nro de cuotas"]
[null,null,"SIMULADOR FINANCIERO - VRAEM / Profundización Financiera",null,null,null,null,null,null,"Tipo de Cambio",3.5,null,null,null,null,null,null,null,null,null,null,"Ninguno",0,1]
[null,null,null,null,null,null,null,null,null,"ITF",5.0000000000000002E-5,null,null,null,null,null,"CP","MP","LP",null,null,"1 mes",30,2]
[null,null,null,null,null,null,null,null,null,"Costo de Portes (S/.)",6.84,null,null,"Soles",null,"Tasa","(<=1 Año)","(<=3 Año)","(<=3 Año)",null,null,"2 meses",60,3]
[null,null,null,null,null,null,null,null,null,"Moneda (Soles=1, Dolares=2)",1,null,1,0,10000,"Min",0.155,0.155,0.155,null,null,"3 meses",90,4]
[null,null,"Moneda",null,null,null,null,null,null,"Tipo persona (Natural=1, Juridica=2)",1,null,{"$f":"M6+1","v":2},null,null,"Max",0.155,0.155,0.155,null,null,"4 meses",120,5]
[null,null,null,null,null,null,null,null,null,"Opción de Portes (Si=1, No=2)",2,null,{"$f":"M7+1","v":3},10001,50000,"Min",0.155,0.155,0.155,null,null,"5 meses",150,6]
[null,null,null,null,null,null,null,null,null,"UIT",3950,null,4,null,null,"Max",0.155,0.155,0.155,null,null,"6 meses",180,7]
[null,null,"Parámetros Crediticios",null,null,"Mínimo","Máximo",null,null,"Seguro de Desgravamen",4.4999999999999999E-4,null,5,{"$f":"O8+1","v":50001},{"$f":"O8+50000","v":100000},"Min",0.155,0.155,0.155,null,null,"7 meses",210,8]
[null,null,"Tasa Efectiva Anual (T.E.A.) compensatoria 1/",null,null,{"$f":"+IF(K6=1,MIN(Q6:S15),MIN(Q19:S28))","v":0.155},{"$f":"IF(K6=1,MAX(Q6:S15),MAX(Q19:S28))","v":0.155},null,null,"Elaboración de Minuta (S/.)",97,null,6,null,null,"Max",0.155,0.155,0.155,null,null,"8 meses",240,9]
[null,null,"Tasa Efectiva Anual (T.E.A.) moratoria",null,null,0.16,null,null,null,null,null,null,7,{"$f":"O10+1","v":100001},500000,"Min",0.155,0.155,0.155,null,null,"9 meses",270,10]
[null,null,"Comisiones y gastos",null,null,null,null,null,null,"Dias Fijos",null,null,8,null,null,"Max",0.155,0.155,0.155,null,null,"10 meses",300,11]
[null,null,"Gasto por Operador de créditos (Por hectárea)",null,null,0,{"$f":"+G38","v":0.02},null,null,{"$f":"+C19","v":"Fecha de desembolso"},{"$f":"+G19","v":"2017-12-17"},null,9,500000.00001000002,null,"Min",0.155,0.155,0.155,null,null,"11 meses",330,12]
[null,null,"Seguro de desgravamen (Tasa Bruta Mensual)",null,null,{"$f":"K10","v":4.4999999999999999E-4},null,null,null,"Periodo Gracia (meses)",{"$f":"+VLOOKUP(G25,$V$3:$W$15,2,FALSE)/30","v":0},null,10,null,null,"Max",0.155,0.155,0.155,null,null,"12 meses",360,13]
[null,null,null,null,null,null,null,null,null,"Periodicidad de Pago",{"$f":"+VLOOKUP(G27,$V$17:$W$29,2,FALSE)/30","v":1},null,null,null,null,null,null,null,null,null,null,null,null,14]
[null,null,"Resumen crediticio",null,null,null,null,null,null,"Fecha Primera Cuota",{"$f":"+EDATE(K14,K15+K16)","v":"2018-01-17"},null,null,null,null,null,"CP","MP","LP",null,null,"Amortizacion","Días",15]
[null,null,null,null,null,null,null,null,null,"Fecha Ultima Cuota a Pagar",{"$f":"+EDATE(K14,K15+K16*G26)","v":"2018-12-17"},null,null,"Dolares",null,"Tasa","(<=1 Año)","(<=3 Año)","(<=3 Año)",null,null,"1 mes",30,16]
[null,null,"Fecha de desembolso",null,null,null,"2017-12-17",null,null,null,null,null,1,0,3000,"Min",0.155,0.155,0.155,null,null,"2 meses",60]
[null,null,"Sistema de Pagos",null,null,null,"Dias Fijos",null,null,"Gastos Judiciales",null,null,{"$f":"M19+1","v":2},null,null,"Max",0.155,0.155,0.155,null,null,"3 meses",90,"Tipo de Pago"]
[null,null,"Fecha de primera cuota a pagar",null,null,null,{"$f":"+'Cronograma Referencial'!J4","v":"2018-01-17"},null,null,"Monto a Financiar",{"$f":"+G34","v":3500},null,{"$f":"M20+1","v":3},{"$f":"O19+1","v":3001},15000,"Min",0.155,0.155,0.155,null,null,"4 meses",120,"Sistema de pagos"]
[null,null,"Fecha de última cuota a pagar",null,null,null,{"$f":"+VLOOKUP(G26,'Cronograma Referencial'!$H$3:$J$418,3,FALSE)","v":"2018-12-17"},null,null,"Tipo de Persona",{"$f":"+IF(K7=2,\"Jurídica\",\"Natural\")","v":"Natural"},null,4,null,null,"Max",0.155,0.155,0.155,null,null,"5 meses",150,"Dias Fijos"]
[null,null,"Plazo del financiamiento",{"$f":"+IF(K33>365,\"El plazo máximo de financiamiento es \"&365&\" dias\",\"\")","v":""},null,null,{"$f":"+K33&\" dias\"","v":"365 dias"},null,null,"UITs",6,null,5,{"$f":"O21+1","v":15001},30000,"Min",0.155,0.155,0.155,null,null,"6 meses",180,"Dias Variables"]
[null,null,null,null,null,null,null,null,null,"UIT",3950,null,6,null,null,"Max",0.155,0.155,0.155,null,null,"7 meses",210]
[null,null,"Periodo de gracia 2/",null,null,null,"Ninguno",null,null,"Elaboración Minuta",{"$f":"IF(OR(AND(K7=1,K21<K23*K24),AND(K7=1,K21<K23*K24/K3)),0,IF(K6=1, 97,97/K3))","v":0},null,7,{"$f":"O23+1","v":30001},150000,"Min",0.155,0.155,0.155,null,null,"8 meses",240,"% G. Operador"]
[null,null,"Nro de cuotas",null,null,null,12,null,null,null,null,null,8,null,null,"Max",0.155,0.155,0.155,null,null,"9 meses",270,0]
[null,null,"Periodicidad de pago 2/",null,null,null,"1 mes",null,null,"Cronorgama Referencial",null,null,9,{"$f":"O25+1","v":150001},null,"Min",0.155,0.155,0.155,null,null,"10 meses",300,0.01]
[null,null,null,null,null,null,null,null,null,"Fecha de primera cuota a pagar",{"$f":"+IF(G20=\"Dias Fijos\",K17,G19+VLOOKUP(G25,V3:W15,2, FALSE)+VLOOKUP(G27,V18:W29,2,FALSE))","v":"2018-01-17"},null,10,null,null,"Max",0.155,0.155,0.155,null,null,"11 meses",330,0.02]
[null,null,"T.E.A. compensatoria 3/",null,null,null,0.155,null,null,"Fecha de última cuota a pagar",{"$f":"+IF(G20=\"Dias Fijos\",K18,G19+VLOOKUP(G25,V3:W15,2, FALSE)+G26*VLOOKUP(G27,V18:W29,2,FALSE))","v":"2018-12-17"},null,null,null,null,null,null,null,null,null,null,"12 meses",360,0.03]
[null,null,"Hectáreas del terreno",null,null,null,1]
[null,null,"Costo de producción, inversión o comercialización a financiar (por Hectárea)",null,null,null,5000,null,null,"Meses (Entero)",{"$f":"+INT(ROUND(K33/W18,3))","v":12},null,null,"Configuración",null,null,"Lista Tasas"]
[null,null,"% del Costo de producción a financiar",null,null,null,0.7,null,null,null,null,null,null,"Monto",{"$f":"G47+G34","v":3770.8123868892017},null,{"$f":"O37","v":0.155}]
[null,null,null,null,null,null,null,null,null,"Plazo total",{"$f":"(G22-G19)","v":365},null,null,"Plazo",{"$f":"K33","v":365},null,{"$f":"IF((IF(MID(Q32,5,1)<\"5\",MID(TEXT(Q32,\"0.0000\"),3,2)/100+0.5%,MID(TEXT(Q32,\"0.0000\"),3,2)/100+1%))<$O$38,IF(MID(Q32,5,1)<\"5\",MID(TEXT(Q32,\"0.0000\"),3,2)/100+0.5%,MID(TEXT(Q32,\"0.0000\"),3,2)/100+1%),$O$38)","v":0.155}]
[null,null,"Monto Solicitado",null,null,{"$f":"+IF(K6=1,\"S/.\",\"US$\")","v":"S/."},{"$f":"+G30*G31*G32","v":3500},null,null,"Periodo de gracia (días)",{"$f":"+VLOOKUP(G25,V3:W15,2, FALSE)","v":0},null,null,"Moneda",{"$f":"K6","v":1},null,{"$f":"IF((IF(MID(Q33,5,1)<\"5\",MID(TEXT(Q33,\"0.0000\"),3,2)/100+0.5%,MID(TEXT(Q33,\"0.0000\"),3,2)/100+1%))<$O$38,IF(MID(Q33,5,1)<\"5\",MID(TEXT(Q33,\"0.0000\"),3,2)/100+0.5%,MID(TEXT(Q33,\"0.0000\"),3,2)/100+1%),$O$38)","v":0.155}]
[null,null,null,null,null,null,null,null,null,"Periodicidad de pago",{"$f":"+VLOOKUP(G27,V18:W29,2, FALSE)","v":30},null,null,"Rango Monto",{"$f":"IF(O34=1,IF(O32<=10000,1,IF(O32<=50000,3,IF(O32<=100000,5,IF(O32<=500000,7,9)))),IF(O32<=3000,1,IF(O32<=15000,3,IF(O32<=30000,5,IF(O32<=150000,7,9)))))","v":1},null,0.155]
[null,null,"Cuota del crédito 9/",null,null,null,{"$f":"+Cronograma!H12","v":315.45625548517603},null,null,"Nro de cuotas",{"$f":"+VLOOKUP(G26,X3:X18,1, FALSE)","v":12},null,null,"Rango Plazo",{"$f":"IF(O33<=365,1,IF(O33<=3*365,2,3))+4","v":5},null,0.155]
[null,null,null,null,null,null,null,null,null,null,null,null,null,"Min",{"$f":"IF(O34=1,VLOOKUP(O35,M6:S15,O36),VLOOKUP(O35,M19:S28,O36))","v":0.155},null,0.155]
[null,null,"Gasto por Gestor de Negocio (sobre el costo de producción por hectárea)",null,null,null,0.02,null,null,"Redondeo ITF",null,null,null,"Max",{"$f":"IF(O34=1,VLOOKUP(O35+1,M6:S15,O36),VLOOKUP(O35+1,M18:S28,O36))","v":0.155},null,0.155]
[null,null,"Gestor de Negocio 4/",null,null,null,{"$f":"+G30*G31*G38","v":100},null,null,"ITF Bruto",{"$f":"+Cronograma!$H$12*K4","v":1.5772812774258804E-2},null,null,"Nro Max Lista",{"$f":"MATCH(O38,Q32:Q53,0)","v":1},null,0.155]
[null,null,"Seguro de desgravamen 5/",null,null,null,{"$f":"IF(K7=1,(G34+G39+G41+G42)*((F15)*(K31))/(1-(F15)*(K31)),0)","v":20.362386889201687},null,null,"Pos. \".\"  Dec.",{"$f":"+FIND(\".\",K39)","v":2},null,null,"Pos. Lista",{"$f":"O39+31","v":32},null,0.155]
[null,null,"Reportes Legales (estudio de poderes, de titulos y elaboración de la minuta respectiva)  6/",null,null,null,{"$f":"+K25","v":0},null,null,"ITF Ajustado",{"$f":"IF(MID(K39,K40+2,1)*1>=5,0.05,0)+MID(K39,1,K40+1)*1","v":0},null,null,"Rango Variable",{"$f":"CONCATENATE(\"Q32:Q\",O40)","v":"Q32:Q32"},null,0.155]
[null,null,"Seguro Agrícola 7/",null,null,null,{"$f":"IF($K$51=2,(G31*G30+G39)*2.95%,0)","v":150.45000000000002},null,null,null,null,null,null,null,null,null,0.155]
[null,null,"I.T.F. por desembolso del crédito (0.005%)",null,null,null,{"$f":"IF($K$43=1,K46,0)","v":0},null,null,"Redondeo ITF del Desembolso",2,null,null,null,null,null,0.155]
[null,null,"Portes (envío físico)",null,null,null,{"$f":"IF($K$8=1, K5,0)","v":0},null,null,"ITF Bruto",{"$f":"+(G34+G39+G40+G41)*K4","v":0.1810181193444601},null,null,null,null,null,0.155]
[null,null,"I.T.F. por cuota del crédito (0.005%) 10/",null,null,null,{"$f":"+K41","v":0},null,null,"Pos. \".\"  Dec.",{"$f":"+FIND(\".\",K44)","v":2},null,null,null,null,null,0.155]
[null,null,null,null,null,null,null,null,null,"ITF Ajustado",{"$f":"IF(MID(K44,K45+2,1)*1>=5,0.05,0)+MID(K44,1,K45+1)*1","v":0.15000000000000002},null,null,null,null,null,0.155]
[null,null,"Comisiones / Gastos",null,null,{"$f":"+IF(K6=1,\"S/.\",\"US$\")","v":"S/."},{"$f":"G39+G40+G41+G43+G42+G44+G45","v":270.81238688920172},null,null,null,null,null,null,null,null,null,0.155]
[null,null,null,null,null,null,null,null,null,null,null,null,null,null,null,null,{"$f":"IF((IF(MID(Q47,5,1)<\"5\",MID(TEXT(Q47,\"0.0000\"),3,2)/100+0.5%,MID(TEXT(Q47,\"0.0000\"),3,2)/100+1%))<$O$38,IF(MID(Q47,5,1)<\"5\",MID(TEXT(Q47,\"0.0000\"),3,2)/100+0.5%,MID(TEXT(Q47,\"0.0000\"),3,2)/100+1%),$O$38)","v":0.155}]
[null,null,"Monto del Crédito 8/",null,null,{"$f":"++IF(K6=1,\"S/.\",\"US$\")","v":"S/."},{"$f":"+G34+G47","v":3770.8123868892017}]
[]
[null,null,"Cuota a pagar 11/",null,null,{"$f":"+IF(K6=1,\"S/.\",\"US$\")","v":"S/."},{"$f":"+Cronograma!O12","v":338.02395439260948},null,null,"Seguro Agrícola (Si=2, No=3)",2,null,null,null,null,null,{"$f":"IF((IF(MID(Q48,5,1)<\"5\",MID(TEXT(Q48,\"0.0000\"),3,2)/100+0.5%,MID(TEXT(Q48,\"0.0000\"),3,2)/100+1%))<$O$38,IF(MID(Q48,5,1)<\"5\",MID(TEXT(Q48,\"0.0000\"),3,2)/100+0.5%,MID(TEXT(Q48,\"0.0000\"),3,2)/100+1%),$O$38)","v":0.155}]
[null,null,null,null,null,null,null,null,null,null,null,null,null,null,null,null,0.155]
[null,null,"Cantidad total a pagar",{"$f":"+IF(K6=1,\"S/.\",\"US$\")","v":"S/."},{"$f":"+Cronograma!O60","v":4056.287452711314},"T.E.A.",{"$f":"+G29","v":0.155},null,null,null,null,null,null,null,null,null,0.155]
[null,null,"Total intereses",{"$f":"+IF(K6=1,\"S/.\",\"US$\")","v":"S/."},{"$f":"+Cronograma!G60","v":285.47506582211088},"T.C.E.A.",{"$f":"+Cronograma!P6","v":0.31501950343921714}]
[]
[]
[]
[]
[null,"1/","Sujeto a evaluación crediticia, de acuerdo al destino (VRAEM / Profudización Financiera)."]
[null,"2/","El periodo de gracia y la periodicidad de pago se expresan en meses de 30 días."]
[null,"3/","La tasa de interés es efectiva anual de un año de 360 días."]
[null,"4/","El gasto por Gestor de Negocio se cobra por hectárea y está sujeto a negociación con la zona productiva."]
[null,"5/","El Seguro de desgravamen aplica para personas naturales y su Tasa Bruta Mensual normalmente es de 0.045%"]
[null,null,"El monto de cobertura es igual al monto del crédito otorgado al asegurado."]
[null,"6/","Aplicable dependiendo de la garantía exigida por el Banco, según el monto de credito final aprobado."]
[null,"7/","Se denomina Seguro Agrícola, al seguro que cobertura los riesgos no controlables ni previsibles (riesgo climático) que afectan"]
[null,null,"el rendimiento de la producción agrícola. Se considera una tasa bruta de seguro agrícola de 2.95%."]
[null,"8/","El Monto del crédito es igual al Monto a financiar, incluyendo el gasto por Operador de créditos, el Seguro de",null,null,null,null,null,null,null,null,null,null,null,null,null,null,null,null,null,null,null,null,null,null,{"$f":"+Cronograma!U11+Cronograma!X10+Cronograma!AI10+Cronograma!AT10+Cronograma!BE10","v":6.9897117871420278E-8}]
[null,null,"Desgravamen y Reportes Legales."]
[null,"9/","La cuota del crédito es constante y se calcula en base al Monto del crédito, la T.E.A, el periodo de gracia,"]
[null,null,"el número de cuotas y la periodicidad de pago de estas."]
[null,"10/","El I.T.F. es el Impuesto a las Transacciones Financieras y su tasa es de 0.005%. Se calcula sobre la cuota del crédito."]
[null,"11/","La cuota a pagar es la suma de la cuota del crédito más el I.T.F."]
[]
[null,null,"T.E.A. : Tasa Efectiva Anual",null,"T.C.E.A. : Tasa Costo Efectiva Anual"]
[]
[null,null,"Nota: Este documento no constituye aprobación del crédito. Asimismo, el simulador es referencial. Para mayor información consulte el Tarifario ubicado en nuestras oficinas a nivel nacional o ingrese a la página web: www. Agrobanco.com.pe"]

{"sheet":"Cronograma","index":1,"n_rows":60,"n_cols":87,"rows_kept":60,"cut":false,"hidden":true,"merged":[[5,77,5,86],[1,1,3,15],[5,55,5,64],[5,66,5,75],[59,1,59,3],[5,22,5,31],[5,33,5,42],[5,44,5,53]]}
[null,null,null,null,null,null,null,null,null,null,null,null,null,null,null,null,null,null,{"$f":"+COLUMN()","v":19},20,21,22,23,{"$f":"+COLUMN()","v":24}]
[null,"CRONOGRAMA DE CUOTAS - CREDITO CADENAS PRODUCTIVAS"]
[]
[]
[null,"Moneda",null,{"$f":"+IF(Simulador!K6=1,\"Soles\",\"Dólares\")","v":"Soles"},"Cuota del crédito",null,{"$f":"+Simulador!G36","v":315.45625548517603},"Op. de Créditos",null,null,{"$f":"+Simulador!F14","v":0},"Tasa Efectiva Anual (T.E.A) compensatoria",null,null,null,{"$f":"+Simulador!G53","v":0.155}]
[null,"Monto solicitado",null,{"$f":"+Simulador!G34","v":3500},"Cuota a pagar",null,{"$f":"+Simulador!G51","v":338.02395439260948},"Desgravamen",null,null,{"$f":"+Simulador!F15","v":4.4999999999999999E-4},"Tasa Costo Efectiva Anual (T.C.E.A)",null,null,null,{"$f":"+U6","v":0.31501950343921714},null,null,null,null,{"$f":"+(1+U10)^360-1","v":0.31501950343921714},null,"Principal",null,null,null,null,null,null,null,null,null,null,"Operador de Creditos",null,null,null,null,null,null,null,null,null,null,"Seguro Desgravamen",null,null,null,null,null,null,null,null,null,null,"Reportes Legales",null,null,null,null,null,null,null,null,null,null,"ITF por Desembolso",null,null,null,null,null,null,null,null,null,null,"Seguro Agrícola"]
[null,"Nº de cuotas",null,{"$f":"+Simulador!K36","v":12},"Total intereses",null,{"$f":"+G60","v":285.47506582211088},"ITF",null,null,{"$f":"+Simulador!K4","v":5.0000000000000002E-5},"Fecha de desembolso",null,null,null,{"$f":"+Simulador!G19","v":"2017-12-17"},null,null,null,null,null,null,"TED",{"$f":"+(1+P5)^((1)/360)-1","v":4.0035885548261874E-4}]
[null,null,null,null,null,null,null,null,null,null,null,null,null,null,null,null,null,null,null,null,null,null,"Cuota","VA",null,null,null,null,null,null,null,null,null,"Cuota","VA",null,null,null,null,null,null,null,null,null,"Cuota","VA",null,null,null,null,null,null,null,null,null,"Cuota","VA",null,null,null,null,null,null,null,null,null,"Cuota","VA",null,null,null,null,null,null,null,null,null,"Cuota","VA"]
[null,"Nro.","Fecha","Saldo del monto","Monto","Principal","Intereses","Cuota del","Operador","Seguro de","Reportes","Seguro","Portes","ITF","Cuota ","Total",null,null,null,null,"TCEA",null,null,null,null,null,null,null,null,null,null,null,null,null,null,null,null,null,null,null,null,null,null,null,"Tasa Diaria",{"$f":"+K6*12/365","v":1.4794520547945207E-5}]
[null,"de cuota","de pago","del crédito","a financiar",null,null,"crédito","de Créditos","desgravamen","Legales","Agrícola",null,null,"a pagar","deuda",null,null,null,null,7.6098800742859885E-4,null,315.45625548517597,{"$f":"+SUM(X11:X59)","v":1.1368683772161603E-13},null,"Saldo K","Cuota","K","I","Icalc","Saldo In","Saldo Deudor",null,8.3333333333333357,{"$f":"+SUM(AI11:AI59)","v":5.6843418860808015E-14},null,"Saldo K","Cuota","K","I","Icalc","Saldo In","Saldo Deudor",null,1.6968655741001408,{"$f":"+SUM(AT11:AT59)","v":4.4408920985006262E-16},null,"Saldo K","Cuota","K","I","Icalc","Saldo In","Saldo Deudor",null,4.4408920985006262E-16,{"$f":"+SUM(BE11:BE59)","v":5.3290705182007514E-15},null,"Saldo K","Cuota","K","I","Icalc","Saldo In","Saldo Deudor",null,0,{"$f":"+SUM(BP11:BP59)","v":0},null,"Saldo K","Cuota","K","I","Icalc","Saldo In","Saldo Deudor",null,12.537499999999996,{"$f":"+SUM(CA11:CA59)","v":-8.1712414612411521E-14},null,"Saldo K","Cuota","K","I","Icalc","Saldo In","Saldo Deudor"]
[null,null,null,"(a)","(b)","(c)","(d)","(e) = (b) + (c)","(f)","(g)","(h)","(i)","(j)","(k)","(l) = (e)+(f)+(g)+(h)+(i)+(j)+(k)","(m) = (a) + (h)",null,null,null,{"$f":"+$P$7","v":"2017-12-17"},{"$f":"+SUM(U12:U59)-Simulador!G34","v":6.9896941568003967E-8},null,{"$f":"-Z11","v":-3500},{"$f":"+W11/POWER(1+$X$7,(T11-$T$11))","v":-3500},null,{"$f":"+Simulador!G34","v":3500},null,null,null,null,null,null,null,{"$f":"-AK11","v":-100},{"$f":"+AH11/POWER(1+0%,(T11-$T$11))","v":-100},null,{"$f":"+Simulador!G39","v":100},null,null,null,null,null,null,null,{"$f":"-AV11","v":-20.362386889201687},{"$f":"+AS11/POWER(1+0%,($T11-$T$11))","v":-20.362386889201687},null,{"$f":"+Simulador!G40","v":20.362386889201687},null,null,null,null,null,null,null,{"$f":"-BG11","v":0},{"$f":"+BD11/POWER(1+0%,($T11-$T$11))","v":0},null,{"$f":"+Simulador!G41","v":0},null,null,null,null,null,null,null,{"$f":"-BR11","v":0},{"$f":"+BO11/POWER(1+0%,($T11-$T$11))","v":0},null,{"$f":"Simulador!G43","v":0},null,null,null,null,null,null,null,{"$f":"-CC11","v":-150.45000000000002},{"$f":"+BZ11/POWER(1+0%,($T11-$T$11))","v":-150.45000000000002},null,{"$f":"Simulador!G42","v":150.45000000000002}]
[null,1,{"$f":"+IF(B12<=Simulador!$G$26,'Cronograma Referencial'!J4,\"\")","v":"2018-01-17"},{"$f":"+D6","v":3500},{"$f":"+AB12","v":271.75543979800534},{"$f":"+SUM(E12:E12)","v":271.75543979800534},{"$f":"+AC12","v":43.70081568717066},{"$f":"+F12+G12","v":315.45625548517603},{"$f":"+AM12","v":8.3333333333333357},{"$f":"+AX12","v":1.6968655741001408},{"$f":"+BI12","v":4.4408920985006262E-16},{"$f":"CE12","v":12.537499999999996},{"$f":"IF($H12>0,Simulador!$G$44,0)","v":0},{"$f":"+IF(C12=\"\",0,Simulador!$G$45)","v":0},{"$f":"SUM(H12:N12)","v":338.02395439260948},{"$f":"+D12+G12","v":3543.7008156871707},null,null,null,{"$f":"+IF(C12=\"\",0,C12)","v":"2018-01-17"},{"$f":"+IF(C12=\"\",0,(AA12+AL12+AW12+BH12+M12+BS12+CD12)/(1+$U$10)^(T12-$T$11))","v":330.14604173201957},null,{"$f":"+IF(T12>0,$W$10,0)","v":315.45625548517597},311.56605809117013,null,{"$f":"+Z11-AB12","v":3228.2445602019948},{"$f":"+IF(T12>0,$W$10,0)","v":315.45625548517597},{"$f":"+AA12-AC12","v":271.75543979800534},{"$f":"+IF(AA12>=AD12,AD12,AA12)","v":43.70081568717066},{"$f":"+IF($C12=\"\",0,Z11*((1+$X$7)^(T12-T11)-1))","v":43.70081568717066},{"$f":"+AD12-AC12","v":0},{"$f":"+Z11+AE12-AB12","v":3228.2445602019948},null,{"$f":"+IF($T12>0,$AH$10,0)","v":8.3333333333333357},{"$f":"+AH12/POWER(1+0%,(T12-$T$11))","v":8.3333333333333357},null,{"$f":"+AK11-AM12","v":91.666666666666657},{"$f":"+IF($T12>0,$AH$10,0)","v":8.3333333333333357},{"$f":"+AL12-AN12","v":8.3333333333333357},{"$f":"+IF(AL12>=AO12,AO12,AL12)","v":0},{"$f":"+IF($C12=\"\",0,AK11*((1+0%)^($T12-$T11)-1))","v":0},{"$f":"+AO12-AN12","v":0},{"$f":"+AK11+AP12-AM12","v":91.666666666666657},null,{"$f":"+IF($T12>0,$AS$10,0)","v":1.6968655741001408},{"$f":"+AS12/POWER(1+0%,($T12-$T$11))","v":1.6968655741001408},null,{"$f":"+AV11-AX12","v":18.665521315101547},{"$f":"+IF($T12>0,$AS$10,0)","v":1.6968655741001408},{"$f":"+AW12-AY12","v":1.6968655741001408},{"$f":"+IF(AW12>=AZ12,AZ12,AW12)","v":0},{"$f":"+IF($C12=\"\",0,AV11*((1+0%)^($T12-$T11)-1))","v":0},{"$f":"+AZ12-AY12","v":0},{"$f":"+AV11+BA12-AX12","v":18.665521315101547},{"$f":"+$AT$9*(T12-T11)*(Z11+AK11+BG11)","v":1.6510684931506852},{"$f":"+IF($T12>0,$BD$10,0)","v":4.4408920985006262E-16},{"$f":"+BD12/POWER(1+0%,($T12-$T$11))","v":4.4408920985006262E-16},null,{"$f":"+BG11-BI12","v":-4.4408920985006262E-16},{"$f":"+IF($T12>0,$BD$10,0)","v":4.4408920985006262E-16},{"$f":"+BH12-BJ12","v":4.4408920985006262E-16},{"$f":"+IF(BH12>=BK12,BK12,BH12)","v":0},{"$f":"+IF($C12=\"\",0,BG11*((1+0%)^($T12-$T11)-1))","v":0},{"$f":"+BK12-BJ12","v":0},{"$f":"+BG11+BL12-BI12","v":-4.4408920985006262E-16},null,{"$f":"+IF($T12>0,$BO$10,0)","v":0},{"$f":"+BO12/POWER(1+0%,($T12-$T$11))","v":0},null,{"$f":"+BR11-BT12","v":0},{"$f":"+IF($T12>0,$BO$10,0)","v":0},{"$f":"+BS12-BU12","v":0},{"$f":"+IF(BS12>=BV12,BV12,BS12)","v":0},{"$f":"+IF($C12=\"\",0,BR11*((1+0%)^($T12-$T11)-1))","v":0},{"$f":"+BV12-BU12","v":0},{"$f":"+BR11+BW12-BT12","v":0},null,{"$f":"+IF($T12>0,$BZ$10,0)","v":12.537499999999996},{"$f":"+BZ12/POWER(1+0%,($T12-$T$11))","v":12.537499999999996},null,{"$f":"+CC11-CE12","v":137.91250000000002},{"$f":"+IF($T12>0,$BZ$10,0)","v":12.537499999999996},{"$f":"+CD12-CF12","v":12.537499999999996},{"$f":"+IF(CD12>=CG12,CG12,CD12)","v":0},{"$f":"+IF($C12=\"\",0,CC11*((1+0%)^($T12-$T11)-1))","v":0},{"$f":"+CG12-CF12","v":0},{"$f":"+CC11+CH12-CE12","v":137.91250000000002}]
[null,2,{"$f":"+IF(B13<=Simulador!$G$26,'Cronograma Referencial'!J5,\"\")","v":"2018-02-19"},{"$f":"IF(C13=\"\",0,$D$12-SUM(E$12:E12))","v":3228.2445602019948},272.53085232411519,{"$f":"+SUM(E13:E13)","v":272.53085232411519},{"$f":"+AC13","v":42.925403161060807},{"$f":"+F13+G13","v":315.45625548517597},8.3333333333333357,1.6968655741001408,{"$f":"+BI13","v":4.4408920985006262E-16},{"$f":"CE13","v":12.537499999999996},{"$f":"IF($H13>0,Simulador!$G$44,0)","v":0},{"$f":"+IF(C13=\"\",0,Simulador!$G$45)","v":0},{"$f":"SUM(H13:N13)","v":338.02395439260943},3271.1699633630556,null,null,null,"2018-02-19",321.96152581930647,null,{"$f":"+IF(T13>0,$W$10,0)","v":315.45625548517597},307.4775824678747,null,{"$f":"+Z12-AB13","v":2955.7137078778796},{"$f":"+IF(T13>0,$W$10,0)","v":315.45625548517597},{"$f":"+AA13-AC13","v":272.53085232411519},{"$f":"+IF(AA13>=AD13,AD13,AA13)","v":42.925403161060807},{"$f":"+IF($C13=\"\",0,AF12*((1+$X$7)^(T13-T12)-1))","v":42.925403161060807},{"$f":"+AD13-AC13","v":0},{"$f":"+Z12+AE13-AB13","v":2955.7137078778796},null,8.3333333333333357,{"$f":"+AH13/POWER(1+0%,(T13-$T$11))","v":8.3333333333333357},null,{"$f":"+AK12-AM13","v":83.333333333333314},8.3333333333333357,{"$f":"+AL13-AN13","v":8.3333333333333357},{"$f":"+IF(AL13>=AO13,AO13,AL13)","v":0},{"$f":"+IF($C13=\"\",0,AK12*((1+0%)^($T13-$T12)-1))","v":0},{"$f":"+AO13-AN13","v":0},{"$f":"+AK12+AP13-AM13","v":83.333333333333314},null,{"$f":"+IF($T13>0,$AS$10,0)","v":1.6968655741001408},{"$f":"+AS13/POWER(1+0%,($T13-$T$11))","v":1.6968655741001408},null,{"$f":"+AV12-AX13","v":16.968655741001406},{"$f":"+IF($T13>0,$AS$10,0)","v":1.6968655741001408},{"$f":"+AW13-AY13","v":1.6968655741001408},{"$f":"+IF(AW13>=AZ13,AZ13,AW13)","v":0},{"$f":"+IF($C13=\"\",0,AV12*((1+0%)^($T13-$T12)-1))","v":0},{"$f":"+AZ13-AY13","v":0},{"$f":"+AV12+BA13-AX13","v":16.968655741001406},{"$f":"+$AT$9*(T13-T12)*(Z12+AK12+BG12)","v":1.6208443304876587},{"$f":"+IF($T13>0,$BD$10,0)","v":4.4408920985006262E-16},{"$f":"+BD13/POWER(1+0%,($T13-$T$11))","v":4.4408920985006262E-16},null,{"$f":"+BG12-BI13","v":-8.8817841970012523E-16},{"$f":"+IF($T13>0,$BD$10,0)","v":4.4408920985006262E-16},{"$f":"+BH13-BJ13","v":4.4408920985006262E-16},{"$f":"+IF(BH13>=BK13,BK13,BH13)","v":0},{"$f":"+IF($C13=\"\",0,BG12*((1+0%)^($T13-$T12)-1))","v":0},{"$f":"+BK13-BJ13","v":0},{"$f":"+BG12+BL13-BI13","v":-8.8817841970012523E-16},null,{"$f":"+IF($T13>0,$BO$10,0)","v":0},{"$f":"+BO13/POWER(1+0%,($T13-$T$11))","v":0},null,{"$f":"+BR12-BT13","v":0},{"$f":"+IF($T13>0,$BO$10,0)","v":0},{"$f":"+BS13-BU13","v":0},{"$f":"+IF(BS13>=BV13,BV13,BS13)","v":0},{"$f":"+IF($C13=\"\",0,BR12*((1+0%)^($T13-$T12)-1))","v":0},{"$f":"+BV13-BU13","v":0},{"$f":"+BR12+BW13-BT13","v":0},null,{"$f":"+IF($T13>0,$BZ$10,0)","v":12.537499999999996},{"$f":"+BZ13/POWER(1+0%,($T13-$T$11))","v":12.537499999999996},null,{"$f":"+CC12-CE13","v":125.37500000000003},{"$f":"+IF($T13>0,$BZ$10,0)","v":12.537499999999996},{"$f":"+CD13-CF13","v":12.537499999999996},{"$f":"+IF(CD13>=CG13,CG13,CD13)","v":0},{"$f":"+IF($C13=\"\",0,CC12*((1+0%)^($T13-$T12)-1))","v":0},{"$f":"+CG13-CF13","v":0},{"$f":"+CC12+CH13-CE13","v":125.37500000000003}]
[null,3,{"$f":"+IF(B14<=Simulador!$G$26,'Cronograma Referencial'!J6,\"\")","v":"2018-03-19"},{"$f":"IF(C14=\"\",0,$D$12-SUM(E$12:E13))","v":2955.7137078778796},282.14285769227166,282.14285769227166,33.313397792904318,315.45625548517597,8.3333333333333357,1.6968655741001408,4.4408920985006262E-16,12.537499999999996,{"$f":"IF($H14>0,Simulador!$G$44,0)","v":0},{"$f":"+IF(C14=\"\",0,Simulador!$G$45)","v":0},338.02395439260943,2989.0271056707838,null,null,null,"2018-03-19",315.17640328030683,null,315.45625548517597,304.05067375978047,null,{"$f":"+Z13-AB14","v":2673.5708501856079},315.45625548517597,282.14285769227166,{"$f":"+IF(AA14>=AD14,AD14,AA14)","v":33.313397792904318},33.313397792904318,0,2673.5708501856079,null,8.3333333333333357,8.3333333333333357,null,74.999999999999972,8.3333333333333357,8.3333333333333357,0,{"$f":"+IF($C14=\"\",0,AK13*((1+0%)^($T14-$T13)-1))","v":0},0,74.999999999999972,null,1.6968655741001408,1.6968655741001408,null,15.271790166901265,1.6968655741001408,1.6968655741001408,0,0,0,15.271790166901265,1.2589148291263985,4.4408920985006262E-16,4.4408920985006262E-16,null,-1.3322676295501878E-15,4.4408920985006262E-16,4.4408920985006262E-16,0,0,0,-1.3322676295501878E-15,null,0,0,null,0,0,0,0,0,0,0,null,12.537499999999996,12.537499999999996,null,112.83750000000003,12.537499999999996,12.537499999999996,0,0,0,112.83750000000003]
[null,4,{"$f":"+IF(B15<=Simulador!$G$26,'Cronograma Referencial'!J7,\"\")","v":"2018-04-17"},{"$f":"IF(C15=\"\",0,$D$12-SUM(E$12:E14))","v":2673.5708501856079},284.2403948086544,284.2403948086544,31.215860676521569,315.45625548517597,8.3333333333333357,1.6968655741001408,4.4408920985006262E-16,12.537499999999996,{"$f":"IF($H15>0,Simulador!$G$44,0)","v":0},{"$f":"+IF(C15=\"\",0,Simulador!$G$45)","v":0},338.02395439260943,2704.7867108621294,null,null,null,"2018-04-17",308.29966028957085,null,315.45625548517597,300.5416342364154,null,{"$f":"+Z14-AB15","v":2389.3304553769535},315.45625548517597,284.2403948086544,31.215860676521569,31.215860676521569,0,2389.3304553769535,null,8.3333333333333357,8.3333333333333357,null,66.666666666666629,8.3333333333333357,8.3333333333333357,0,0,0,66.666666666666629,null,1.6968655741001408,1.6968655741001408,null,13.574924592801125,1.6968655741001408,1.6968655741001408,0,0,0,13.574924592801125,1.1792498496960719,4.4408920985006262E-16,4.4408920985006262E-16,null,-1.7763568394002505E-15,4.4408920985006262E-16,4.4408920985006262E-16,0,0,0,-1.7763568394002505E-15,null,0,0,null,0,0,0,0,0,0,0,null,12.537499999999996,12.537499999999996,null,100.30000000000004,12.537499999999996,12.537499999999996,0,0,0,100.30000000000004]
[null,5,{"$f":"+IF(B16<=Simulador!$G$26,'Cronograma Referencial'!J8,\"\")","v":"2018-05-17"},{"$f":"IF(C16=\"\",0,$D$12-SUM(E$12:E15))","v":2389.3304553769531},286.59134717155297,286.59134717155297,28.864908313623008,315.45625548517597,8.3333333333333357,1.6968655741001408,4.4408920985006262E-16,12.537499999999996,{"$f":"IF($H16>0,Simulador!$G$44,0)","v":0},{"$f":"+IF(C16=\"\",0,Simulador!$G$45)","v":0},338.02395439260943,2418.195363690576,null,null,null,"2018-05-17",301.34364007347392,null,315.45625548517597,296.95420418551129,null,{"$f":"+Z15-AB16","v":2102.7391082054005},315.45625548517597,286.59134717155297,28.864908313623008,28.864908313623008,0,2102.7391082054005,null,8.3333333333333357,8.3333333333333357,null,58.333333333333293,8.3333333333333357,8.3333333333333357,0,0,0,58.333333333333293,null,1.6968655741001408,1.6968655741001408,null,11.878059018700984,1.6968655741001408,1.6968655741001408,0,0,0,11.878059018700984,1.0900589966330589,4.4408920985006262E-16,4.4408920985006262E-16,null,-2.2204460492503131E-15,4.4408920985006262E-16,4.4408920985006262E-16,0,0,0,-2.2204460492503131E-15,null,0,0,null,0,0,0,0,0,0,0,null,12.537499999999996,12.537499999999996,null,87.762500000000045,12.537499999999996,12.537499999999996,0,0,0,87.762500000000045]
[null,6,{"$f":"+IF(B17<=Simulador!$G$26,'Cronograma Referencial'!J9,\"\")","v":"2018-06-18"},{"$f":"IF(C17=\"\",0,$D$12-SUM(E$12:E16))","v":2102.7391082054},288.34920419177598,288.34920419177598,27.107051293399973,315.45625548517597,8.3333333333333357,1.6968655741001408,4.4408920985006262E-16,12.537499999999996,{"$f":"IF($H17>0,Simulador!$G$44,0)","v":0},{"$f":"+IF(C17=\"\",0,Simulador!$G$45)","v":0},338.02395439260943,2129.8461594987998,null,null,null,"2018-06-18",294.09678670185292,null,315.45625548517597,293.17479842479588,null,1814.3899040136246,315.45625548517597,288.34920419177598,27.107051293399973,27.107051293399973,0,1814.3899040136246,null,8.3333333333333357,8.3333333333333357,null,49.999999999999957,8.3333333333333357,8.3333333333333357,0,0,0,49.999999999999957,null,1.6968655741001408,1.6968655741001408,null,10.181193444600844,1.6968655741001408,1.6968655741001408,0,0,0,10.181193444600844,1.0231049805421732,4.4408920985006262E-16,4.4408920985006262E-16,null,-2.6645352591003757E-15,4.4408920985006262E-16,4.4408920985006262E-16,0,0,0,-2.6645352591003757E-15,null,0,0,null,0,0,0,0,0,0,0,null,12.537499999999996,12.537499999999996,null,75.225000000000051,12.537499999999996,12.537499999999996,0,0,0,75.225000000000051]
[null,7,{"$f":"+IF(B18<=Simulador!$G$26,'Cronograma Referencial'!J10,\"\")","v":"2018-07-17"},{"$f":"IF(C18=\"\",0,$D$12-SUM(E$12:E17))","v":1814.3899040136243},294.27194968956007,294.27194968956007,21.184305795615877,315.45625548517597,8.3333333333333357,1.6968655741001408,4.4408920985006262E-16,12.537499999999996,{"$f":"IF($H18>0,Simulador!$G$44,0)","v":0},{"$f":"+IF(C18=\"\",0,Simulador!$G$45)","v":0},338.02395439260943,1835.5742098092403,null,null,null,"2018-07-17",287.67997378216478,null,315.45625548517597,289.79127704592207,null,1520.1179543240646,315.45625548517597,294.27194968956007,21.184305795615877,21.184305795615877,0,1520.1179543240646,null,8.3333333333333357,8.3333333333333357,null,41.666666666666622,8.3333333333333357,8.3333333333333357,0,0,0,41.666666666666622,null,1.6968655741001408,1.6968655741001408,null,8.484327870500703,1.6968655741001408,1.6968655741001408,0,0,0,8.484327870500703,0.79989988758502373,4.4408920985006262E-16,4.4408920985006262E-16,null,-3.1086244689504383E-15,4.4408920985006262E-16,4.4408920985006262E-16,0,0,0,-3.1086244689504383E-15,null,0,0,null,0,0,0,0,0,0,0,null,12.537499999999996,12.537499999999996,null,62.687500000000057,12.537499999999996,12.537499999999996,0,0,0,62.687500000000057]
[null,8,{"$f":"+IF(B19<=Simulador!$G$26,'Cronograma Referencial'!J11,\"\")","v":"2018-08-17"},{"$f":"IF(C19=\"\",0,$D$12-SUM(E$12:E18))","v":1520.1179543240642},296.476142758126,296.476142758126,18.980112727049956,315.45625548517597,8.3333333333333357,1.6968655741001408,4.4408920985006262E-16,12.537499999999996,{"$f":"IF($H19>0,Simulador!$G$44,0)","v":0},{"$f":"+IF(C19=\"\",0,Simulador!$G$45)","v":0},338.02395439260943,1539.0980670511142,null,null,null,"2018-08-17",280.97536696893167,null,315.45625548517597,286.2175794217116,null,1223.6418115659385,315.45625548517597,296.476142758126,18.980112727049956,18.980112727049956,0,1223.6418115659385,null,8.3333333333333357,8.3333333333333357,null,33.333333333333286,8.3333333333333357,8.3333333333333357,0,0,0,33.333333333333286,null,1.6968655741001408,1.6968655741001408,null,6.7874622964005624,1.6968655741001408,1.6968655741001408,0,0,0,6.7874622964005624,0.71628149466807789,4.4408920985006262E-16,4.4408920985006262E-16,null,-3.5527136788005009E-15,4.4408920985006262E-16,4.4408920985006262E-16,0,0,0,-3.5527136788005009E-15,null,0,0,null,0,0,0,0,0,0,0,null,12.537499999999996,12.537499999999996,null,50.150000000000063,12.537499999999996,12.537499999999996,0,0,0,50.150000000000063]
[null,9,{"$f":"+IF(B20<=Simulador!$G$26,'Cronograma Referencial'!J12,\"\")","v":"2018-09-17"},{"$f":"IF(C20=\"\",0,$D$12-SUM(E$12:E19))","v":1223.641811565938},300.17792826393065,300.17792826393065,15.278327221245339,315.45625548517597,8.3333333333333357,1.6968655741001408,4.4408920985006262E-16,12.537499999999996,{"$f":"IF($H20>0,Simulador!$G$44,0)","v":0},{"$f":"+IF(C20=\"\",0,Simulador!$G$45)","v":0},338.02395439260943,1238.9201387871833,null,null,null,"2018-09-17",274.42701626184697,null,315.45625548517597,282.68795253296122,null,923.46388330200784,315.45625548517597,300.17792826393065,15.278327221245339,15.278327221245339,0,923.46388330200784,null,8.3333333333333357,8.3333333333333357,null,24.99999999999995,8.3333333333333357,8.3333333333333357,0,0,0,24.99999999999995,null,1.6968655741001408,1.6968655741001408,null,5.0905967223004218,1.6968655741001408,1.6968655741001408,0,0,0,5.0905967223004218,0.57648668289352911,4.4408920985006262E-16,4.4408920985006262E-16,null,-3.9968028886505635E-15,4.4408920985006262E-16,4.4408920985006262E-16,0,0,0,-3.9968028886505635E-15,null,0,0,null,0,0,0,0,0,0,0,null,12.537499999999996,12.537499999999996,null,37.612500000000068,12.537499999999996,12.537499999999996,0,0,0,37.612500000000068]
[null,10,{"$f":"+IF(B21<=Simulador!$G$26,'Cronograma Referencial'!J13,\"\")","v":"2018-10-17"},{"$f":"IF(C21=\"\",0,$D$12-SUM(E$12:E20))","v":923.46388330200716},304.30011747066709,304.30011747066709,11.156138014508908,315.45625548517597,8.3333333333333357,1.6968655741001408,4.4408920985006262E-16,12.537499999999996,{"$f":"IF($H21>0,Simulador!$G$44,0)","v":0},{"$f":"+IF(C21=\"\",0,Simulador!$G$45)","v":0},338.02395439260943,934.62002131651604,null,null,null,"2018-10-17",268.23524857982096,null,315.45625548517597,279.31363383491492,null,619.1637658313407,315.45625548517597,304.30011747066709,11.156138014508908,11.156138014508908,0,619.1637658313407,null,8.3333333333333357,8.3333333333333357,null,16.666666666666615,8.3333333333333357,8.3333333333333357,0,0,0,16.666666666666615,null,1.6968655741001408,1.6968655741001408,null,3.3937311482002812,1.6968655741001408,1.6968655741001408,0,0,0,3.3937311482002812,0.42096205231486378,4.4408920985006262E-16,4.4408920985006262E-16,null,-4.4408920985006262E-15,4.4408920985006262E-16,4.4408920985006262E-16,0,0,0,-4.4408920985006262E-15,null,0,0,null,0,0,0,0,0,0,0,null,12.537499999999996,12.537499999999996,null,25.075000000000074,12.537499999999996,12.537499999999996,0,0,0,25.075000000000074]
[null,11,{"$f":"+IF(B22<=Simulador!$G$26,'Cronograma Referencial'!J14,\"\")","v":"2018-11-19"},{"$f":"IF(C22=\"\",0,$D$12-SUM(E$12:E21))","v":619.16376583134024},307.22334320873807,307.22334320873807,8.2329122764379221,315.45625548517597,8.3333333333333357,1.6968655741001408,4.4408920985006262E-16,12.537499999999996,{"$f":"IF($H22>0,Simulador!$G$44,0)","v":0},{"$f":"+IF(C22=\"\",0,Simulador!$G$45)","v":0},338.02395439260943,627.39667810777814,null,null,null,"2018-11-19",261.58553789774021,null,315.45625548517597,275.64838547575658,null,311.94042262260263,315.45625548517597,307.22334320873807,8.2329122764379221,8.2329122764379221,0,311.94042262260263,null,8.3333333333333357,8.3333333333333357,null,8.3333333333332789,8.3333333333333357,8.3333333333333357,0,0,0,8.3333333333332789,null,1.6968655741001408,1.6968655741001408,null,1.6968655741001404,1.6968655741001408,1.6968655741001408,0,0,0,1.6968655741001404,0.31042461115382169,4.4408920985006262E-16,4.4408920985006262E-16,null,-4.8849813083506888E-15,4.4408920985006262E-16,4.4408920985006262E-16,0,0,0,-4.8849813083506888E-15,null,0,0,null,0,0,0,0,0,0,0,null,12.537499999999996,12.537499999999996,null,12.537500000000078,12.537499999999996,12.537499999999996,0,0,0,12.537500000000078]
[null,12,{"$f":"+IF(B23<=Simulador!$G$26,'Cronograma Referencial'!J15,\"\")","v":"2018-12-17"},{"$f":"IF(C23=\"\",0,$D$12-SUM(E$12:E22))","v":311.940422622602},311.94042262260336,311.94042262260336,3.5158328625726307,315.45625548517597,8.3333333333333357,1.6968655741001408,4.4408920985006262E-16,12.537499999999996,{"$f":"IF($H23>0,Simulador!$G$44,0)","v":0},{"$f":"+IF(C23=\"\",0,Simulador!$G$45)","v":0},338.02395439260943,315.45625548517461,null,null,null,"2018-12-17",256.07279868286139,null,315.45625548517597,272.57622052318578,null,-7.3896444519050419E-13,315.45625548517597,311.94042262260336,3.5158328625726307,3.5158328625726307,0,-7.3896444519050419E-13,null,8.3333333333333357,8.3333333333333357,null,-5.6843418860808015E-14,8.3333333333333357,8.3333333333333357,0,0,0,-5.6843418860808015E-14,null,1.6968655741001408,1.6968655741001408,null,0,1.6968655741001408,1.6968655741001408,0,0,0,0,0.13267230657681509,4.4408920985006262E-16,4.4408920985006262E-16,null,-5.3290705182007514E-15,4.4408920985006262E-16,4.4408920985006262E-16,0,0,0,-5.3290705182007514E-15,null,0,0,null,0,0,0,0,0,0,0,null,12.537499999999996,12.537499999999996,null,8.1712414612411521E-14,12.537499999999996,12.537499999999996,0,0,0,8.1712414612411521E-14]
[null,13,{"$f":"+IF(B24<=Simulador!$G$26,'Cronograma Referencial'!J16,\"\")","v":""},{"$f":"IF(C24=\"\",0,$D$12-SUM(E$12:E23))","v":0},0,0,0,0,0,0,0,0,{"$f":"IF($H24>0,Simulador!$G$44,0)","v":0},{"$f":"+IF(C24=\"\",0,Simulador!$G$45)","v":0},0,0,null,null,null,"00:00:00",0,null,0,0,null,-7.3896444519050419E-13,0,0,0,0,0,-7.3896444519050419E-13,null,0,0,null,-5.6843418860808015E-14,0,0,0,0,0,-5.6843418860808015E-14,null,0,0,null,0,0,0,0,0,0,0,5.150002331438124E-13,0,0,null,-5.3290705182007514E-15,0,0,0,0,0,-5.3290705182007514E-15,null,0,0,null,0,0,0,0,0,0,0,null,0,0,null,8.1712414612411521E-14,0,0,0,0,0,8.1712414612411521E-14]
[null,14,{"$f":"+IF(B25<=Simulador!$G$26,'Cronograma Referencial'!J17,\"\")","v":""},{"$f":"IF(C25=\"\",0,$D$12-SUM(E$12:E24))","v":0},0,0,0,0,0,0,0,0,{"$f":"IF($H25>0,Simulador!$G$44,0)","v":0},{"$f":"+IF(C25=\"\",0,Simulador!$G$45)","v":0},0,0,null,null,null,"00:00:00",0,null,0,0,null,-7.3896444519050419E-13,0,0,0,0,0,-7.3896444519050419E-13,null,0,0,null,-5.6843418860808015E-14,0,0,0,0,0,-5.6843418860808015E-14,null,0,0,null,0,0,0,0,0,0,0,0,0,0,null,-5.3290705182007514E-15,0,0,0,0,0,-5.3290705182007514E-15,null,0,0,null,0,0,0,0,0,0,0,null,0,0,null,8.1712414612411521E-14,0,0,0,0,0,8.1712414612411521E-14]
[null,15,{"$f":"+IF(B26<=Simulador!$G$26,'Cronograma Referencial'!J18,\"\")","v":""},{"$f":"IF(C26=\"\",0,$D$12-SUM(E$12:E25))","v":0},0,0,0,0,0,0,0,0,{"$f":"IF($H26>0,Simulador!$G$44,0)","v":0},{"$f":"+IF(C26=\"\",0,Simulador!$G$45)","v":0},0,0,null,null,null,"00:00:00",0,null,0,0,null,-7.3896444519050419E-13,0,0,0,0,0,-7.3896444519050419E-13,null,0,0,null,-5.6843418860808015E-14,0,0,0,0,0,-5.6843418860808015E-14,null,0,0,null,0,0,0,0,0,0,0,0,0,0,null,-5.3290705182007514E-15,0,0,0,0,0,-5.3290705182007514E-15,null,0,0,null,0,0,0,0,0,0,0,null,0,0,null,8.1712414612411521E-14,0,0,0,0,0,8.1712414612411521E-14]
[null,16,{"$f":"+IF(B27<=Simulador!$G$26,'Cronograma Referencial'!J19,\"\")","v":""},{"$f":"IF(C27=\"\",0,$D$12-SUM(E$12:E26))","v":0},0,0,0,0,0,0,0,0,{"$f":"IF($H27>0,Simulador!$G$44,0)","v":0},{"$f":"+IF(C27=\"\",0,Simulador!$G$45)","v":0},0,0,null,null,null,"00:00:00",0,null,0,0,null,-7.3896444519050419E-13,0,0,0,0,0,-7.3896444519050419E-13,null,0,0,null,-5.6843418860808015E-14,0,0,0,0,0,-5.6843418860808015E-14,null,0,0,null,0,0,0,0,0,0,0,0,0,0,null,-5.3290705182007514E-15,0,0,0,0,0,-5.3290705182007514E-15,null,0,0,null,0,0,0,0,0,0,0,null,0,0,null,8.1712414612411521E-14,0,0,0,0,0,8.1712414612411521E-14]
[null,17,{"$f":"+IF(B28<=Simulador!$G$26,'Cronograma Referencial'!J20,\"\")","v":""},{"$f":"IF(C28=\"\",0,$D$12-SUM(E$12:E27))","v":0},0,0,0,0,0,0,0,0,{"$f":"IF($H28>0,Simulador!$G$44,0)","v":0},{"$f":"+IF(C28=\"\",0,Simulador!$G$45)","v":0},0,0,null,null,null,"00:00:00",0,null,0,0,null,-7.3896444519050419E-13,0,0,0,0,0,-7.3896444519050419E-13,null,0,0,null,-5.6843418860808015E-14,0,0,0,0,0,-5.6843418860808015E-14,null,0,0,null,0,0,0,0,0,0,0,0,0,0,null,-5.3290705182007514E-15,0,0,0,0,0,-5.3290705182007514E-15,null,0,0,null,0,0,0,0,0,0,0,null,0,0,null,8.1712414612411521E-14,0,0,0,0,0,8.1712414612411521E-14]
[null,18,{"$f":"+IF(B29<=Simulador!$G$26,'Cronograma Referencial'!J21,\"\")","v":""},{"$f":"IF(C29=\"\",0,$D$12-SUM(E$12:E28))","v":0},0,0,0,0,0,0,0,0,{"$f":"IF($H29>0,Simulador!$G$44,0)","v":0},{"$f":"+IF(C29=\"\",0,Simulador!$G$45)","v":0},0,0,null,null,null,"00:00:00",0,null,0,0,null,-7.3896444519050419E-13,0,0,0,0,0,-7.3896444519050419E-13,null,0,0,null,-5.6843418860808015E-14,0,0,0,0,0,-5.6843418860808015E-14,null,0,0,null,0,0,0,0,0,0,0,0,0,0,null,-5.3290705182007514E-15,0,0,0,0,0,-5.3290705182007514E-15,null,0,0,null,0,0,0,0,0,0,0,null,0,0,null,8.1712414612411521E-14,0,0,0,0,0,8.1712414612411521E-14]
[null,19,{"$f":"+IF(B30<=Simulador!$G$26,'Cronograma Referencial'!J22,\"\")","v":""},{"$f":"IF(C30=\"\",0,$D$12-SUM(E$12:E29))","v":0},0,0,0,0,0,0,0,0,{"$f":"IF($H30>0,Simulador!$G$44,0)","v":0},{"$f":"+IF(C30=\"\",0,Simulador!$G$45)","v":0},0,0,null,null,null,"00:00:00",0,null,0,0,null,-7.3896444519050419E-13,0,0,0,0,0,-7.3896444519050419E-13,null,0,0,null,-5.6843418860808015E-14,0,0,0,0,0,-5.6843418860808015E-14,null,0,0,null,0,0,0,0,0,0,0,0,0,0,null,-5.3290705182007514E-15,0,0,0,0,0,-5.3290705182007514E-15,null,0,0,null,0,0,0,0,0,0,0,null,0,0,null,8.1712414612411521E-14,0,0,0,0,0,8.1712414612411521E-14]
[null,20,{"$f":"+IF(B31<=Simulador!$G$26,'Cronograma Referencial'!J23,\"\")","v":""},{"$f":"IF(C31=\"\",0,$D$12-SUM(E$12:E30))","v":0},0,0,0,0,0,0,0,0,{"$f":"IF($H31>0,Simulador!$G$44,0)","v":0},{"$f":"+IF(C31=\"\",0,Simulador!$G$45)","v":0},0,0,null,null,null,"00:00:00",0,null,0,0,null,-7.3896444519050419E-13,0,0,0,0,0,-7.3896444519050419E-13,null,0,0,null,-5.6843418860808015E-14,0,0,0,0,0,-5.6843418860808015E-14,null,0,0,null,0,0,0,0,0,0,0,0,0,0,null,-5.3290705182007514E-15,0,0,0,0,0,-5.3290705182007514E-15,null,0,0,null,0,0,0,0,0,0,0,null,0,0,null,8.1712414612411521E-14,0,0,0,0,0,8.1712414612411521E-14]
[null,21,{"$f":"+IF(B32<=Simulador!$G$26,'Cronograma Referencial'!J24,\"\")","v":""},{"$f":"IF(C32=\"\",0,$D$12-SUM(E$12:E31))","v":0},0,0,0,0,0,0,0,0,{"$f":"IF($H32>0,Simulador!$G$44,0)","v":0},{"$f":"+IF(C32=\"\",0,Simulador!$G$45)","v":0},0,0,null,null,null,"00:00:00",0,null,0,0,null,-7.3896444519050419E-13,0,0,0,0,0,-7.3896444519050419E-13,null,0,0,null,-5.6843418860808015E-14,0,0,0,0,0,-5.6843418860808015E-14,null,0,0,null,0,0,0,0,0,0,0,0,0,0,null,-5.3290705182007514E-15,0,0,0,0,0,-5.3290705182007514E-15,null,0,0,null,0,0,0,0,0,0,0,null,0,0,null,8.1712414612411521E-14,0,0,0,0,0,8.1712414612411521E-14]
[null,22,{"$f":"+IF(B33<=Simulador!$G$26,'Cronograma Referencial'!J25,\"\")","v":""},{"$f":"IF(C33=\"\",0,$D$12-SUM(E$12:E32))","v":0},0,0,0,0,0,0,0,0,{"$f":"IF($H33>0,Simulador!$G$44,0)","v":0},{"$f":"+IF(C33=\"\",0,Simulador!$G$45)","v":0},0,0,null,null,null,"00:00:00",0,null,0,0,null,-7.3896444519050419E-13,0,0,0,0,0,-7.3896444519050419E-13,null,0,0,null,-5.6843418860808015E-14,0,0,0,0,0,-5.6843418860808015E-14,null,0,0,null,0,0,0,0,0,0,0,0,0,0,null,-5.3290705182007514E-15,0,0,0,0,0,-5.3290705182007514E-15,null,0,0,null,0,0,0,0,0,0,0,null,0,0,null,8.1712414612411521E-14,0,0,0,0,0,8.1712414612411521E-14]
[null,23,{"$f":"+IF(B34<=Simulador!$G$26,'Cronograma Referencial'!J26,\"\")","v":""},{"$f":"IF(C34=\"\",0,$D$12-SUM(E$12:E33))","v":0},0,0,0,0,0,0,0,0,{"$f":"IF($H34>0,Simulador!$G$44,0)","v":0},{"$f":"+IF(C34=\"\",0,Simulador!$G$45)","v":0},0,0,null,null,null,"00:00:00",0,null,0,0,null,-7.3896444519050419E-13,0,0,0,0,0,-7.3896444519050419E-13,null,0,0,null,-5.6843418860808015E-14,0,0,0,0,0,-5.6843418860808015E-14,null,0,0,null,0,0,0,0,0,0,0,0,0,0,null,-5.3290705182007514E-15,0,0,0,0,0,-5.3290705182007514E-15,null,0,0,null,0,0,0,0,0,0,0,null,0,0,null,8.1712414612411521E-14,0,0,0,0,0,8.1712414612411521E-14]
[null,24,{"$f":"+IF(B35<=Simulador!$G$26,'Cronograma Referencial'!J27,\"\")","v":""},{"$f":"IF(C35=\"\",0,$D$12-SUM(E$12:E34))","v":0},0,0,0,0,0,0,0,0,{"$f":"IF($H35>0,Simulador!$G$44,0)","v":0},{"$f":"+IF(C35=\"\",0,Simulador!$G$45)","v":0},0,0,null,null,null,"00:00:00",0,null,0,0,null,-7.3896444519050419E-13,0,0,0,0,0,-7.3896444519050419E-13,null,0,0,null,-5.6843418860808015E-14,0,0,0,0,0,-5.6843418860808015E-14,null,0,0,null,0,0,0,0,0,0,0,0,0,0,null,-5.3290705182007514E-15,0,0,0,0,0,-5.3290705182007514E-15,null,0,0,null,0,0,0,0,0,0,0,null,0,0,null,8.1712414612411521E-14,0,0,0,0,0,8.1712414612411521E-14]
[null,25,{"$f":"+IF(B36<=Simulador!$G$26,'Cronograma Referencial'!J28,\"\")","v":""},{"$f":"IF(C36=\"\",0,$D$12-SUM(E$12:E35))","v":0},0,0,0,0,0,0,0,0,{"$f":"IF($H36>0,Simulador!$G$44,0)","v":0},{"$f":"+IF(C36=\"\",0,Simulador!$G$45)","v":0},0,0,null,null,null,"00:00:00",0,null,0,0,null,-7.3896444519050419E-13,0,0,0,0,0,-7.3896444519050419E-13,null,0,0,null,-5.6843418860808015E-14,0,0,0,0,0,-5.6843418860808015E-14,null,0,0,null,0,0,0,0,0,0,0,0,0,0,null,-5.3290705182007514E-15,0,0,0,0,0,-5.3290705182007514E-15,null,0,0,null,0,0,0,0,0,0,0,null,0,0,null,8.1712414612411521E-14,0,0,0,0,0,8.1712414612411521E-14]
[null,26,{"$f":"+IF(B37<=Simulador!$G$26,'Cronograma Referencial'!J29,\"\")","v":""},{"$f":"IF(C37=\"\",0,$D$12-SUM(E$12:E36))","v":0},0,0,0,0,0,0,0,0,{"$f":"IF($H37>0,Simulador!$G$44,0)","v":0},{"$f":"+IF(C37=\"\",0,Simulador!$G$45)","v":0},0,0,null,null,null,"00:00:00",0,null,0,0,null,-7.3896444519050419E-13,0,0,0,0,0,-7.3896444519050419E-13,null,0,0,null,-5.6843418860808015E-14,0,0,0,0,0,-5.6843418860808015E-14,null,0,0,null,0,0,0,0,0,0,0,0,0,0,null,-5.3290705182007514E-15,0,0,0,0,0,-5.3290705182007514E-15,null,0,0,null,0,0,0,0,0,0,0,null,0,0,null,8.1712414612411521E-14,0,0,0,0,0,8.1712414612411521E-14]
[null,27,{"$f":"+IF(B38<=Simulador!$G$26,'Cronograma Referencial'!J30,\"\")","v":""},{"$f":"IF(C38=\"\",0,$D$12-SUM(E$12:E37))","v":0},0,0,0,0,0,0,0,0,{"$f":"IF($H38>0,Simulador!$G$44,0)","v":0},{"$f":"+IF(C38=\"\",0,Simulador!$G$45)","v":0},0,0,null,null,null,"00:00:00",0,null,0,0,null,-7.3896444519050419E-13,0,0,0,0,0,-7.3896444519050419E-13,null,0,0,null,-5.6843418860808015E-14,0,0,0,0,0,-5.6843418860808015E-14,null,0,0,null,0,0,0,0,0,0,0,0,0,0,null,-5.3290705182007514E-15,0,0,0,0,0,-5.3290705182007514E-15,null,0,0,null,0,0,0,0,0,0,0,null,0,0,null,8.1712414612411521E-14,0,0,0,0,0,8.1712414612411521E-14]
[null,28,{"$f":"+IF(B39<=Simulador!$G$26,'Cronograma Referencial'!J31,\"\")","v":""},{"$f":"IF(C39=\"\",0,$D$12-SUM(E$12:E38))","v":0},0,0,0,0,0,0,0,0,{"$f":"IF($H39>0,Simulador!$G$44,0)","v":0},{"$f":"+IF(C39=\"\",0,Simulador!$G$45)","v":0},0,0,null,null,null,"00:00:00",0,null,0,0,null,-7.3896444519050419E-13,0,0,0,0,0,-7.3896444519050419E-13,null,0,0,null,-5.6843418860808015E-14,0,0,0,0,0,-5.6843418860808015E-14,null,0,0,null,0,0,0,0,0,0,0,0,0,0,null,-5.3290705182007514E-15,0,0,0,0,0,-5.3290705182007514E-15,null,0,0,null,0,0,0,0,0,0,0,null,0,0,null,8.1712414612411521E-14,0,0,0,0,0,8.1712414612411521E-14]
[null,29,{"$f":"+IF(B40<=Simulador!$G$26,'Cronograma Referencial'!J32,\"\")","v":""},{"$f":"IF(C40=\"\",0,$D$12-SUM(E$12:E39))","v":0},0,0,0,0,0,0,0,0,{"$f":"IF($H40>0,Simulador!$G$44,0)","v":0},{"$f":"+IF(C40=\"\",0,Simulador!$G$45)","v":0},0,0,null,null,null,"00:00:00",0,null,0,0,null,-7.3896444519050419E-13,0,0,0,0,0,-7.3896444519050419E-13,null,0,0,null,-5.6843418860808015E-14,0,0,0,0,0,-5.6843418860808015E-14,null,0,0,null,0,0,0,0,0,0,0,0,0,0,null,-5.3290705182007514E-15,0,0,0,0,0,-5.3290705182007514E-15,null,0,0,null,0,0,0,0,0,0,0,null,0,0,null,8.1712414612411521E-14,0,0,0,0,0,8.1712414612411521E-14]
[null,30,{"$f":"+IF(B41<=Simulador!$G$26,'Cronograma Referencial'!J33,\"\")","v":""},{"$f":"IF(C41=\"\",0,$D$12-SUM(E$12:E40))","v":0},0,0,0,0,0,0,0,0,{"$f":"IF($H41>0,Simulador!$G$44,0)","v":0},{"$f":"+IF(C41=\"\",0,Simulador!$G$45)","v":0},0,0,null,null,null,"00:00:00",0,null,0,0,null,-7.3896444519050419E-13,0,0,0,0,0,-7.3896444519050419E-13,null,0,0,null,-5.6843418860808015E-14,0,0,0,0,0,-5.6843418860808015E-14,null,0,0,null,0,0,0,0,0,0,0,0,0,0,null,-5.3290705182007514E-15,0,0,0,0,0,-5.3290705182007514E-15,null,0,0,null,0,0,0,0,0,0,0,null,0,0,null,8.1712414612411521E-14,0,0,0,0,0,8.1712414612411521E-14]
[null,31,{"$f":"+IF(B42<=Simulador!$G$26,'Cronograma Referencial'!J34,\"\")","v":""},{"$f":"IF(C42=\"\",0,$D$12-SUM(E$12:E41))","v":0},0,0,0,0,0,0,0,0,{"$f":"IF($H42>0,Simulador!$G$44,0)","v":0},{"$f":"+IF(C42=\"\",0,Simulador!$G$45)","v":0},0,0,null,null,null,"00:00:00",0,null,0,0,null,-7.3896444519050419E-13,0,0,0,0,0,-7.3896444519050419E-13,null,0,0,null,-5.6843418860808015E-14,0,0,0,0,0,-5.6843418860808015E-14,null,0,0,null,0,0,0,0,0,0,0,0,0,0,null,-5.3290705182007514E-15,0,0,0,0,0,-5.3290705182007514E-15,null,0,0,null,0,0,0,0,0,0,0,null,0,0,null,8.1712414612411521E-14,0,0,0,0,0,8.1712414612411521E-14]
[null,32,{"$f":"+IF(B43<=Simulador!$G$26,'Cronograma Referencial'!J35,\"\")","v":""},{"$f":"IF(C43=\"\",0,$D$12-SUM(E$12:E42))","v":0},0,0,0,0,0,0,0,0,{"$f":"IF($H43>0,Simulador!$G$44,0)","v":0},{"$f":"+IF(C43=\"\",0,Simulador!$G$45)","v":0},0,0,null,null,null,"00:00:00",0,null,0,{"$f":"+W43/POWER(1+$X$7,(T43-$T$11))","v":0},null,-7.3896444519050419E-13,0,0,0,0,0,-7.3896444519050419E-13,null,0,0,null,-5.6843418860808015E-14,0,0,0,0,0,-5.6843418860808015E-14,null,0,0,null,0,0,0,0,0,0,0,0,0,0,null,-5.3290705182007514E-15,0,0,0,0,0,-5.3290705182007514E-15,null,0,0,null,0,0,0,0,0,0,0,null,0,0,null,8.1712414612411521E-14,0,0,0,0,0,8.1712414612411521E-14]
[null,33,{"$f":"+IF(B44<=Simulador!$G$26,'Cronograma Referencial'!J36,\"\")","v":""},{"$f":"IF(C44=\"\",0,$D$12-SUM(E$12:E43))","v":0},0,0,0,0,0,0,0,0,{"$f":"IF($H44>0,Simulador!$G$44,0)","v":0},{"$f":"+IF(C44=\"\",0,Simulador!$G$45)","v":0},0,0,null,null,null,"00:00:00",0,null,0,0,null,-7.3896444519050419E-13,0,0,0,0,0,-7.3896444519050419E-13,null,0,0,null,-5.6843418860808015E-14,0,0,0,0,0,-5.6843418860808015E-14,null,0,0,null,0,0,0,0,0,0,0,0,0,0,null,-5.3290705182007514E-15,0,0,0,0,0,-5.3290705182007514E-15,null,0,0,null,0,0,0,0,0,0,0,null,0,0,null,8.1712414612411521E-14,0,0,0,0,0,8.1712414612411521E-14]
[null,34,{"$f":"+IF(B45<=Simulador!$G$26,'Cronograma Referencial'!J37,\"\")","v":""},{"$f":"IF(C45=\"\",0,$D$12-SUM(E$12:E44))","v":0},0,0,0,0,0,0,0,0,{"$f":"IF($H45>0,Simulador!$G$44,0)","v":0},{"$f":"+IF(C45=\"\",0,Simulador!$G$45)","v":0},0,0,null,null,null,"00:00:00",0,null,0,0,null,-7.3896444519050419E-13,0,0,0,0,0,-7.3896444519050419E-13,null,0,0,null,-5.6843418860808015E-14,0,0,0,0,0,-5.6843418860808015E-14,null,0,0,null,0,0,0,0,0,0,0,0,0,0,null,-5.3290705182007514E-15,0,0,0,0,0,-5.3290705182007514E-15,null,0,0,null,0,0,0,0,0,0,0,null,0,0,null,8.1712414612411521E-14,0,0,0,0,0,8.1712414612411521E-14]
[null,35,{"$f":"+IF(B46<=Simulador!$G$26,'Cronograma Referencial'!J38,\"\")","v":""},{"$f":"IF(C46=\"\",0,$D$12-SUM(E$12:E45))","v":0},0,0,0,0,0,0,0,0,{"$f":"IF($H46>0,Simulador!$G$44,0)","v":0},{"$f":"+IF(C46=\"\",0,Simulador!$G$45)","v":0},0,0,null,null,null,"00:00:00",0,null,0,0,null,-7.3896444519050419E-13,0,0,0,0,0,-7.3896444519050419E-13,null,0,0,null,-5.6843418860808015E-14,0,0,0,0,0,-5.6843418860808015E-14,null,0,0,null,0,0,0,0,0,0,0,0,0,0,null,-5.3290705182007514E-15,0,0,0,0,0,-5.3290705182007514E-15,null,0,0,null,0,0,0,0,0,0,0,null,0,0,null,8.1712414612411521E-14,0,0,0,0,0,8.1712414612411521E-14]
[null,36,{"$f":"+IF(B47<=Simulador!$G$26,'Cronograma Referencial'!J39,\"\")","v":""},{"$f":"IF(C47=\"\",0,$D$12-SUM(E$12:E46))","v":0},0,0,0,0,0,0,0,0,{"$f":"IF($H47>0,Simulador!$G$44,0)","v":0},{"$f":"+IF(C47=\"\",0,Simulador!$G$45)","v":0},0,0,null,null,null,"00:00:00",0,null,0,0,null,-7.3896444519050419E-13,0,0,0,0,0,-7.3896444519050419E-13,null,0,0,null,-5.6843418860808015E-14,0,0,0,0,0,-5.6843418860808015E-14,null,0,0,null,0,0,0,0,0,0,0,0,0,0,null,-5.3290705182007514E-15,0,0,0,0,0,-5.3290705182007514E-15,null,0,0,null,0,0,0,0,0,0,0,null,0,0,null,8.1712414612411521E-14,0,0,0,0,0,8.1712414612411521E-14]
[null,37,{"$f":"+IF(B48<=Simulador!$G$26,'Cronograma Referencial'!J40,\"\")","v":""},{"$f":"IF(C48=\"\",0,$D$12-SUM(E$12:E47))","v":0},0,0,0,0,0,0,0,0,{"$f":"IF($H48>0,Simulador!$G$44,0)","v":0},{"$f":"+IF(C48=\"\",0,Simulador!$G$45)","v":0},0,0,null,null,null,"00:00:00",0,null,0,0,null,-7.3896444519050419E-13,0,0,0,0,0,-7.3896444519050419E-13,null,0,0,null,-5.6843418860808015E-14,0,0,0,0,0,-5.6843418860808015E-14,null,0,0,null,0,0,0,0,0,0,0,0,0,0,null,-5.3290705182007514E-15,0,0,0,0,0,-5.3290705182007514E-15,null,0,0,null,0,0,0,0,0,0,0,null,0,0,null,8.1712414612411521E-14,0,0,0,0,0,8.1712414612411521E-14]
[null,38,{"$f":"+IF(B49<=Simulador!$G$26,'Cronograma Referencial'!J41,\"\")","v":""},{"$f":"IF(C49=\"\",0,$D$12-SUM(E$12:E48))","v":0},0,0,0,0,0,0,0,0,{"$f":"IF($H49>0,Simulador!$G$44,0)","v":0},{"$f":"+IF(C49=\"\",0,Simulador!$G$45)","v":0},0,0,null,null,null,"00:00:00",0,null,0,0,null,-7.3896444519050419E-13,0,0,0,0,0,-7.3896444519050419E-13,null,0,0,null,-5.6843418860808015E-14,0,0,0,0,0,-5.6843418860808015E-14,null,0,0,null,0,0,0,0,0,0,0,0,0,0,null,-5.3290705182007514E-15,0,0,0,0,0,-5.3290705182007514E-15,null,0,0,null,0,0,0,0,0,0,0,null,0,0,null,8.1712414612411521E-14,0,0,0,0,0,8.1712414612411521E-14]
[null,39,{"$f":"+IF(B50<=Simulador!$G$26,'Cronograma Referencial'!J42,\"\")","v":""},{"$f":"IF(C50=\"\",0,$D$12-SUM(E$12:E49))","v":0},0,0,0,0,0,0,0,0,{"$f":"IF($H50>0,Simulador!$G$44,0)","v":0},{"$f":"+IF(C50=\"\",0,Simulador!$G$45)","v":0},0,0,null,null,null,"00:00:00",0,null,0,0,null,-7.3896444519050419E-13,0,0,0,0,0,-7.3896444519050419E-13,null,0,0,null,-5.6843418860808015E-14,0,0,0,0,0,-5.6843418860808015E-14,null,0,0,null,0,0,0,0,0,0,0,0,0,0,null,-5.3290705182007514E-15,0,0,0,0,0,-5.3290705182007514E-15,null,0,0,null,0,0,0,0,0,0,0,null,0,0,null,8.1712414612411521E-14,0,0,0,0,0,8.1712414612411521E-14]
[null,40,{"$f":"+IF(B51<=Simulador!$G$26,'Cronograma Referencial'!J43,\"\")","v":""},{"$f":"IF(C51=\"\",0,$D$12-SUM(E$12:E50))","v":0},0,0,0,0,0,0,0,0,{"$f":"IF($H51>0,Simulador!$G$44,0)","v":0},{"$f":"+IF(C51=\"\",0,Simulador!$G$45)","v":0},0,0,null,null,null,"00:00:00",0,null,0,0,null,-7.3896444519050419E-13,0,0,0,0,0,-7.3896444519050419E-13,null,0,0,null,-5.6843418860808015E-14,0,0,0,0,0,-5.6843418860808015E-14,null,0,0,null,0,0,0,0,0,0,0,0,0,0,null,-5.3290705182007514E-15,0,0,0,0,0,-5.3290705182007514E-15,null,0,0,null,0,0,0,0,0,0,0,null,0,0,null,8.1712414612411521E-14,0,0,0,0,0,8.1712414612411521E-14]
[null,41,{"$f":"+IF(B52<=Simulador!$G$26,'Cronograma Referencial'!J44,\"\")","v":""},{"$f":"IF(C52=\"\",0,$D$12-SUM(E$12:E51))","v":0},0,0,0,0,0,0,0,0,{"$f":"IF($H52>0,Simulador!$G$44,0)","v":0},{"$f":"+IF(C52=\"\",0,Simulador!$G$45)","v":0},0,0,null,null,null,"00:00:00",0,null,0,0,null,-7.3896444519050419E-13,0,0,0,0,0,-7.3896444519050419E-13,null,0,0,null,-5.6843418860808015E-14,0,0,0,0,0,-5.6843418860808015E-14,null,0,0,null,0,0,0,0,0,0,0,0,0,0,null,-5.3290705182007514E-15,0,0,0,0,0,-5.3290705182007514E-15,null,0,0,null,0,0,0,0,0,0,0,null,0,0,null,8.1712414612411521E-14,0,0,0,0,0,8.1712414612411521E-14]
[null,42,{"$f":"+IF(B53<=Simulador!$G$26,'Cronograma Referencial'!J45,\"\")","v":""},{"$f":"IF(C53=\"\",0,$D$12-SUM(E$12:E52))","v":0},0,0,0,0,0,0,0,0,{"$f":"IF($H53>0,Simulador!$G$44,0)","v":0},{"$f":"+IF(C53=\"\",0,Simulador!$G$45)","v":0},0,0,null,null,null,"00:00:00",0,null,0,0,null,-7.3896444519050419E-13,0,0,0,0,0,-7.3896444519050419E-13,null,0,0,null,-5.6843418860808015E-14,0,0,0,0,0,-5.6843418860808015E-14,null,0,0,null,0,0,0,0,0,0,0,0,0,0,null,-5.3290705182007514E-15,0,0,0,0,0,-5.3290705182007514E-15,null,0,0,null,0,0,0,0,0,0,0,null,0,0,null,8.1712414612411521E-14,0,0,0,0,0,8.1712414612411521E-14]
[null,43,{"$f":"+IF(B54<=Simulador!$G$26,'Cronograma Referencial'!J46,\"\")","v":""},{"$f":"IF(C54=\"\",0,$D$12-SUM(E$12:E53))","v":0},0,0,0,0,0,0,0,0,{"$f":"IF($H54>0,Simulador!$G$44,0)","v":0},{"$f":"+IF(C54=\"\",0,Simulador!$G$45)","v":0},0,0,null,null,null,"00:00:00",0,null,0,0,null,-7.3896444519050419E-13,0,0,0,0,0,-7.3896444519050419E-13,null,0,0,null,-5.6843418860808015E-14,0,0,0,0,0,-5.6843418860808015E-14,null,0,0,null,0,0,0,0,0,0,0,0,0,0,null,-5.3290705182007514E-15,0,0,0,0,0,-5.3290705182007514E-15,null,0,0,null,0,0,0,0,0,0,0,null,0,0,null,8.1712414612411521E-14,0,0,0,0,0,8.1712414612411521E-14]
[null,44,{"$f":"+IF(B55<=Simulador!$G$26,'Cronograma Referencial'!J47,\"\")","v":""},{"$f":"IF(C55=\"\",0,$D$12-SUM(E$12:E54))","v":0},0,0,0,0,0,0,0,0,{"$f":"IF($H55>0,Simulador!$G$44,0)","v":0},{"$f":"+IF(C55=\"\",0,Simulador!$G$45)","v":0},0,0,null,null,null,"00:00:00",0,null,0,0,null,-7.3896444519050419E-13,0,0,0,0,0,-7.3896444519050419E-13,null,0,0,null,-5.6843418860808015E-14,0,0,0,0,0,-5.6843418860808015E-14,null,0,0,null,0,0,0,0,0,0,0,0,0,0,null,-5.3290705182007514E-15,0,0,0,0,0,-5.3290705182007514E-15,null,0,0,null,0,0,0,0,0,0,0,null,0,0,null,8.1712414612411521E-14,0,0,0,0,0,8.1712414612411521E-14]
[null,45,{"$f":"+IF(B56<=Simulador!$G$26,'Cronograma Referencial'!J48,\"\")","v":""},{"$f":"IF(C56=\"\",0,$D$12-SUM(E$12:E55))","v":0},0,0,0,0,0,0,0,0,{"$f":"IF($H56>0,Simulador!$G$44,0)","v":0},{"$f":"+IF(C56=\"\",0,Simulador!$G$45)","v":0},0,0,null,null,null,"00:00:00",0,null,0,0,null,-7.3896444519050419E-13,0,0,0,0,0,-7.3896444519050419E-13,null,0,0,null,-5.6843418860808015E-14,0,0,0,0,0,-5.6843418860808015E-14,null,0,0,null,0,0,0,0,0,0,0,0,0,0,null,-5.3290705182007514E-15,0,0,0,0,0,-5.3290705182007514E-15,null,0,0,null,0,0,0,0,0,0,0,null,0,0,null,8.1712414612411521E-14,0,0,0,0,0,8.1712414612411521E-14]
[null,46,{"$f":"+IF(B57<=Simulador!$G$26,'Cronograma Referencial'!J49,\"\")","v":""},{"$f":"IF(C57=\"\",0,$D$12-SUM(E$12:E56))","v":0},0,0,0,0,0,0,0,0,{"$f":"IF($H57>0,Simulador!$G$44,0)","v":0},{"$f":"+IF(C57=\"\",0,Simulador!$G$45)","v":0},0,0,null,null,null,"00:00:00",0,null,0,0,null,-7.3896444519050419E-13,0,0,0,0,0,-7.3896444519050419E-13,null,0,0,null,-5.6843418860808015E-14,0,0,0,0,0,-5.6843418860808015E-14,null,0,0,null,0,0,0,0,0,0,0,0,0,0,null,-5.3290705182007514E-15,0,0,0,0,0,-5.3290705182007514E-15,null,0,0,null,0,0,0,0,0,0,0,null,0,0,null,8.1712414612411521E-14,0,0,0,0,0,8.1712414612411521E-14]
[null,47,{"$f":"+IF(B58<=Simulador!$G$26,'Cronograma Referencial'!J50,\"\")","v":""},{"$f":"IF(C58=\"\",0,$D$12-SUM(E$12:E57))","v":0},0,0,0,0,0,0,0,0,{"$f":"IF($H58>0,Simulador!$G$44,0)","v":0},{"$f":"+IF(C58=\"\",0,Simulador!$G$45)","v":0},0,0,null,null,null,"00:00:00",0,null,0,0,null,-7.3896444519050419E-13,0,0,0,0,0,-7.3896444519050419E-13,null,0,0,null,-5.6843418860808015E-14,0,0,0,0,0,-5.6843418860808015E-14,null,0,0,null,0,0,0,0,0,0,0,0,0,0,null,-5.3290705182007514E-15,0,0,0,0,0,-5.3290705182007514E-15,null,0,0,null,0,0,0,0,0,0,0,null,0,0,null,8.1712414612411521E-14,0,0,0,0,0,8.1712414612411521E-14]
[null,48,{"$f":"+IF(B59<=Simulador!$G$26,'Cronograma Referencial'!J51,\"\")","v":""},{"$f":"IF(C59=\"\",0,$D$12-SUM(E$12:E58))","v":0},0,0,0,0,0,0,0,0,{"$f":"IF($H59>0,Simulador!$G$44,0)","v":0},{"$f":"+IF(C59=\"\",0,Simulador!$G$45)","v":0},0,0,null,null,null,"00:00:00",0,null,0,0,null,-7.3896444519050419E-13,0,0,0,0,0,-7.3896444519050419E-13,null,0,0,null,-5.6843418860808015E-14,0,0,0,0,0,-5.6843418860808015E-14,null,0,0,null,0,0,0,0,0,0,0,0,0,0,null,-5.3290705182007514E-15,0,0,0,0,0,-5.3290705182007514E-15,null,0,0,null,0,0,0,0,0,0,0,null,0,0,null,8.1712414612411521E-14,0,0,0,0,0,8.1712414612411521E-14]
[null,"Totales",null,null,{"$f":"+SUM(E12:E59)","v":3500.0000000000014},3500.0000000000014,{"$f":"+SUM(G12:G59)","v":285.47506582211088},3785.4750658221114,100.00000000000006,20.362386889201691,5.3290705182007514E-15,150.44999999999996,{"$f":"SUM(M12:M59)","v":0},{"$f":"+SUM(N12:N59)","v":0},{"$f":"+SUM(O12:O59)","v":4056.287452711314}]

{"sheet":"CronogramaValores","index":2,"n_rows":62,"n_cols":16,"rows_kept":62,"cut":false,"hidden":true,"merged":[[1,1,3,15]]}
[]
[null,"CRONOGRAMA DE CUOTAS - CREDITO CADENAS PRODUCTIVAS"]
[]
[]
[null,"Moneda",null,"Soles","Cuota del crédito",null,315.45625548517603,"Op. de Créditos",null,null,0,"Tasa Efectiva Anual (T.E.A) compensatoria",null,null,null,0.155]
[null,"Monto solicitado",null,3500,"Cuota a pagar",null,338.02395439260948,"Desgravamen",null,null,4.4999999999999999E-4,"Tasa Costo Efectiva Anual (T.C.E.A)",null,null,null,0.31501950343921714]
[null,"Nº de cuotas",null,12,"Total intereses",null,285.47506582211088,"ITF",null,null,5.0000000000000002E-5,"Fecha de desembolso",null,null,null,"2017-12-17"]
[]
[null,"Nro.","Fecha","Saldo del monto","Monto","Principal","Intereses","Cuota del","Operador","Seguro de","Reportes","Seguro","Portes","ITF","Cuota ","Total"]
[null,"de cuota","de pago","del crédito","a financiar",null,null,"crédito","de Créditos","desgravamen","Legales","Agrícola",null,null,"a pagar","deuda"]
[null,null,null,"(a)","(b)","(c)","(d)","(e) = (b) + (c)","(f)","(g)","(h)","(i)","(j)","(k)","(l) = (e)+(f)+(g)+(h)+(i)+(j)+(k)","(m) = (a) + (h)"]
[null,1,"2018-01-17",3500,271.75543979800534,271.75543979800534,43.70081568717066,315.45625548517603,8.3333333333333357,1.6968655741001408,4.4408920985006262E-16,12.537499999999996,0,0,338.02395439260948,3543.7008156871707]
[null,2,"2018-02-19",3228.2445602019948,272.53085232411519,272.53085232411519,42.925403161060807,315.45625548517597,8.3333333333333357,1.6968655741001408,4.4408920985006262E-16,12.537499999999996,0,0,338.02395439260943,3271.1699633630556]
[null,3,"2018-03-19",2955.7137078778796,282.14285769227166,282.14285769227166,33.313397792904318,315.45625548517597,8.3333333333333357,1.6968655741001408,4.4408920985006262E-16,12.537499999999996,0,0,338.02395439260943,2989.0271056707838]
[null,4,"2018-04-17",2673.5708501856079,284.2403948086544,284.2403948086544,31.215860676521569,315.45625548517597,8.3333333333333357,1.6968655741001408,4.4408920985006262E-16,12.537499999999996,0,0,338.02395439260943,2704.7867108621294]
[null,5,"2018-05-17",2389.3304553769531,286.59134717155297,286.59134717155297,28.864908313623008,315.45625548517597,8.3333333333333357,1.6968655741001408,4.4408920985006262E-16,12.537499999999996,0,0,338.02395439260943,2418.195363690576]
[null,6,"2018-06-18",2102.7391082054,288.34920419177598,288.34920419177598,27.107051293399973,315.45625548517597,8.3333333333333357,1.6968655741001408,4.4408920985006262E-16,12.537499999999996,0,0,338.02395439260943,2129.8461594987998]
[null,7,"2018-07-17",1814.3899040136243,294.27194968956007,294.27194968956007,21.184305795615877,315.45625548517597,8.3333333333333357,1.6968655741001408,4.4408920985006262E-16,12.537499999999996,0,0,338.02395439260943,1835.5742098092403]
[null,8,"2018-08-17",1520.1179543240642,296.476142758126,296.476142758126,18.980112727049956,315.45625548517597,8.3333333333333357,1.6968655741001408,4.4408920985006262E-16,12.537499999999996,0,0,338.02395439260943,1539.0980670511142]
[null,9,"2018-09-17",1223.641811565938,300.17792826393065,300.17792826393065,15.278327221245339,315.45625548517597,8.3333333333333357,1.6968655741001408,4.4408920985006262E-16,12.537499999999996,0,0,338.02395439260943,1238.9201387871833]
[null,10,"2018-10-17",923.46388330200716,304.30011747066709,304.30011747066709,11.156138014508908,315.45625548517597,8.3333333333333357,1.6968655741001408,4.4408920985006262E-16,12.537499999999996,0,0,338.02395439260943,934.62002131651604]
[null,11,"2018-11-19",619.16376583134024,307.22334320873807,307.22334320873807,8.2329122764379221,315.45625548517597,8.3333333333333357,1.6968655741001408,4.4408920985006262E-16,12.537499999999996,0,0,338.02395439260943,627.39667810777814]
[null,12,"2018-12-17",311.940422622602,311.94042262260336,311.94042262260336,3.5158328625726307,315.45625548517597,8.3333333333333357,1.6968655741001408,4.4408920985006262E-16,12.537499999999996,0,0,338.02395439260943,315.45625548517461]
[null,13,null,0,0,0,0,0,0,0,0,0,0,0,0,0]
[null,14,null,0,0,0,0,0,0,0,0,0,0,0,0,0]
[null,15,null,0,0,0,0,0,0,0,0,0,0,0,0,0]
[null,16,null,0,0,0,0,0,0,0,0,0,0,0,0,0]
[null,17,null,0,0,0,0,0,0,0,0,0,0,0,0,0]
[null,18,null,0,0,0,0,0,0,0,0,0,0,0,0,0]
[null,19,null,0,0,0,0,0,0,0,0,0,0,0,0,0]
[null,20,null,0,0,0,0,0,0,0,0,0,0,0,0,0]
[null,21,null,0,0,0,0,0,0,0,0,0,0,0,0,0]
[null,22,null,0,0,0,0,0,0,0,0,0,0,0,0,0]
[null,23,null,0,0,0,0,0,0,0,0,0,0,0,0,0]
[null,24,null,0,0,0,0,0,0,0,0,0,0,0,0,0]
[null,25,null,0,0,0,0,0,0,0,0,0,0,0,0,0]
[null,26,null,0,0,0,0,0,0,0,0,0,0,0,0,0]
[null,27,null,0,0,0,0,0,0,0,0,0,0,0,0,0]
[null,28,null,0,0,0,0,0,0,0,0,0,0,0,0,0]
[null,29,null,0,0,0,0,0,0,0,0,0,0,0,0,0]
[null,30,null,0,0,0,0,0,0,0,0,0,0,0,0,0]
[null,31,null,0,0,0,0,0,0,0,0,0,0,0,0,0]
[null,32,null,0,0,0,0,0,0,0,0,0,0,0,0,0]
[null,33,null,0,0,0,0,0,0,0,0,0,0,0,0,0]
[null,34,null,0,0,0,0,0,0,0,0,0,0,0,0,0]
[null,35,null,0,0,0,0,0,0,0,0,0,0,0,0,0]
[null,36,null,0,0,0,0,0,0,0,0,0,0,0,0,0]
[null,37,null,0,0,0,0,0,0,0,0,0,0,0,0,0]
[null,38,null,0,0,0,0,0,0,0,0,0,0,0,0,0]
[null,39,null,0,0,0,0,0,0,0,0,0,0,0,0,0]
[null,40,null,0,0,0,0,0,0,0,0,0,0,0,0,0]
[null,41,null,0,0,0,0,0,0,0,0,0,0,0,0,0]
[null,42,null,0,0,0,0,0,0,0,0,0,0,0,0,0]
[null,43,null,0,0,0,0,0,0,0,0,0,0,0,0,0]
[null,44,null,0,0,0,0,0,0,0,0,0,0,0,0,0]
[null,45,null,0,0,0,0,0,0,0,0,0,0,0,0,0]
[null,46,null,0,0,0,0,0,0,0,0,0,0,0,0,0]
[null,47,null,0,0,0,0,0,0,0,0,0,0,0,0,0]
[null,48,null,0,0,0,0,0,0,0,0,0,0,0,0,0]
[null,"Totales",null,null,3500.0000000000014,3500.0000000000014,285.47506582211088,3785.4750658221114,100.00000000000006,20.362386889201691,5.3290705182007514E-15,150.44999999999996,0,0,4056.287452711314]
[]
[null,"Nota: El presente cronograma es referencial y corresponde en el supuesto de cumplimiento de todos los pagos."]

{"sheet":"Cronograma Referencial","index":3,"n_rows":418,"n_cols":11,"rows_kept":418,"cut":false,"hidden":true,"merged":[]}
[null,null,null,null,null,null,null,null,"Cron. Ref","Cron. Def"]
[null,"Cuota Base","Dias Fijos",null,"Dias Variables",null,null,"Cuota Base",{"$f":"Simulador!G20","v":"Dias Fijos"},{"$f":"+I2","v":"Dias Fijos"}]
[null,0,{"$f":"+Simulador!K28","v":"2018-01-17"},null,{"$f":"+C3","v":"2018-01-17"},null,null,{"$f":"+B3","v":0},{"$f":"+HLOOKUP($I$2,$C$2:$E$418,H3+2)","v":"2018-01-17"},{"$f":"+IFERROR(IF(VLOOKUP(I3,'BD Dias No utiles'!$B$9:$H$4077,7,FALSE)=\"X\",IF(VLOOKUP(I3+1,'BD Dias No utiles'!$B$9:$H$4077,7,FALSE)=\"X\",IF(VLOOKUP(I3+2,'BD Dias No utiles'!$B$9:$H$4077,7,FALSE)=\"X\",I3+3,I3+2),I3+1),I3),0)","v":"2018-01-17"}]
[null,1,{"$f":"+Simulador!K28","v":"2018-01-17"},{"$f":"+C4-C3","v":0},{"$f":"+C4","v":"2018-01-17"},{"$f":"+E4-E3","v":0},null,{"$f":"+B4","v":1},{"$f":"+HLOOKUP($I$2,$C$2:$E$418,H4+2)","v":"2018-01-17"},{"$f":"+IFERROR(IF(VLOOKUP(I4,'BD Dias No utiles'!$B$9:$H$4077,7,FALSE)=\"X\",IF(VLOOKUP(I4+1,'BD Dias No utiles'!$B$9:$H$4077,7,FALSE)=\"X\",IF(VLOOKUP(I4+2,'BD Dias No utiles'!$B$9:$H$4077,7,FALSE)=\"X\",I4+3,I4+2),I4+1),I4),0)","v":"2018-01-17"},{"$f":"+I4-I3","v":0}]
[null,{"$f":"+B4+1","v":2},{"$f":"+IF(Simulador!$G$26>='Cronograma Referencial'!B5,EDATE(C4,(B5-B4)*VLOOKUP(Simulador!$G$27,Simulador!$V$18:$W$29,2,FALSE)/30),0)","v":"2018-02-17"},{"$f":"+C5-C4","v":31},{"$f":"+IF(Simulador!$G$26>='Cronograma Referencial'!B5,'Cronograma Referencial'!E4+VLOOKUP(Simulador!$G$27,Simulador!$V$18:$W$29,2,FALSE),0)","v":"2018-02-16"},{"$f":"+E5-E4","v":30},null,2,{"$f":"+HLOOKUP($I$2,$C$2:$E$418,H5+2)","v":"2018-02-17"},{"$f":"+IFERROR(IF(VLOOKUP(I5,'BD Dias No utiles'!$B$9:$H$4077,7,FALSE)=\"X\",IF(VLOOKUP(I5+1,'BD Dias No utiles'!$B$9:$H$4077,7,FALSE)=\"X\",IF(VLOOKUP(I5+2,'BD Dias No utiles'!$B$9:$H$4077,7,FALSE)=\"X\",I5+3,I5+2),I5+1),I5),0)","v":"2018-02-19"},{"$f":"+I5-I4","v":31}]
[null,{"$f":"+B5+1","v":3},{"$f":"+IF(Simulador!$G$26>='Cronograma Referencial'!B6,EDATE(C5,(B6-B5)*VLOOKUP(Simulador!$G$27,Simulador!$V$18:$W$29,2,FALSE)/30),0)","v":"2018-03-17"},28,{"$f":"+IF(Simulador!$G$26>='Cronograma Referencial'!B6,'Cronograma Referencial'!E5+VLOOKUP(Simulador!$G$27,Simulador!$V$18:$W$29,2,FALSE),0)","v":"2018-03-18"},{"$f":"+E6-E5","v":30},null,3,"2018-03-17",{"$f":"+IFERROR(IF(VLOOKUP(I6,'BD Dias No utiles'!$B$9:$H$4077,7,FALSE)=\"X\",IF(VLOOKUP(I6+1,'BD Dias No utiles'!$B$9:$H$4077,7,FALSE)=\"X\",IF(VLOOKUP(I6+2,'BD Dias No utiles'!$B$9:$H$4077,7,FALSE)=\"X\",I6+3,I6+2),I6+1),I6),0)","v":"2018-03-19"},28]
[null,4,{"$f":"+IF(Simulador!$G$26>='Cronograma Referencial'!B7,EDATE(C6,(B7-B6)*VLOOKUP(Simulador!$G$27,Simulador!$V$18:$W$29,2,FALSE)/30),0)","v":"2018-04-17"},31,{"$f":"+IF(Simulador!$G$26>='Cronograma Referencial'!B7,'Cronograma Referencial'!E6+VLOOKUP(Simulador!$G$27,Simulador!$V$18:$W$29,2,FALSE),0)","v":"2018-04-17"},30,null,4,"2018-04-17",{"$f":"+IFERROR(IF(VLOOKUP(I7,'BD Dias No utiles'!$B$9:$H$4077,7,FALSE)=\"X\",IF(VLOOKUP(I7+1,'BD Dias No utiles'!$B$9:$H$4077,7,FALSE)=\"X\",IF(VLOOKUP(I7+2,'BD Dias No utiles'!$B$9:$H$4077,7,FALSE)=\"X\",I7+3,I7+2),I7+1),I7),0)","v":"2018-04-17"},31]
[null,5,{"$f":"+IF(Simulador!$G$26>='Cronograma Referencial'!B8,EDATE(C7,(B8-B7)*VLOOKUP(Simulador!$G$27,Simulador!$V$18:$W$29,2,FALSE)/30),0)","v":"2018-05-17"},30,{"$f":"+IF(Simulador!$G$26>='Cronograma Referencial'!B8,'Cronograma Referencial'!E7+VLOOKUP(Simulador!$G$27,Simulador!$V$18:$W$29,2,FALSE),0)","v":"2018-05-17"},30,null,5,"2018-05-17",{"$f":"+IFERROR(IF(VLOOKUP(I8,'BD Dias No utiles'!$B$9:$H$4077,7,FALSE)=\"X\",IF(VLOOKUP(I8+1,'BD Dias No utiles'!$B$9:$H$4077,7,FALSE)=\"X\",IF(VLOOKUP(I8+2,'BD Dias No utiles'!$B$9:$H$4077,7,FALSE)=\"X\",I8+3,I8+2),I8+1),I8),0)","v":"2018-05-17"},30]
[null,6,{"$f":"+IF(Simulador!$G$26>='Cronograma Referencial'!B9,EDATE(C8,(B9-B8)*VLOOKUP(Simulador!$G$27,Simulador!$V$18:$W$29,2,FALSE)/30),0)","v":"2018-06-17"},31,{"$f":"+IF(Simulador!$G$26>='Cronograma Referencial'!B9,'Cronograma Referencial'!E8+VLOOKUP(Simulador!$G$27,Simulador!$V$18:$W$29,2,FALSE),0)","v":"2018-06-16"},30,null,6,"2018-06-17",{"$f":"+IFERROR(IF(VLOOKUP(I9,'BD Dias No utiles'!$B$9:$H$4077,7,FALSE)=\"X\",IF(VLOOKUP(I9+1,'BD Dias No utiles'!$B$9:$H$4077,7,FALSE)=\"X\",IF(VLOOKUP(I9+2,'BD Dias No utiles'!$B$9:$H$4077,7,FALSE)=\"X\",I9+3,I9+2),I9+1),I9),0)","v":"2018-06-18"},31]
[null,7,{"$f":"+IF(Simulador!$G$26>='Cronograma Referencial'!B10,EDATE(C9,(B10-B9)*VLOOKUP(Simulador!$G$27,Simulador!$V$18:$W$29,2,FALSE)/30),0)","v":"2018-07-17"},30,{"$f":"+IF(Simulador!$G$26>='Cronograma Referencial'!B10,'Cronograma Referencial'!E9+VLOOKUP(Simulador!$G$27,Simulador!$V$18:$W$29,2,FALSE),0)","v":"2018-07-16"},30,null,7,"2018-07-17",{"$f":"+IFERROR(IF(VLOOKUP(I10,'BD Dias No utiles'!$B$9:$H$4077,7,FALSE)=\"X\",IF(VLOOKUP(I10+1,'BD Dias No utiles'!$B$9:$H$4077,7,FALSE)=\"X\",IF(VLOOKUP(I10+2,'BD Dias No utiles'!$B$9:$H$4077,7,FALSE)=\"X\",I10+3,I10+2),I10+1),I10),0)","v":"2018-07-17"},30]
[null,8,{"$f":"+IF(Simulador!$G$26>='Cronograma Referencial'!B11,EDATE(C10,(B11-B10)*VLOOKUP(Simulador!$G$27,Simulador!$V$18:$W$29,2,FALSE)/30),0)","v":"2018-08-17"},31,{"$f":"+IF(Simulador!$G$26>='Cronograma Referencial'!B11,'Cronograma Referencial'!E10+VLOOKUP(Simulador!$G$27,Simulador!$V$18:$W$29,2,FALSE),0)","v":"2018-08-15"},30,null,8,"2018-08-17",{"$f":"+IFERROR(IF(VLOOKUP(I11,'BD Dias No utiles'!$B$9:$H$4077,7,FALSE)=\"X\",IF(VLOOKUP(I11+1,'BD Dias No utiles'!$B$9:$H$4077,7,FALSE)=\"X\",IF(VLOOKUP(I11+2,'BD Dias No utiles'!$B$9:$H$4077,7,FALSE)=\"X\",I11+3,I11+2),I11+1),I11),0)","v":"2018-08-17"},31]
[null,9,{"$f":"+IF(Simulador!$G$26>='Cronograma Referencial'!B12,EDATE(C11,(B12-B11)*VLOOKUP(Simulador!$G$27,Simulador!$V$18:$W$29,2,FALSE)/30),0)","v":"2018-09-17"},31,{"$f":"+IF(Simulador!$G$26>='Cronograma Referencial'!B12,'Cronograma Referencial'!E11+VLOOKUP(Simulador!$G$27,Simulador!$V$18:$W$29,2,FALSE),0)","v":"2018-09-14"},30,null,9,"2018-09-17",{"$f":"+IFERROR(IF(VLOOKUP(I12,'BD Dias No utiles'!$B$9:$H$4077,7,FALSE)=\"X\",IF(VLOOKUP(I12+1,'BD Dias No utiles'!$B$9:$H$4077,7,FALSE)=\"X\",IF(VLOOKUP(I12+2,'BD Dias No utiles'!$B$9:$H$4077,7,FALSE)=\"X\",I12+3,I12+2),I12+1),I12),0)","v":"2018-09-17"},31]
[null,10,{"$f":"+IF(Simulador!$G$26>='Cronograma Referencial'!B13,EDATE(C12,(B13-B12)*VLOOKUP(Simulador!$G$27,Simulador!$V$18:$W$29,2,FALSE)/30),0)","v":"2018-10-17"},30,{"$f":"+IF(Simulador!$G$26>='Cronograma Referencial'!B13,'Cronograma Referencial'!E12+VLOOKUP(Simulador!$G$27,Simulador!$V$18:$W$29,2,FALSE),0)","v":"2018-10-14"},30,null,10,"2018-10-17",{"$f":"+IFERROR(IF(VLOOKUP(I13,'BD Dias No utiles'!$B$9:$H$4077,7,FALSE)=\"X\",IF(VLOOKUP(I13+1,'BD Dias No utiles'!$B$9:$H$4077,7,FALSE)=\"X\",IF(VLOOKUP(I13+2,'BD Dias No utiles'!$B$9:$H$4077,7,FALSE)=\"X\",I13+3,I13+2),I13+1),I13),0)","v":"2018-10-17"},30]
[null,11,{"$f":"+IF(Simulador!$G$26>='Cronograma Referencial'!B14,EDATE(C13,(B14-B13)*VLOOKUP(Simulador!$G$27,Simulador!$V$18:$W$29,2,FALSE)/30),0)","v":"2018-11-17"},31,{"$f":"+IF(Simulador!$G$26>='Cronograma Referencial'!B14,'Cronograma Referencial'!E13+VLOOKUP(Simulador!$G$27,Simulador!$V$18:$W$29,2,FALSE),0)","v":"2018-11-13"},30,null,11,"2018-11-17",{"$f":"+IFERROR(IF(VLOOKUP(I14,'BD Dias No utiles'!$B$9:$H$4077,7,FALSE)=\"X\",IF(VLOOKUP(I14+1,'BD Dias No utiles'!$B$9:$H$4077,7,FALSE)=\"X\",IF(VLOOKUP(I14+2,'BD Dias No utiles'!$B$9:$H$4077,7,FALSE)=\"X\",I14+3,I14+2),I14+1),I14),0)","v":"2018-11-19"},31]
[null,12,{"$f":"+IF(Simulador!$G$26>='Cronograma Referencial'!B15,EDATE(C14,(B15-B14)*VLOOKUP(Simulador!$G$27,Simulador!$V$18:$W$29,2,FALSE)/30),0)","v":"2018-12-17"},30,{"$f":"+IF(Simulador!$G$26>='Cronograma Referencial'!B15,'Cronograma Referencial'!E14+VLOOKUP(Simulador!$G$27,Simulador!$V$18:$W$29,2,FALSE),0)","v":"2018-12-13"},30,null,12,"2018-12-17",{"$f":"+IFERROR(IF(VLOOKUP(I15,'BD Dias No utiles'!$B$9:$H$4077,7,FALSE)=\"X\",IF(VLOOKUP(I15+1,'BD Dias No utiles'!$B$9:$H$4077,7,FALSE)=\"X\",IF(VLOOKUP(I15+2,'BD Dias No utiles'!$B$9:$H$4077,7,FALSE)=\"X\",I15+3,I15+2),I15+1),I15),0)","v":"2018-12-17"},30]
[null,13,{"$f":"+IF(Simulador!$G$26>='Cronograma Referencial'!B16,EDATE(C15,(B16-B15)*VLOOKUP(Simulador!$G$27,Simulador!$V$18:$W$29,2,FALSE)/30),0)","v":"00:00:00"},-43451,{"$f":"+IF(Simulador!$G$26>='Cronograma Referencial'!B16,'Cronograma Referencial'!E15+VLOOKUP(Simulador!$G$27,Simulador!$V$18:$W$29,2,FALSE),0)","v":"00:00:00"},-43447,null,13,"00:00:00",{"$f":"+IFERROR(IF(VLOOKUP(I16,'BD Dias No utiles'!$B$9:$H$4077,7,FALSE)=\"X\",IF(VLOOKUP(I16+1,'BD Dias No utiles'!$B$9:$H$4077,7,FALSE)=\"X\",IF(VLOOKUP(I16+2,'BD Dias No utiles'!$B$9:$H$4077,7,FALSE)=\"X\",I16+3,I16+2),I16+1),I16),0)","v":"00:00:00"},-43451]
[null,14,{"$f":"+IF(Simulador!$G$26>='Cronograma Referencial'!B17,EDATE(C16,(B17-B16)*VLOOKUP(Simulador!$G$27,Simulador!$V$18:$W$29,2,FALSE)/30),0)","v":"00:00:00"},0,{"$f":"+IF(Simulador!$G$26>='Cronograma Referencial'!B17,'Cronograma Referencial'!E16+VLOOKUP(Simulador!$G$27,Simulador!$V$18:$W$29,2,FALSE),0)","v":"00:00:00"},0,null,14,"00:00:00",{"$f":"+IFERROR(IF(VLOOKUP(I17,'BD Dias No utiles'!$B$9:$H$4077,7,FALSE)=\"X\",IF(VLOOKUP(I17+1,'BD Dias No utiles'!$B$9:$H$4077,7,FALSE)=\"X\",IF(VLOOKUP(I17+2,'BD Dias No utiles'!$B$9:$H$4077,7,FALSE)=\"X\",I17+3,I17+2),I17+1),I17),0)","v":"00:00:00"},0]
[null,15,{"$f":"+IF(Simulador!$G$26>='Cronograma Referencial'!B18,EDATE(C17,(B18-B17)*VLOOKUP(Simulador!$G$27,Simulador!$V$18:$W$29,2,FALSE)/30),0)","v":"00:00:00"},0,{"$f":"+IF(Simulador!$G$26>='Cronograma Referencial'!B18,'Cronograma Referencial'!E17+VLOOKUP(Simulador!$G$27,Simulador!$V$18:$W$29,2,FALSE),0)","v":"00:00:00"},0,null,15,"00:00:00",{"$f":"+IFERROR(IF(VLOOKUP(I18,'BD Dias No utiles'!$B$9:$H$4077,7,FALSE)=\"X\",IF(VLOOKUP(I18+1,'BD Dias No utiles'!$B$9:$H$4077,7,FALSE)=\"X\",IF(VLOOKUP(I18+2,'BD Dias No utiles'!$B$9:$H$4077,7,FALSE)=\"X\",I18+3,I18+2),I18+1),I18),0)","v":"00:00:00"},0]
[null,16,{"$f":"+IF(Simulador!$G$26>='Cronograma Referencial'!B19,EDATE(C18,(B19-B18)*VLOOKUP(Simulador!$G$27,Simulador!$V$18:$W$29,2,FALSE)/30),0)","v":"00:00:00"},0,{"$f":"+IF(Simulador!$G$26>='Cronograma Referencial'!B19,'Cronograma Referencial'!E18+VLOOKUP(Simulador!$G$27,Simulador!$V$18:$W$29,2,FALSE),0)","v":"00:00:00"},0,null,16,"00:00:00",{"$f":"+IFERROR(IF(VLOOKUP(I19,'BD Dias No utiles'!$B$9:$H$4077,7,FALSE)=\"X\",IF(VLOOKUP(I19+1,'BD Dias No utiles'!$B$9:$H$4077,7,FALSE)=\"X\",IF(VLOOKUP(I19+2,'BD Dias No utiles'!$B$9:$H$4077,7,FALSE)=\"X\",I19+3,I19+2),I19+1),I19),0)","v":"00:00:00"},0]
[null,17,{"$f":"+IF(Simulador!$G$26>='Cronograma Referencial'!B20,EDATE(C19,(B20-B19)*VLOOKUP(Simulador!$G$27,Simulador!$V$18:$W$29,2,FALSE)/30),0)","v":"00:00:00"},0,{"$f":"+IF(Simulador!$G$26>='Cronograma Referencial'!B20,'Cronograma Referencial'!E19+VLOOKUP(Simulador!$G$27,Simulador!$V$18:$W$29,2,FALSE),0)","v":"00:00:00"},0,null,17,"00:00:00",{"$f":"+IFERROR(IF(VLOOKUP(I20,'BD Dias No utiles'!$B$9:$H$4077,7,FALSE)=\"X\",IF(VLOOKUP(I20+1,'BD Dias No utiles'!$B$9:$H$4077,7,FALSE)=\"X\",IF(VLOOKUP(I20+2,'BD Dias No utiles'!$B$9:$H$4077,7,FALSE)=\"X\",I20+3,I20+2),I20+1),I20),0)","v":"00:00:00"},0]
[null,18,{"$f":"+IF(Simulador!$G$26>='Cronograma Referencial'!B21,EDATE(C20,(B21-B20)*VLOOKUP(Simulador!$G$27,Simulador!$V$18:$W$29,2,FALSE)/30),0)","v":"00:00:00"},0,{"$f":"+IF(Simulador!$G$26>='Cronograma Referencial'!B21,'Cronograma Referencial'!E20+VLOOKUP(Simulador!$G$27,Simulador!$V$18:$W$29,2,FALSE),0)","v":"00:00:00"},0,null,18,"00:00:00",{"$f":"+IFERROR(IF(VLOOKUP(I21,'BD Dias No utiles'!$B$9:$H$4077,7,FALSE)=\"X\",IF(VLOOKUP(I21+1,'BD Dias No utiles'!$B$9:$H$4077,7,FALSE)=\"X\",IF(VLOOKUP(I21+2,'BD Dias No utiles'!$B$9:$H$4077,7,FALSE)=\"X\",I21+3,I21+2),I21+1),I21),0)","v":"00:00:00"},0]
[null,19,{"$f":"+IF(Simulador!$G$26>='Cronograma Referencial'!B22,EDATE(C21,(B22-B21)*VLOOKUP(Simulador!$G$27,Simulador!$V$18:$W$29,2,FALSE)/30),0)","v":"00:00:00"},0,{"$f":"+IF(Simulador!$G$26>='Cronograma Referencial'!B22,'Cronograma Referencial'!E21+VLOOKUP(Simulador!$G$27,Simulador!$V$18:$W$29,2,FALSE),0)","v":"00:00:00"},0,null,19,"00:00:00",{"$f":"+IFERROR(IF(VLOOKUP(I22,'BD Dias No utiles'!$B$9:$H$4077,7,FALSE)=\"X\",IF(VLOOKUP(I22+1,'BD Dias No utiles'!$B$9:$H$4077,7,FALSE)=\"X\",IF(VLOOKUP(I22+2,'BD Dias No utiles'!$B$9:$H$4077,7,FALSE)=\"X\",I22+3,I22+2),I22+1),I22),0)","v":"00:00:00"},0]
[null,20,{"$f":"+IF(Simulador!$G$26>='Cronograma Referencial'!B23,EDATE(C22,(B23-B22)*VLOOKUP(Simulador!$G$27,Simulador!$V$18:$W$29,2,FALSE)/30),0)","v":"00:00:00"},0,{"$f":"+IF(Simulador!$G$26>='Cronograma Referencial'!B23,'Cronograma Referencial'!E22+VLOOKUP(Simulador!$G$27,Simulador!$V$18:$W$29,2,FALSE),0)","v":"00:00:00"},0,null,20,"00:00:00",{"$f":"+IFERROR(IF(VLOOKUP(I23,'BD Dias No utiles'!$B$9:$H$4077,7,FALSE)=\"X\",IF(VLOOKUP(I23+1,'BD Dias No utiles'!$B$9:$H$4077,7,FALSE)=\"X\",IF(VLOOKUP(I23+2,'BD Dias No utiles'!$B$9:$H$4077,7,FALSE)=\"X\",I23+3,I23+2),I23+1),I23),0)","v":"00:00:00"},0]
[null,21,{"$f":"+IF(Simulador!$G$26>='Cronograma Referencial'!B24,EDATE(C23,(B24-B23)*VLOOKUP(Simulador!$G$27,Simulador!$V$18:$W$29,2,FALSE)/30),0)","v":"00:00:00"},0,{"$f":"+IF(Simulador!$G$26>='Cronograma Referencial'!B24,'Cronograma Referencial'!E23+VLOOKUP(Simulador!$G$27,Simulador!$V$18:$W$29,2,FALSE),0)","v":"00:00:00"},0,null,21,"00:00:00",{"$f":"+IFERROR(IF(VLOOKUP(I24,'BD Dias No utiles'!$B$9:$H$4077,7,FALSE)=\"X\",IF(VLOOKUP(I24+1,'BD Dias No utiles'!$B$9:$H$4077,7,FALSE)=\"X\",IF(VLOOKUP(I24+2,'BD Dias No utiles'!$B$9:$H$4077,7,FALSE)=\"X\",I24+3,I24+2),I24+1),I24),0)","v":"00:00:00"},0]
[null,22,{"$f":"+IF(Simulador!$G$26>='Cronograma Referencial'!B25,EDATE(C24,(B25-B24)*VLOOKUP(Simulador!$G$27,Simulador!$V$18:$W$29,2,FALSE)/30),0)","v":"00:00:00"},0,{"$f":"+IF(Simulador!$G$26>='Cronograma Referencial'!B25,'Cronograma Referencial'!E24+VLOOKUP(Simulador!$G$27,Simulador!$V$18:$W$29,2,FALSE),0)","v":"00:00:00"},0,null,22,"00:00:00",{"$f":"+IFERROR(IF(VLOOKUP(I25,'BD Dias No utiles'!$B$9:$H$4077,7,FALSE)=\"X\",IF(VLOOKUP(I25+1,'BD Dias No utiles'!$B$9:$H$4077,7,FALSE)=\"X\",IF(VLOOKUP(I25+2,'BD Dias No utiles'!$B$9:$H$4077,7,FALSE)=\"X\",I25+3,I25+2),I25+1),I25),0)","v":"00:00:00"},0]
[null,23,{"$f":"+IF(Simulador!$G$26>='Cronograma Referencial'!B26,EDATE(C25,(B26-B25)*VLOOKUP(Simulador!$G$27,Simulador!$V$18:$W$29,2,FALSE)/30),0)","v":"00:00:00"},0,{"$f":"+IF(Simulador!$G$26>='Cronograma Referencial'!B26,'Cronograma Referencial'!E25+VLOOKUP(Simulador!$G$27,Simulador!$V$18:$W$29,2,FALSE),0)","v":"00:00:00"},0,null,23,"00:00:00",{"$f":"+IFERROR(IF(VLOOKUP(I26,'BD Dias No utiles'!$B$9:$H$4077,7,FALSE)=\"X\",IF(VLOOKUP(I26+1,'BD Dias No utiles'!$B$9:$H$4077,7,FALSE)=\"X\",IF(VLOOKUP(I26+2,'BD Dias No utiles'!$B$9:$H$4077,7,FALSE)=\"X\",I26+3,I26+2),I26+1),I26),0)","v":"00:00:00"},0]
[null,24,{"$f":"+IF(Simulador!$G$26>='Cronograma Referencial'!B27,EDATE(C26,(B27-B26)*VLOOKUP(Simulador!$G$27,Simulador!$V$18:$W$29,2,FALSE)/30),0)","v":"00:00:00"},0,{"$f":"+IF(Simulador!$G$26>='Cronograma Referencial'!B27,'Cronograma Referencial'!E26+VLOOKUP(Simulador!$G$27,Simulador!$V$18:$W$29,2,FALSE),0)","v":"00:00:00"},0,null,24,"00:00:00",{"$f":"+IFERROR(IF(VLOOKUP(I27,'BD Dias No utiles'!$B$9:$H$4077,7,FALSE)=\"X\",IF(VLOOKUP(I27+1,'BD Dias No utiles'!$B$9:$H$4077,7,FALSE)=\"X\",IF(VLOOKUP(I27+2,'BD Dias No utiles'!$B$9:$H$4077,7,FALSE)=\"X\",I27+3,I27+2),I27+1),I27),0)","v":"00:00:00"},0]
[null,25,{"$f":"+IF(Simulador!$G$26>='Cronograma Referencial'!B28,EDATE(C27,(B28-B27)*VLOOKUP(Simulador!$G$27,Simulador!$V$18:$W$29,2,FALSE)/30),0)","v":"00:00:00"},0,{"$f":"+IF(Simulador!$G$26>='Cronograma Referencial'!B28,'Cronograma Referencial'!E27+VLOOKUP(Simulador!$G$27,Simulador!$V$18:$W$29,2,FALSE),0)","v":"00:00:00"},0,null,25,"00:00:00",{"$f":"+IFERROR(IF(VLOOKUP(I28,'BD Dias No utiles'!$B$9:$H$4077,7,FALSE)=\"X\",IF(VLOOKUP(I28+1,'BD Dias No utiles'!$B$9:$H$4077,7,FALSE)=\"X\",IF(VLOOKUP(I28+2,'BD Dias No utiles'!$B$9:$H$4077,7,FALSE)=\"X\",I28+3,I28+2),I28+1),I28),0)","v":"00:00:00"},0]
[null,26,{"$f":"+IF(Simulador!$G$26>='Cronograma Referencial'!B29,EDATE(C28,(B29-B28)*VLOOKUP(Simulador!$G$27,Simulador!$V$18:$W$29,2,FALSE)/30),0)","v":"00:00:00"},0,{"$f":"+IF(Simulador!$G$26>='Cronograma Referencial'!B29,'Cronograma Referencial'!E28+VLOOKUP(Simulador!$G$27,Simulador!$V$18:$W$29,2,FALSE),0)","v":"00:00:00"},0,null,26,"00:00:00",{"$f":"+IFERROR(IF(VLOOKUP(I29,'BD Dias No utiles'!$B$9:$H$4077,7,FALSE)=\"X\",IF(VLOOKUP(I29+1,'BD Dias No utiles'!$B$9:$H$4077,7,FALSE)=\"X\",IF(VLOOKUP(I29+2,'BD Dias No utiles'!$B$9:$H$4077,7,FALSE)=\"X\",I29+3,I29+2),I29+1),I29),0)","v":"00:00:00"},0]
[null,27,{"$f":"+IF(Simulador!$G$26>='Cronograma Referencial'!B30,EDATE(C29,(B30-B29)*VLOOKUP(Simulador!$G$27,Simulador!$V$18:$W$29,2,FALSE)/30),0)","v":"00:00:00"},0,{"$f":"+IF(Simulador!$G$26>='Cronograma Referencial'!B30,'Cronograma Referencial'!E29+VLOOKUP(Simulador!$G$27,Simulador!$V$18:$W$29,2,FALSE),0)","v":"00:00:00"},0,null,27,"00:00:00",{"$f":"+IFERROR(IF(VLOOKUP(I30,'BD Dias No utiles'!$B$9:$H$4077,7,FALSE)=\"X\",IF(VLOOKUP(I30+1,'BD Dias No utiles'!$B$9:$H$4077,7,FALSE)=\"X\",IF(VLOOKUP(I30+2,'BD Dias No utiles'!$B$9:$H$4077,7,FALSE)=\"X\",I30+3,I30+2),I30+1),I30),0)","v":"00:00:00"},0]
[null,28,{"$f":"+IF(Simulador!$G$26>='Cronograma Referencial'!B31,EDATE(C30,(B31-B30)*VLOOKUP(Simulador!$G$27,Simulador!$V$18:$W$29,2,FALSE)/30),0)","v":"00:00:00"},0,{"$f":"+IF(Simulador!$G$26>='Cronograma Referencial'!B31,'Cronograma Referencial'!E30+VLOOKUP(Simulador!$G$27,Simulador!$V$18:$W$29,2,FALSE),0)","v":"00:00:00"},0,null,28,"00:00:00",{"$f":"+IFERROR(IF(VLOOKUP(I31,'BD Dias No utiles'!$B$9:$H$4077,7,FALSE)=\"X\",IF(VLOOKUP(I31+1,'BD Dias No utiles'!$B$9:$H$4077,7,FALSE)=\"X\",IF(VLOOKUP(I31+2,'BD Dias No utiles'!$B$9:$H$4077,7,FALSE)=\"X\",I31+3,I31+2),I31+1),I31),0)","v":"00:00:00"},0]
[null,29,{"$f":"+IF(Simulador!$G$26>='Cronograma Referencial'!B32,EDATE(C31,(B32-B31)*VLOOKUP(Simulador!$G$27,Simulador!$V$18:$W$29,2,FALSE)/30),0)","v":"00:00:00"},0,{"$f":"+IF(Simulador!$G$26>='Cronograma Referencial'!B32,'Cronograma Referencial'!E31+VLOOKUP(Simulador!$G$27,Simulador!$V$18:$W$29,2,FALSE),0)","v":"00:00:00"},0,null,29,"00:00:00",{"$f":"+IFERROR(IF(VLOOKUP(I32,'BD Dias No utiles'!$B$9:$H$4077,7,FALSE)=\"X\",IF(VLOOKUP(I32+1,'BD Dias No utiles'!$B$9:$H$4077,7,FALSE)=\"X\",IF(VLOOKUP(I32+2,'BD Dias No utiles'!$B$9:$H$4077,7,FALSE)=\"X\",I32+3,I32+2),I32+1),I32),0)","v":"00:00:00"},0]
[null,30,{"$f":"+IF(Simulador!$G$26>='Cronograma Referencial'!B33,EDATE(C32,(B33-B32)*VLOOKUP(Simulador!$G$27,Simulador!$V$18:$W$29,2,FALSE)/30),0)","v":"00:00:00"},0,{"$f":"+IF(Simulador!$G$26>='Cronograma Referencial'!B33,'Cronograma Referencial'!E32+VLOOKUP(Simulador!$G$27,Simulador!$V$18:$W$29,2,FALSE),0)","v":"00:00:00"},0,null,30,"00:00:00",{"$f":"+IFERROR(IF(VLOOKUP(I33,'BD Dias No utiles'!$B$9:$H$4077,7,FALSE)=\"X\",IF(VLOOKUP(I33+1,'BD Dias No utiles'!$B$9:$H$4077,7,FALSE)=\"X\",IF(VLOOKUP(I33+2,'BD Dias No utiles'!$B$9:$H$4077,7,FALSE)=\"X\",I33+3,I33+2),I33+1),I33),0)","v":"00:00:00"},0]
[null,31,{"$f":"+IF(Simulador!$G$26>='Cronograma Referencial'!B34,EDATE(C33,(B34-B33)*VLOOKUP(Simulador!$G$27,Simulador!$V$18:$W$29,2,FALSE)/30),0)","v":"00:00:00"},0,{"$f":"+IF(Simulador!$G$26>='Cronograma Referencial'!B34,'Cronograma Referencial'!E33+VLOOKUP(Simulador!$G$27,Simulador!$V$18:$W$29,2,FALSE),0)","v":"00:00:00"},0,null,31,"00:00:00",{"$f":"+IFERROR(IF(VLOOKUP(I34,'BD Dias No utiles'!$B$9:$H$4077,7,FALSE)=\"X\",IF(VLOOKUP(I34+1,'BD Dias No utiles'!$B$9:$H$4077,7,FALSE)=\"X\",IF(VLOOKUP(I34+2,'BD Dias No utiles'!$B$9:$H$4077,7,FALSE)=\"X\",I34+3,I34+2),I34+1),I34),0)","v":"00:00:00"},0]
[null,32,{"$f":"+IF(Simulador!$G$26>='Cronograma Referencial'!B35,EDATE(C34,(B35-B34)*VLOOKUP(Simulador!$G$27,Simulador!$V$18:$W$29,2,FALSE)/30),0)","v":"00:00:00"},0,{"$f":"+IF(Simulador!$G$26>='Cronograma Referencial'!B35,'Cronograma Referencial'!E34+VLOOKUP(Simulador!$G$27,Simulador!$V$18:$W$29,2,FALSE),0)","v":"00:00:00"},0,null,32,"00:00:00",{"$f":"+IFERROR(IF(VLOOKUP(I35,'BD Dias No utiles'!$B$9:$H$4077,7,FALSE)=\"X\",IF(VLOOKUP(I35+1,'BD Dias No utiles'!$B$9:$H$4077,7,FALSE)=\"X\",IF(VLOOKUP(I35+2,'BD Dias No utiles'!$B$9:$H$4077,7,FALSE)=\"X\",I35+3,I35+2),I35+1),I35),0)","v":"00:00:00"},0]
[null,33,{"$f":"+IF(Simulador!$G$26>='Cronograma Referencial'!B36,EDATE(C35,(B36-B35)*VLOOKUP(Simulador!$G$27,Simulador!$V$18:$W$29,2,FALSE)/30),0)","v":"00:00:00"},0,{"$f":"+IF(Simulador!$G$26>='Cronograma Referencial'!B36,'Cronograma Referencial'!E35+VLOOKUP(Simulador!$G$27,Simulador!$V$18:$W$29,2,FALSE),0)","v":"00:00:00"},0,null,33,"00:00:00",{"$f":"+IFERROR(IF(VLOOKUP(I36,'BD Dias No utiles'!$B$9:$H$4077,7,FALSE)=\"X\",IF(VLOOKUP(I36+1,'BD Dias No utiles'!$B$9:$H$4077,7,FALSE)=\"X\",IF(VLOOKUP(I36+2,'BD Dias No utiles'!$B$9:$H$4077,7,FALSE)=\"X\",I36+3,I36+2),I36+1),I36),0)","v":"00:00:00"},0]
[null,34,{"$f":"+IF(Simulador!$G$26>='Cronograma Referencial'!B37,EDATE(C36,(B37-B36)*VLOOKUP(Simulador!$G$27,Simulador!$V$18:$W$29,2,FALSE)/30),0)","v":"00:00:00"},0,{"$f":"+IF(Simulador!$G$26>='Cronograma Referencial'!B37,'Cronograma Referencial'!E36+VLOOKUP(Simulador!$G$27,Simulador!$V$18:$W$29,2,FALSE),0)","v":"00:00:00"},0,null,34,"00:00:00",{"$f":"+IFERROR(IF(VLOOKUP(I37,'BD Dias No utiles'!$B$9:$H$4077,7,FALSE)=\"X\",IF(VLOOKUP(I37+1,'BD Dias No utiles'!$B$9:$H$4077,7,FALSE)=\"X\",IF(VLOOKUP(I37+2,'BD Dias No utiles'!$B$9:$H$4077,7,FALSE)=\"X\",I37+3,I37+2),I37+1),I37),0)","v":"00:00:00"},0]
[null,35,{"$f":"+IF(Simulador!$G$26>='Cronograma Referencial'!B38,EDATE(C37,(B38-B37)*VLOOKUP(Simulador!$G$27,Simulador!$V$18:$W$29,2,FALSE)/30),0)","v":"00:00:00"},0,{"$f":"+IF(Simulador!$G$26>='Cronograma Referencial'!B38,'Cronograma Referencial'!E37+VLOOKUP(Simulador!$G$27,Simulador!$V$18:$W$29,2,FALSE),0)","v":"00:00:00"},0,null,35,"00:00:00",{"$f":"+IFERROR(IF(VLOOKUP(I38,'BD Dias No utiles'!$B$9:$H$4077,7,FALSE)=\"X\",IF(VLOOKUP(I38+1,'BD Dias No utiles'!$B$9:$H$4077,7,FALSE)=\"X\",IF(VLOOKUP(I38+2,'BD Dias No utiles'!$B$9:$H$4077,7,FALSE)=\"X\",I38+3,I38+2),I38+1),I38),0)","v":"00:00:00"},0]
[null,36,{"$f":"+IF(Simulador!$G$26>='Cronograma Referencial'!B39,EDATE(C38,(B39-B38)*VLOOKUP(Simulador!$G$27,Simulador!$V$18:$W$29,2,FALSE)/30),0)","v":"00:00:00"},0,{"$f":"+IF(Simulador!$G$26>='Cronograma Referencial'!B39,'Cronograma Referencial'!E38+VLOOKUP(Simulador!$G$27,Simulador!$V$18:$W$29,2,FALSE),0)","v":"00:00:00"},0,null,36,"00:00:00",{"$f":"+IFERROR(IF(VLOOKUP(I39,'BD Dias No utiles'!$B$9:$H$4077,7,FALSE)=\"X\",IF(VLOOKUP(I39+1,'BD Dias No utiles'!$B$9:$H$4077,7,FALSE)=\"X\",IF(VLOOKUP(I39+2,'BD Dias No utiles'!$B$9:$H$4077,7,FALSE)=\"X\",I39+3,I39+2),I39+1),I39),0)","v":"00:00:00"},0]
[null,37,{"$f":"+IF(Simulador!$G$26>='Cronograma Referencial'!B40,EDATE(C39,(B40-B39)*VLOOKUP(Simulador!$G$27,Simulador!$V$18:$W$29,2,FALSE)/30),0)","v":"00:00:00"},0,{"$f":"+IF(Simulador!$G$26>='Cronograma Referencial'!B40,'Cronograma Referencial'!E39+VLOOKUP(Simulador!$G$27,Simulador!$V$18:$W$29,2,FALSE),0)","v":"00:00:00"},0,null,37,"00:00:00",{"$f":"+IFERROR(IF(VLOOKUP(I40,'BD Dias No utiles'!$B$9:$H$4077,7,FALSE)=\"X\",IF(VLOOKUP(I40+1,'BD Dias No utiles'!$B$9:$H$4077,7,FALSE)=\"X\",IF(VLOOKUP(I40+2,'BD Dias No utiles'!$B$9:$H$4077,7,FALSE)=\"X\",I40+3,I40+2),I40+1),I40),0)","v":"00:00:00"},0]
[null,38,{"$f":"+IF(Simulador!$G$26>='Cronograma Referencial'!B41,EDATE(C40,(B41-B40)*VLOOKUP(Simulador!$G$27,Simulador!$V$18:$W$29,2,FALSE)/30),0)","v":"00:00:00"},0,{"$f":"+IF(Simulador!$G$26>='Cronograma Referencial'!B41,'Cronograma Referencial'!E40+VLOOKUP(Simulador!$G$27,Simulador!$V$18:$W$29,2,FALSE),0)","v":"00:00:00"},0,null,38,"00:00:00",{"$f":"+IFERROR(IF(VLOOKUP(I41,'BD Dias No utiles'!$B$9:$H$4077,7,FALSE)=\"X\",IF(VLOOKUP(I41+1,'BD Dias No utiles'!$B$9:$H$4077,7,FALSE)=\"X\",IF(VLOOKUP(I41+2,'BD Dias No utiles'!$B$9:$H$4077,7,FALSE)=\"X\",I41+3,I41+2),I41+1),I41),0)","v":"00:00:00"},0]
[null,39,{"$f":"+IF(Simulador!$G$26>='Cronograma Referencial'!B42,EDATE(C41,(B42-B41)*VLOOKUP(Simulador!$G$27,Simulador!$V$18:$W$29,2,FALSE)/30),0)","v":"00:00:00"},0,{"$f":"+IF(Simulador!$G$26>='Cronograma Referencial'!B42,'Cronograma Referencial'!E41+VLOOKUP(Simulador!$G$27,Simulador!$V$18:$W$29,2,FALSE),0)","v":"00:00:00"},0,null,39,"00:00:00",{"$f":"+IFERROR(IF(VLOOKUP(I42,'BD Dias No utiles'!$B$9:$H$4077,7,FALSE)=\"X\",IF(VLOOKUP(I42+1,'BD Dias No utiles'!$B$9:$H$4077,7,FALSE)=\"X\",IF(VLOOKUP(I42+2,'BD Dias No utiles'!$B$9:$H$4077,7,FALSE)=\"X\",I42+3,I42+2),I42+1),I42),0)","v":"00:00:00"},0]
[null,40,{"$f":"+IF(Simulador!$G$26>='Cronograma Referencial'!B43,EDATE(C42,(B43-B42)*VLOOKUP(Simulador!$G$27,Simulador!$V$18:$W$29,2,FALSE)/30),0)","v":"00:00:00"},0,{"$f":"+IF(Simulador!$G$26>='Cronograma Referencial'!B43,'Cronograma Referencial'!E42+VLOOKUP(Simulador!$G$27,Simulador!$V$18:$W$29,2,FALSE),0)","v":"00:00:00"},0,null,40,"00:00:00",{"$f":"+IFERROR(IF(VLOOKUP(I43,'BD Dias No utiles'!$B$9:$H$4077,7,FALSE)=\"X\",IF(VLOOKUP(I43+1,'BD Dias No utiles'!$B$9:$H$4077,7,FALSE)=\"X\",IF(VLOOKUP(I43+2,'BD Dias No utiles'!$B$9:$H$4077,7,FALSE)=\"X\",I43+3,I43+2),I43+1),I43),0)","v":"00:00:00"},0]
[null,41,{"$f":"+IF(Simulador!$G$26>='Cronograma Referencial'!B44,EDATE(C43,(B44-B43)*VLOOKUP(Simulador!$G$27,Simulador!$V$18:$W$29,2,FALSE)/30),0)","v":"00:00:00"},0,{"$f":"+IF(Simulador!$G$26>='Cronograma Referencial'!B44,'Cronograma Referencial'!E43+VLOOKUP(Simulador!$G$27,Simulador!$V$18:$W$29,2,FALSE),0)","v":"00:00:00"},0,null,41,"00:00:00",{"$f":"+IFERROR(IF(VLOOKUP(I44,'BD Dias No utiles'!$B$9:$H$4077,7,FALSE)=\"X\",IF(VLOOKUP(I44+1,'BD Dias No utiles'!$B$9:$H$4077,7,FALSE)=\"X\",IF(VLOOKUP(I44+2,'BD Dias No utiles'!$B$9:$H$4077,7,FALSE)=\"X\",I44+3,I44+2),I44+1),I44),0)","v":"00:00:00"},0]
[null,42,{"$f":"+IF(Simulador!$G$26>='Cronograma Referencial'!B45,EDATE(C44,(B45-B44)*VLOOKUP(Simulador!$G$27,Simulador!$V$18:$W$29,2,FALSE)/30),0)","v":"00:00:00"},0,{"$f":"+IF(Simulador!$G$26>='Cronograma Referencial'!B45,'Cronograma Referencial'!E44+VLOOKUP(Simulador!$G$27,Simulador!$V$18:$W$29,2,FALSE),0)","v":"00:00:00"},0,null,42,"00:00:00",{"$f":"+IFERROR(IF(VLOOKUP(I45,'BD Dias No utiles'!$B$9:$H$4077,7,FALSE)=\"X\",IF(VLOOKUP(I45+1,'BD Dias No utiles'!$B$9:$H$4077,7,FALSE)=\"X\",IF(VLOOKUP(I45+2,'BD Dias No utiles'!$B$9:$H$4077,7,FALSE)=\"X\",I45+3,I45+2),I45+1),I45),0)","v":"00:00:00"},0]
[null,43,{"$f":"+IF(Simulador!$G$26>='Cronograma Referencial'!B46,EDATE(C45,(B46-B45)*VLOOKUP(Simulador!$G$27,Simulador!$V$18:$W$29,2,FALSE)/30),0)","v":"00:00:00"},0,{"$f":"+IF(Simulador!$G$26>='Cronograma Referencial'!B46,'Cronograma Referencial'!E45+VLOOKUP(Simulador!$G$27,Simulador!$V$18:$W$29,2,FALSE),0)","v":"00:00:00"},0,null,43,"00:00:00",{"$f":"+IFERROR(IF(VLOOKUP(I46,'BD Dias No utiles'!$B$9:$H$4077,7,FALSE)=\"X\",IF(VLOOKUP(I46+1,'BD Dias No utiles'!$B$9:$H$4077,7,FALSE)=\"X\",IF(VLOOKUP(I46+2,'BD Dias No utiles'!$B$9:$H$4077,7,FALSE)=\"X\",I46+3,I46+2),I46+1),I46),0)","v":"00:00:00"},0]
[null,44,{"$f":"+IF(Simulador!$G$26>='Cronograma Referencial'!B47,EDATE(C46,(B47-B46)*VLOOKUP(Simulador!$G$27,Simulador!$V$18:$W$29,2,FALSE)/30),0)","v":"00:00:00"},0,{"$f":"+IF(Simulador!$G$26>='Cronograma Referencial'!B47,'Cronograma Referencial'!E46+VLOOKUP(Simulador!$G$27,Simulador!$V$18:$W$29,2,FALSE),0)","v":"00:00:00"},0,null,44,"00:00:00",{"$f":"+IFERROR(IF(VLOOKUP(I47,'BD Dias No utiles'!$B$9:$H$4077,7,FALSE)=\"X\",IF(VLOOKUP(I47+1,'BD Dias No utiles'!$B$9:$H$4077,7,FALSE)=\"X\",IF(VLOOKUP(I47+2,'BD Dias No utiles'!$B$9:$H$4077,7,FALSE)=\"X\",I47+3,I47+2),I47+1),I47),0)","v":"00:00:00"},0]
[null,45,{"$f":"+IF(Simulador!$G$26>='Cronograma Referencial'!B48,EDATE(C47,(B48-B47)*VLOOKUP(Simulador!$G$27,Simulador!$V$18:$W$29,2,FALSE)/30),0)","v":"00:00:00"},0,{"$f":"+IF(Simulador!$G$26>='Cronograma Referencial'!B48,'Cronograma Referencial'!E47+VLOOKUP(Simulador!$G$27,Simulador!$V$18:$W$29,2,FALSE),0)","v":"00:00:00"},0,null,45,"00:00:00",{"$f":"+IFERROR(IF(VLOOKUP(I48,'BD Dias No utiles'!$B$9:$H$4077,7,FALSE)=\"X\",IF(VLOOKUP(I48+1,'BD Dias No utiles'!$B$9:$H$4077,7,FALSE)=\"X\",IF(VLOOKUP(I48+2,'BD Dias No utiles'!$B$9:$H$4077,7,FALSE)=\"X\",I48+3,I48+2),I48+1),I48),0)","v":"00:00:00"},0]
[{"$f":"+E49-C3","v":-43117},46,{"$f":"+IF(Simulador!$G$26>='Cronograma Referencial'!B49,EDATE(C48,(B49-B48)*VLOOKUP(Simulador!$G$27,Simulador!$V$18:$W$29,2,FALSE)/30),0)","v":"00:00:00"},0,{"$f":"+IF(Simulador!$G$26>='Cronograma Referencial'!B49,'Cronograma Referencial'!E48+VLOOKUP(Simulador!$G$27,Simulador!$V$18:$W$29,2,FALSE),0)","v":"00:00:00"},0,null,46,"00:00:00",{"$f":"+IFERROR(IF(VLOOKUP(I49,'BD Dias No utiles'!$B$9:$H$4077,7,FALSE)=\"X\",IF(VLOOKUP(I49+1,'BD Dias No utiles'!$B$9:$H$4077,7,FALSE)=\"X\",IF(VLOOKUP(I49+2,'BD Dias No utiles'!$B$9:$H$4077,7,FALSE)=\"X\",I49+3,I49+2),I49+1),I49),0)","v":"00:00:00"},0]
[null,47,{"$f":"+IF(Simulador!$G$26>='Cronograma Referencial'!B50,EDATE(C49,(B50-B49)*VLOOKUP(Simulador!$G$27,Simulador!$V$18:$W$29,2,FALSE)/30),0)","v":"00:00:00"},0,{"$f":"+IF(Simulador!$G$26>='Cronograma Referencial'!B50,'Cronograma Referencial'!E49+VLOOKUP(Simulador!$G$27,Simulador!$V$18:$W$29,2,FALSE),0)","v":"00:00:00"},0,null,47,"00:00:00",{"$f":"+IFERROR(IF(VLOOKUP(I50,'BD Dias No utiles'!$B$9:$H$4077,7,FALSE)=\"X\",IF(VLOOKUP(I50+1,'BD Dias No utiles'!$B$9:$H$4077,7,FALSE)=\"X\",IF(VLOOKUP(I50+2,'BD Dias No utiles'!$B$9:$H$4077,7,FALSE)=\"X\",I50+3,I50+2),I50+1),I50),0)","v":"00:00:00"},0]
[null,48,{"$f":"+IF(Simulador!$G$26>='Cronograma Referencial'!B51,EDATE(C50,(B51-B50)*VLOOKUP(Simulador!$G$27,Simulador!$V$18:$W$29,2,FALSE)/30),0)","v":"00:00:00"},0,{"$f":"+IF(Simulador!$G$26>='Cronograma Referencial'!B51,'Cronograma Referencial'!E50+VLOOKUP(Simulador!$G$27,Simulador!$V$18:$W$29,2,FALSE),0)","v":"00:00:00"},0,null,48,"00:00:00",{"$f":"+IFERROR(IF(VLOOKUP(I51,'BD Dias No utiles'!$B$9:$H$4077,7,FALSE)=\"X\",IF(VLOOKUP(I51+1,'BD Dias No utiles'!$B$9:$H$4077,7,FALSE)=\"X\",IF(VLOOKUP(I51+2,'BD Dias No utiles'!$B$9:$H$4077,7,FALSE)=\"X\",I51+3,I51+2),I51+1),I51),0)","v":"00:00:00"},0]
[null,49,{"$f":"+IF(Simulador!$G$26>='Cronograma Referencial'!B52,EDATE(C51,(B52-B51)*VLOOKUP(Simulador!$G$27,Simulador!$V$18:$W$29,2,FALSE)/30),0)","v":"00:00:00"},0,{"$f":"+IF(Simulador!$G$26>='Cronograma Referencial'!B52,'Cronograma Referencial'!E51+VLOOKUP(Simulador!$G$27,Simulador!$V$18:$W$29,2,FALSE),0)","v":"00:00:00"},0,null,49,"00:00:00",{"$f":"+IFERROR(IF(VLOOKUP(I52,'BD Dias No utiles'!$B$9:$H$4077,7,FALSE)=\"X\",IF(VLOOKUP(I52+1,'BD Dias No utiles'!$B$9:$H$4077,7,FALSE)=\"X\",IF(VLOOKUP(I52+2,'BD Dias No utiles'!$B$9:$H$4077,7,FALSE)=\"X\",I52+3,I52+2),I52+1),I52),0)","v":"00:00:00"},0]
[null,50,{"$f":"+IF(Simulador!$G$26>='Cronograma Referencial'!B53,EDATE(C52,(B53-B52)*VLOOKUP(Simulador!$G$27,Simulador!$V$18:$W$29,2,FALSE)/30),0)","v":"00:00:00"},0,{"$f":"+IF(Simulador!$G$26>='Cronograma Referencial'!B53,'Cronograma Referencial'!E52+VLOOKUP(Simulador!$G$27,Simulador!$V$18:$W$29,2,FALSE),0)","v":"00:00:00"},0,null,50,"00:00:00",{"$f":"+IFERROR(IF(VLOOKUP(I53,'BD Dias No utiles'!$B$9:$H$4077,7,FALSE)=\"X\",IF(VLOOKUP(I53+1,'BD Dias No utiles'!$B$9:$H$4077,7,FALSE)=\"X\",IF(VLOOKUP(I53+2,'BD Dias No utiles'!$B$9:$H$4077,7,FALSE)=\"X\",I53+3,I53+2),I53+1),I53),0)","v":"00:00:00"},0]
[null,51,{"$f":"+IF(Simulador!$G$26>='Cronograma Referencial'!B54,EDATE(C53,(B54-B53)*VLOOKUP(Simulador!$G$27,Simulador!$V$18:$W$29,2,FALSE)/30),0)","v":"00:00:00"},0,{"$f":"+IF(Simulador!$G$26>='Cronograma Referencial'!B54,'Cronograma Referencial'!E53+VLOOKUP(Simulador!$G$27,Simulador!$V$18:$W$29,2,FALSE),0)","v":"00:00:00"},0,null,51,"00:00:00",{"$f":"+IFERROR(IF(VLOOKUP(I54,'BD Dias No utiles'!$B$9:$H$4077,7,FALSE)=\"X\",IF(VLOOKUP(I54+1,'BD Dias No utiles'!$B$9:$H$4077,7,FALSE)=\"X\",IF(VLOOKUP(I54+2,'BD Dias No utiles'!$B$9:$H$4077,7,FALSE)=\"X\",I54+3,I54+2),I54+1),I54),0)","v":"00:00:00"},0]
[null,52,{"$f":"+IF(Simulador!$G$26>='Cronograma Referencial'!B55,EDATE(C54,(B55-B54)*VLOOKUP(Simulador!$G$27,Simulador!$V$18:$W$29,2,FALSE)/30),0)","v":"00:00:00"},0,{"$f":"+IF(Simulador!$G$26>='Cronograma Referencial'!B55,'Cronograma Referencial'!E54+VLOOKUP(Simulador!$G$27,Simulador!$V$18:$W$29,2,FALSE),0)","v":"00:00:00"},0,null,52,"00:00:00",{"$f":"+IFERROR(IF(VLOOKUP(I55,'BD Dias No utiles'!$B$9:$H$4077,7,FALSE)=\"X\",IF(VLOOKUP(I55+1,'BD Dias No utiles'!$B$9:$H$4077,7,FALSE)=\"X\",IF(VLOOKUP(I55+2,'BD Dias No utiles'!$B$9:$H$4077,7,FALSE)=\"X\",I55+3,I55+2),I55+1),I55),0)","v":"00:00:00"},0]
[null,53,{"$f":"+IF(Simulador!$G$26>='Cronograma Referencial'!B56,EDATE(C55,(B56-B55)*VLOOKUP(Simulador!$G$27,Simulador!$V$18:$W$29,2,FALSE)/30),0)","v":"00:00:00"},0,{"$f":"+IF(Simulador!$G$26>='Cronograma Referencial'!B56,'Cronograma Referencial'!E55+VLOOKUP(Simulador!$G$27,Simulador!$V$18:$W$29,2,FALSE),0)","v":"00:00:00"},0,null,53,"00:00:00",{"$f":"+IFERROR(IF(VLOOKUP(I56,'BD Dias No utiles'!$B$9:$H$4077,7,FALSE)=\"X\",IF(VLOOKUP(I56+1,'BD Dias No utiles'!$B$9:$H$4077,7,FALSE)=\"X\",IF(VLOOKUP(I56+2,'BD Dias No utiles'!$B$9:$H$4077,7,FALSE)=\"X\",I56+3,I56+2),I56+1),I56),0)","v":"00:00:00"},0]
[null,54,{"$f":"+IF(Simulador!$G$26>='Cronograma Referencial'!B57,EDATE(C56,(B57-B56)*VLOOKUP(Simulador!$G$27,Simulador!$V$18:$W$29,2,FALSE)/30),0)","v":"00:00:00"},0,{"$f":"+IF(Simulador!$G$26>='Cronograma Referencial'!B57,'Cronograma Referencial'!E56+VLOOKUP(Simulador!$G$27,Simulador!$V$18:$W$29,2,FALSE),0)","v":"00:00:00"},0,null,54,"00:00:00",{"$f":"+IFERROR(IF(VLOOKUP(I57,'BD Dias No utiles'!$B$9:$H$4077,7,FALSE)=\"X\",IF(VLOOKUP(I57+1,'BD Dias No utiles'!$B$9:$H$4077,7,FALSE)=\"X\",IF(VLOOKUP(I57+2,'BD Dias No utiles'!$B$9:$H$4077,7,FALSE)=\"X\",I57+3,I57+2),I57+1),I57),0)","v":"00:00:00"},0]
[null,55,{"$f":"+IF(Simulador!$G$26>='Cronograma Referencial'!B58,EDATE(C57,(B58-B57)*VLOOKUP(Simulador!$G$27,Simulador!$V$18:$W$29,2,FALSE)/30),0)","v":"00:00:00"},0,{"$f":"+IF(Simulador!$G$26>='Cronograma Referencial'!B58,'Cronograma Referencial'!E57+VLOOKUP(Simulador!$G$27,Simulador!$V$18:$W$29,2,FALSE),0)","v":"00:00:00"},0,null,55,"00:00:00",{"$f":"+IFERROR(IF(VLOOKUP(I58,'BD Dias No utiles'!$B$9:$H$4077,7,FALSE)=\"X\",IF(VLOOKUP(I58+1,'BD Dias No utiles'!$B$9:$H$4077,7,FALSE)=\"X\",IF(VLOOKUP(I58+2,'BD Dias No utiles'!$B$9:$H$4077,7,FALSE)=\"X\",I58+3,I58+2),I58+1),I58),0)","v":"00:00:00"},0]
[null,56,{"$f":"+IF(Simulador!$G$26>='Cronograma Referencial'!B59,EDATE(C58,(B59-B58)*VLOOKUP(Simulador!$G$27,Simulador!$V$18:$W$29,2,FALSE)/30),0)","v":"00:00:00"},0,{"$f":"+IF(Simulador!$G$26>='Cronograma Referencial'!B59,'Cronograma Referencial'!E58+VLOOKUP(Simulador!$G$27,Simulador!$V$18:$W$29,2,FALSE),0)","v":"00:00:00"},0,null,56,"00:00:00",{"$f":"+IFERROR(IF(VLOOKUP(I59,'BD Dias No utiles'!$B$9:$H$4077,7,FALSE)=\"X\",IF(VLOOKUP(I59+1,'BD Dias No utiles'!$B$9:$H$4077,7,FALSE)=\"X\",IF(VLOOKUP(I59+2,'BD Dias No utiles'!$B$9:$H$4077,7,FALSE)=\"X\",I59+3,I59+2),I59+1),I59),0)","v":"00:00:00"},0]
[null,57,{"$f":"+IF(Simulador!$G$26>='Cronograma Referencial'!B60,EDATE(C59,(B60-B59)*VLOOKUP(Simulador!$G$27,Simulador!$V$18:$W$29,2,FALSE)/30),0)","v":"00:00:00"},0,{"$f":"+IF(Simulador!$G$26>='Cronograma Referencial'!B60,'Cronograma Referencial'!E59+VLOOKUP(Simulador!$G$27,Simulador!$V$18:$W$29,2,FALSE),0)","v":"00:00:00"},0,null,57,"00:00:00",{"$f":"+IFERROR(IF(VLOOKUP(I60,'BD Dias No utiles'!$B$9:$H$4077,7,FALSE)=\"X\",IF(VLOOKUP(I60+1,'BD Dias No utiles'!$B$9:$H$4077,7,FALSE)=\"X\",IF(VLOOKUP(I60+2,'BD Dias No utiles'!$B$9:$H$4077,7,FALSE)=\"X\",I60+3,I60+2),I60+1),I60),0)","v":"00:00:00"},0]
[null,58,{"$f":"+IF(Simulador!$G$26>='Cronograma Referencial'!B61,EDATE(C60,(B61-B60)*VLOOKUP(Simulador!$G$27,Simulador!$V$18:$W$29,2,FALSE)/30),0)","v":"00:00:00"},0,{"$f":"+IF(Simulador!$G$26>='Cronograma Referencial'!B61,'Cronograma Referencial'!E60+VLOOKUP(Simulador!$G$27,Simulador!$V$18:$W$29,2,FALSE),0)","v":"00:00:00"},0,null,58,"00:00:00",{"$f":"+IFERROR(IF(VLOOKUP(I61,'BD Dias No utiles'!$B$9:$H$4077,7,FALSE)=\"X\",IF(VLOOKUP(I61+1,'BD Dias No utiles'!$B$9:$H$4077,7,FALSE)=\"X\",IF(VLOOKUP(I61+2,'BD Dias No utiles'!$B$9:$H$4077,7,FALSE)=\"X\",I61+3,I61+2),I61+1),I61),0)","v":"00:00:00"},0]
[null,59,{"$f":"+IF(Simulador!$G$26>='Cronograma Referencial'!B62,EDATE(C61,(B62-B61)*VLOOKUP(Simulador!$G$27,Simulador!$V$18:$W$29,2,FALSE)/30),0)","v":"00:00:00"},0,{"$f":"+IF(Simulador!$G$26>='Cronograma Referencial'!B62,'Cronograma Referencial'!E61+VLOOKUP(Simulador!$G$27,Simulador!$V$18:$W$29,2,FALSE),0)","v":"00:00:00"},0,null,59,"00:00:00",{"$f":"+IFERROR(IF(VLOOKUP(I62,'BD Dias No utiles'!$B$9:$H$4077,7,FALSE)=\"X\",IF(VLOOKUP(I62+1,'BD Dias No utiles'!$B$9:$H$4077,7,FALSE)=\"X\",IF(VLOOKUP(I62+2,'BD Dias No utiles'!$B$9:$H$4077,7,FALSE)=\"X\",I62+3,I62+2),I62+1),I62),0)","v":"00:00:00"},0]
[null,60,{"$f":"+IF(Simulador!$G$26>='Cronograma Referencial'!B63,EDATE(C62,(B63-B62)*VLOOKUP(Simulador!$G$27,Simulador!$V$18:$W$29,2,FALSE)/30),0)","v":"00:00:00"},0,{"$f":"+IF(Simulador!$G$26>='Cronograma Referencial'!B63,'Cronograma Referencial'!E62+VLOOKUP(Simulador!$G$27,Simulador!$V$18:$W$29,2,FALSE),0)","v":"00:00:00"},0,null,60,"00:00:00",{"$f":"+IFERROR(IF(VLOOKUP(I63,'BD Dias No utiles'!$B$9:$H$4077,7,FALSE)=\"X\",IF(VLOOKUP(I63+1,'BD Dias No utiles'!$B$9:$H$4077,7,FALSE)=\"X\",IF(VLOOKUP(I63+2,'BD Dias No utiles'!$B$9:$H$4077,7,FALSE)=\"X\",I63+3,I63+2),I63+1),I63),0)","v":"00:00:00"},0]
[null,61,{"$f":"+IF(Simulador!$G$26>='Cronograma Referencial'!B64,EDATE(C63,(B64-B63)*VLOOKUP(Simulador!$G$27,Simulador!$V$18:$W$29,2,FALSE)/30),0)","v":"00:00:00"},0,{"$f":"+IF(Simulador!$G$26>='Cronograma Referencial'!B64,'Cronograma Referencial'!E63+VLOOKUP(Simulador!$G$27,Simulador!$V$18:$W$29,2,FALSE),0)","v":"00:00:00"},0,null,61,"00:00:00",{"$f":"+IFERROR(IF(VLOOKUP(I64,'BD Dias No utiles'!$B$9:$H$4077,7,FALSE)=\"X\",IF(VLOOKUP(I64+1,'BD Dias No utiles'!$B$9:$H$4077,7,FALSE)=\"X\",IF(VLOOKUP(I64+2,'BD Dias No utiles'!$B$9:$H$4077,7,FALSE)=\"X\",I64+3,I64+2),I64+1),I64),0)","v":"00:00:00"},0]
[null,62,{"$f":"+IF(Simulador!$G$26>='Cronograma Referencial'!B65,EDATE(C64,(B65-B64)*VLOOKUP(Simulador!$G$27,Simulador!$V$18:$W$29,2,FALSE)/30),0)","v":"00:00:00"},0,{"$f":"+IF(Simulador!$G$26>='Cronograma Referencial'!B65,'Cronograma Referencial'!E64+VLOOKUP(Simulador!$G$27,Simulador!$V$18:$W$29,2,FALSE),0)","v":"00:00:00"},0,null,62,"00:00:00",{"$f":"+IFERROR(IF(VLOOKUP(I65,'BD Dias No utiles'!$B$9:$H$4077,7,FALSE)=\"X\",IF(VLOOKUP(I65+1,'BD Dias No utiles'!$B$9:$H$4077,7,FALSE)=\"X\",IF(VLOOKUP(I65+2,'BD Dias No utiles'!$B$9:$H$4077,7,FALSE)=\"X\",I65+3,I65+2),I65+1),I65),0)","v":"00:00:00"},0]
[null,63,{"$f":"+IF(Simulador!$G$26>='Cronograma Referencial'!B66,EDATE(C65,(B66-B65)*VLOOKUP(Simulador!$G$27,Simulador!$V$18:$W$29,2,FALSE)/30),0)","v":"00:00:00"},0,{"$f":"+IF(Simulador!$G$26>='Cronograma Referencial'!B66,'Cronograma Referencial'!E65+VLOOKUP(Simulador!$G$27,Simulador!$V$18:$W$29,2,FALSE),0)","v":"00:00:00"},0,null,63,"00:00:00",{"$f":"+IFERROR(IF(VLOOKUP(I66,'BD Dias No utiles'!$B$9:$H$4077,7,FALSE)=\"X\",IF(VLOOKUP(I66+1,'BD Dias No utiles'!$B$9:$H$4077,7,FALSE)=\"X\",IF(VLOOKUP(I66+2,'BD Dias No utiles'!$B$9:$H$4077,7,FALSE)=\"X\",I66+3,I66+2),I66+1),I66),0)","v":"00:00:00"},0]
[null,64,{"$f":"+IF(Simulador!$G$26>='Cronograma Referencial'!B67,EDATE(C66,(B67-B66)*VLOOKUP(Simulador!$G$27,Simulador!$V$18:$W$29,2,FALSE)/30),0)","v":"00:00:00"},0,{"$f":"+IF(Simulador!$G$26>='Cronograma Referencial'!B67,'Cronograma Referencial'!E66+VLOOKUP(Simulador!$G$27,Simulador!$V$18:$W$29,2,FALSE),0)","v":"00:00:00"},0,null,64,"00:00:00",{"$f":"+IFERROR(IF(VLOOKUP(I67,'BD Dias No utiles'!$B$9:$H$4077,7,FALSE)=\"X\",IF(VLOOKUP(I67+1,'BD Dias No utiles'!$B$9:$H$4077,7,FALSE)=\"X\",IF(VLOOKUP(I67+2,'BD Dias No utiles'!$B$9:$H$4077,7,FALSE)=\"X\",I67+3,I67+2),I67+1),I67),0)","v":"00:00:00"},0]
[null,65,{"$f":"+IF(Simulador!$G$26>='Cronograma Referencial'!B68,EDATE(C67,(B68-B67)*VLOOKUP(Simulador!$G$27,Simulador!$V$18:$W$29,2,FALSE)/30),0)","v":"00:00:00"},0,{"$f":"+IF(Simulador!$G$26>='Cronograma Referencial'!B68,'Cronograma Referencial'!E67+VLOOKUP(Simulador!$G$27,Simulador!$V$18:$W$29,2,FALSE),0)","v":"00:00:00"},0,null,{"$f":"+B68","v":65},"00:00:00",{"$f":"+IFERROR(IF(VLOOKUP(I68,'BD Dias No utiles'!$B$9:$H$4077,7,FALSE)=\"X\",IF(VLOOKUP(I68+1,'BD Dias No utiles'!$B$9:$H$4077,7,FALSE)=\"X\",IF(VLOOKUP(I68+2,'BD Dias No utiles'!$B$9:$H$4077,7,FALSE)=\"X\",I68+3,I68+2),I68+1),I68),0)","v":"00:00:00"},0]
[null,66,{"$f":"+IF(Simulador!$G$26>='Cronograma Referencial'!B69,EDATE(C68,(B69-B68)*VLOOKUP(Simulador!$G$27,Simulador!$V$18:$W$29,2,FALSE)/30),0)","v":"00:00:00"},{"$f":"+C69-C68","v":0},{"$f":"+IF(Simulador!$G$26>='Cronograma Referencial'!B69,'Cronograma Referencial'!E68+VLOOKUP(Simulador!$G$27,Simulador!$V$18:$W$29,2,FALSE),0)","v":"00:00:00"},0,null,66,{"$f":"+HLOOKUP($I$2,$C$2:$E$418,H69+2)","v":"00:00:00"},{"$f":"+IFERROR(IF(VLOOKUP(I69,'BD Dias No utiles'!$B$9:$H$4077,7,FALSE)=\"X\",IF(VLOOKUP(I69+1,'BD Dias No utiles'!$B$9:$H$4077,7,FALSE)=\"X\",IF(VLOOKUP(I69+2,'BD Dias No utiles'!$B$9:$H$4077,7,FALSE)=\"X\",I69+3,I69+2),I69+1),I69),0)","v":"00:00:00"},{"$f":"+I69-I68","v":0}]
[null,{"$f":"+B69+1","v":67},{"$f":"+IF(Simulador!$G$26>='Cronograma Referencial'!B70,EDATE(C69,(B70-B69)*VLOOKUP(Simulador!$G$27,Simulador!$V$18:$W$29,2,FALSE)/30),0)","v":"00:00:00"},0,{"$f":"+IF(Simulador!$G$26>='Cronograma Referencial'!B70,'Cronograma Referencial'!E69+VLOOKUP(Simulador!$G$27,Simulador!$V$18:$W$29,2,FALSE),0)","v":"00:00:00"},{"$f":"+E70-E69","v":0},null,67,"00:00:00",{"$f":"+IFERROR(IF(VLOOKUP(I70,'BD Dias No utiles'!$B$9:$H$4077,7,FALSE)=\"X\",IF(VLOOKUP(I70+1,'BD Dias No utiles'!$B$9:$H$4077,7,FALSE)=\"X\",IF(VLOOKUP(I70+2,'BD Dias No utiles'!$B$9:$H$4077,7,FALSE)=\"X\",I70+3,I70+2),I70+1),I70),0)","v":"00:00:00"},0]
[null,68,{"$f":"+IF(Simulador!$G$26>='Cronograma Referencial'!B71,EDATE(C70,(B71-B70)*VLOOKUP(Simulador!$G$27,Simulador!$V$18:$W$29,2,FALSE)/30),0)","v":"00:00:00"},0,{"$f":"+IF(Simulador!$G$26>='Cronograma Referencial'!B71,'Cronograma Referencial'!E70+VLOOKUP(Simulador!$G$27,Simulador!$V$18:$W$29,2,FALSE),0)","v":"00:00:00"},0,null,68,"00:00:00",{"$f":"+IFERROR(IF(VLOOKUP(I71,'BD Dias No utiles'!$B$9:$H$4077,7,FALSE)=\"X\",IF(VLOOKUP(I71+1,'BD Dias No utiles'!$B$9:$H$4077,7,FALSE)=\"X\",IF(VLOOKUP(I71+2,'BD Dias No utiles'!$B$9:$H$4077,7,FALSE)=\"X\",I71+3,I71+2),I71+1),I71),0)","v":"00:00:00"},0]
[null,69,{"$f":"+IF(Simulador!$G$26>='Cronograma Referencial'!B72,EDATE(C71,(B72-B71)*VLOOKUP(Simulador!$G$27,Simulador!$V$18:$W$29,2,FALSE)/30),0)","v":"00:00:00"},0,{"$f":"+IF(Simulador!$G$26>='Cronograma Referencial'!B72,'Cronograma Referencial'!E71+VLOOKUP(Simulador!$G$27,Simulador!$V$18:$W$29,2,FALSE),0)","v":"00:00:00"},0,null,69,"00:00:00",{"$f":"+IFERROR(IF(VLOOKUP(I72,'BD Dias No utiles'!$B$9:$H$4077,7,FALSE)=\"X\",IF(VLOOKUP(I72+1,'BD Dias No utiles'!$B$9:$H$4077,7,FALSE)=\"X\",IF(VLOOKUP(I72+2,'BD Dias No utiles'!$B$9:$H$4077,7,FALSE)=\"X\",I72+3,I72+2),I72+1),I72),0)","v":"00:00:00"},0]
[null,70,{"$f":"+IF(Simulador!$G$26>='Cronograma Referencial'!B73,EDATE(C72,(B73-B72)*VLOOKUP(Simulador!$G$27,Simulador!$V$18:$W$29,2,FALSE)/30),0)","v":"00:00:00"},0,{"$f":"+IF(Simulador!$G$26>='Cronograma Referencial'!B73,'Cronograma Referencial'!E72+VLOOKUP(Simulador!$G$27,Simulador!$V$18:$W$29,2,FALSE),0)","v":"00:00:00"},0,null,70,"00:00:00",{"$f":"+IFERROR(IF(VLOOKUP(I73,'BD Dias No utiles'!$B$9:$H$4077,7,FALSE)=\"X\",IF(VLOOKUP(I73+1,'BD Dias No utiles'!$B$9:$H$4077,7,FALSE)=\"X\",IF(VLOOKUP(I73+2,'BD Dias No utiles'!$B$9:$H$4077,7,FALSE)=\"X\",I73+3,I73+2),I73+1),I73),0)","v":"00:00:00"},0]
[null,71,{"$f":"+IF(Simulador!$G$26>='Cronograma Referencial'!B74,EDATE(C73,(B74-B73)*VLOOKUP(Simulador!$G$27,Simulador!$V$18:$W$29,2,FALSE)/30),0)","v":"00:00:00"},0,{"$f":"+IF(Simulador!$G$26>='Cronograma Referencial'!B74,'Cronograma Referencial'!E73+VLOOKUP(Simulador!$G$27,Simulador!$V$18:$W$29,2,FALSE),0)","v":"00:00:00"},0,null,71,"00:00:00",{"$f":"+IFERROR(IF(VLOOKUP(I74,'BD Dias No utiles'!$B$9:$H$4077,7,FALSE)=\"X\",IF(VLOOKUP(I74+1,'BD Dias No utiles'!$B$9:$H$4077,7,FALSE)=\"X\",IF(VLOOKUP(I74+2,'BD Dias No utiles'!$B$9:$H$4077,7,FALSE)=\"X\",I74+3,I74+2),I74+1),I74),0)","v":"00:00:00"},0]
[null,72,{"$f":"+IF(Simulador!$G$26>='Cronograma Referencial'!B75,EDATE(C74,(B75-B74)*VLOOKUP(Simulador!$G$27,Simulador!$V$18:$W$29,2,FALSE)/30),0)","v":"00:00:00"},0,{"$f":"+IF(Simulador!$G$26>='Cronograma Referencial'!B75,'Cronograma Referencial'!E74+VLOOKUP(Simulador!$G$27,Simulador!$V$18:$W$29,2,FALSE),0)","v":"00:00:00"},0,null,72,"00:00:00",{"$f":"+IFERROR(IF(VLOOKUP(I75,'BD Dias No utiles'!$B$9:$H$4077,7,FALSE)=\"X\",IF(VLOOKUP(I75+1,'BD Dias No utiles'!$B$9:$H$4077,7,FALSE)=\"X\",IF(VLOOKUP(I75+2,'BD Dias No utiles'!$B$9:$H$4077,7,FALSE)=\"X\",I75+3,I75+2),I75+1),I75),0)","v":"00:00:00"},0]
[null,73,{"$f":"+IF(Simulador!$G$26>='Cronograma Referencial'!B76,EDATE(C75,(B76-B75)*VLOOKUP(Simulador!$G$27,Simulador!$V$18:$W$29,2,FALSE)/30),0)","v":"00:00:00"},0,{"$f":"+IF(Simulador!$G$26>='Cronograma Referencial'!B76,'Cronograma Referencial'!E75+VLOOKUP(Simulador!$G$27,Simulador!$V$18:$W$29,2,FALSE),0)","v":"00:00:00"},0,null,73,"00:00:00",{"$f":"+IFERROR(IF(VLOOKUP(I76,'BD Dias No utiles'!$B$9:$H$4077,7,FALSE)=\"X\",IF(VLOOKUP(I76+1,'BD Dias No utiles'!$B$9:$H$4077,7,FALSE)=\"X\",IF(VLOOKUP(I76+2,'BD Dias No utiles'!$B$9:$H$4077,7,FALSE)=\"X\",I76+3,I76+2),I76+1),I76),0)","v":"00:00:00"},0]
[null,74,{"$f":"+IF(Simulador!$G$26>='Cronograma Referencial'!B77,EDATE(C76,(B77-B76)*VLOOKUP(Simulador!$G$27,Simulador!$V$18:$W$29,2,FALSE)/30),0)","v":"00:00:00"},0,{"$f":"+IF(Simulador!$G$26>='Cronograma Referencial'!B77,'Cronograma Referencial'!E76+VLOOKUP(Simulador!$G$27,Simulador!$V$18:$W$29,2,FALSE),0)","v":"00:00:00"},0,null,74,"00:00:00",{"$f":"+IFERROR(IF(VLOOKUP(I77,'BD Dias No utiles'!$B$9:$H$4077,7,FALSE)=\"X\",IF(VLOOKUP(I77+1,'BD Dias No utiles'!$B$9:$H$4077,7,FALSE)=\"X\",IF(VLOOKUP(I77+2,'BD Dias No utiles'!$B$9:$H$4077,7,FALSE)=\"X\",I77+3,I77+2),I77+1),I77),0)","v":"00:00:00"},0]
[null,75,{"$f":"+IF(Simulador!$G$26>='Cronograma Referencial'!B78,EDATE(C77,(B78-B77)*VLOOKUP(Simulador!$G$27,Simulador!$V$18:$W$29,2,FALSE)/30),0)","v":"00:00:00"},0,{"$f":"+IF(Simulador!$G$26>='Cronograma Referencial'!B78,'Cronograma Referencial'!E77+VLOOKUP(Simulador!$G$27,Simulador!$V$18:$W$29,2,FALSE),0)","v":"00:00:00"},0,null,75,"00:00:00",{"$f":"+IFERROR(IF(VLOOKUP(I78,'BD Dias No utiles'!$B$9:$H$4077,7,FALSE)=\"X\",IF(VLOOKUP(I78+1,'BD Dias No utiles'!$B$9:$H$4077,7,FALSE)=\"X\",IF(VLOOKUP(I78+2,'BD Dias No utiles'!$B$9:$H$4077,7,FALSE)=\"X\",I78+3,I78+2),I78+1),I78),0)","v":"00:00:00"},0]
[null,76,{"$f":"+IF(Simulador!$G$26>='Cronograma Referencial'!B79,EDATE(C78,(B79-B78)*VLOOKUP(Simulador!$G$27,Simulador!$V$18:$W$29,2,FALSE)/30),0)","v":"00:00:00"},0,{"$f":"+IF(Simulador!$G$26>='Cronograma Referencial'!B79,'Cronograma Referencial'!E78+VLOOKUP(Simulador!$G$27,Simulador!$V$18:$W$29,2,FALSE),0)","v":"00:00:00"},0,null,76,"00:00:00",{"$f":"+IFERROR(IF(VLOOKUP(I79,'BD Dias No utiles'!$B$9:$H$4077,7,FALSE)=\"X\",IF(VLOOKUP(I79+1,'BD Dias No utiles'!$B$9:$H$4077,7,FALSE)=\"X\",IF(VLOOKUP(I79+2,'BD Dias No utiles'!$B$9:$H$4077,7,FALSE)=\"X\",I79+3,I79+2),I79+1),I79),0)","v":"00:00:00"},0]
[null,77,{"$f":"+IF(Simulador!$G$26>='Cronograma Referencial'!B80,EDATE(C79,(B80-B79)*VLOOKUP(Simulador!$G$27,Simulador!$V$18:$W$29,2,FALSE)/30),0)","v":"00:00:00"},0,{"$f":"+IF(Simulador!$G$26>='Cronograma Referencial'!B80,'Cronograma Referencial'!E79+VLOOKUP(Simulador!$G$27,Simulador!$V$18:$W$29,2,FALSE),0)","v":"00:00:00"},0,null,77,"00:00:00",{"$f":"+IFERROR(IF(VLOOKUP(I80,'BD Dias No utiles'!$B$9:$H$4077,7,FALSE)=\"X\",IF(VLOOKUP(I80+1,'BD Dias No utiles'!$B$9:$H$4077,7,FALSE)=\"X\",IF(VLOOKUP(I80+2,'BD Dias No utiles'!$B$9:$H$4077,7,FALSE)=\"X\",I80+3,I80+2),I80+1),I80),0)","v":"00:00:00"},0]
[null,78,{"$f":"+IF(Simulador!$G$26>='Cronograma Referencial'!B81,EDATE(C80,(B81-B80)*VLOOKUP(Simulador!$G$27,Simulador!$V$18:$W$29,2,FALSE)/30),0)","v":"00:00:00"},0,{"$f":"+IF(Simulador!$G$26>='Cronograma Referencial'!B81,'Cronograma Referencial'!E80+VLOOKUP(Simulador!$G$27,Simulador!$V$18:$W$29,2,FALSE),0)","v":"00:00:00"},0,null,78,"00:00:00",{"$f":"+IFERROR(IF(VLOOKUP(I81,'BD Dias No utiles'!$B$9:$H$4077,7,FALSE)=\"X\",IF(VLOOKUP(I81+1,'BD Dias No utiles'!$B$9:$H$4077,7,FALSE)=\"X\",IF(VLOOKUP(I81+2,'BD Dias No utiles'!$B$9:$H$4077,7,FALSE)=\"X\",I81+3,I81+2),I81+1),I81),0)","v":"00:00:00"},0]
[null,79,{"$f":"+IF(Simulador!$G$26>='Cronograma Referencial'!B82,EDATE(C81,(B82-B81)*VLOOKUP(Simulador!$G$27,Simulador!$V$18:$W$29,2,FALSE)/30),0)","v":"00:00:00"},0,{"$f":"+IF(Simulador!$G$26>='Cronograma Referencial'!B82,'Cronograma Referencial'!E81+VLOOKUP(Simulador!$G$27,Simulador!$V$18:$W$29,2,FALSE),0)","v":"00:00:00"},0,null,79,"00:00:00",{"$f":"+IFERROR(IF(VLOOKUP(I82,'BD Dias No utiles'!$B$9:$H$4077,7,FALSE)=\"X\",IF(VLOOKUP(I82+1,'BD Dias No utiles'!$B$9:$H$4077,7,FALSE)=\"X\",IF(VLOOKUP(I82+2,'BD Dias No utiles'!$B$9:$H$4077,7,FALSE)=\"X\",I82+3,I82+2),I82+1),I82),0)","v":"00:00:00"},0]
[null,80,{"$f":"+IF(Simulador!$G$26>='Cronograma Referencial'!B83,EDATE(C82,(B83-B82)*VLOOKUP(Simulador!$G$27,Simulador!$V$18:$W$29,2,FALSE)/30),0)","v":"00:00:00"},0,{"$f":"+IF(Simulador!$G$26>='Cronograma Referencial'!B83,'Cronograma Referencial'!E82+VLOOKUP(Simulador!$G$27,Simulador!$V$18:$W$29,2,FALSE),0)","v":"00:00:00"},0,null,80,"00:00:00",{"$f":"+IFERROR(IF(VLOOKUP(I83,'BD Dias No utiles'!$B$9:$H$4077,7,FALSE)=\"X\",IF(VLOOKUP(I83+1,'BD Dias No utiles'!$B$9:$H$4077,7,FALSE)=\"X\",IF(VLOOKUP(I83+2,'BD Dias No utiles'!$B$9:$H$4077,7,FALSE)=\"X\",I83+3,I83+2),I83+1),I83),0)","v":"00:00:00"},0]
[null,81,{"$f":"+IF(Simulador!$G$26>='Cronograma Referencial'!B84,EDATE(C83,(B84-B83)*VLOOKUP(Simulador!$G$27,Simulador!$V$18:$W$29,2,FALSE)/30),0)","v":"00:00:00"},0,{"$f":"+IF(Simulador!$G$26>='Cronograma Referencial'!B84,'Cronograma Referencial'!E83+VLOOKUP(Simulador!$G$27,Simulador!$V$18:$W$29,2,FALSE),0)","v":"00:00:00"},0,null,81,"00:00:00",{"$f":"+IFERROR(IF(VLOOKUP(I84,'BD Dias No utiles'!$B$9:$H$4077,7,FALSE)=\"X\",IF(VLOOKUP(I84+1,'BD Dias No utiles'!$B$9:$H$4077,7,FALSE)=\"X\",IF(VLOOKUP(I84+2,'BD Dias No utiles'!$B$9:$H$4077,7,FALSE)=\"X\",I84+3,I84+2),I84+1),I84),0)","v":"00:00:00"},0]
[null,82,{"$f":"+IF(Simulador!$G$26>='Cronograma Referencial'!B85,EDATE(C84,(B85-B84)*VLOOKUP(Simulador!$G$27,Simulador!$V$18:$W$29,2,FALSE)/30),0)","v":"00:00:00"},0,{"$f":"+IF(Simulador!$G$26>='Cronograma Referencial'!B85,'Cronograma Referencial'!E84+VLOOKUP(Simulador!$G$27,Simulador!$V$18:$W$29,2,FALSE),0)","v":"00:00:00"},0,null,82,"00:00:00",{"$f":"+IFERROR(IF(VLOOKUP(I85,'BD Dias No utiles'!$B$9:$H$4077,7,FALSE)=\"X\",IF(VLOOKUP(I85+1,'BD Dias No utiles'!$B$9:$H$4077,7,FALSE)=\"X\",IF(VLOOKUP(I85+2,'BD Dias No utiles'!$B$9:$H$4077,7,FALSE)=\"X\",I85+3,I85+2),I85+1),I85),0)","v":"00:00:00"},0]
[null,83,{"$f":"+IF(Simulador!$G$26>='Cronograma Referencial'!B86,EDATE(C85,(B86-B85)*VLOOKUP(Simulador!$G$27,Simulador!$V$18:$W$29,2,FALSE)/30),0)","v":"00:00:00"},0,{"$f":"+IF(Simulador!$G$26>='Cronograma Referencial'!B86,'Cronograma Referencial'!E85+VLOOKUP(Simulador!$G$27,Simulador!$V$18:$W$29,2,FALSE),0)","v":"00:00:00"},0,null,83,"00:00:00",{"$f":"+IFERROR(IF(VLOOKUP(I86,'BD Dias No utiles'!$B$9:$H$4077,7,FALSE)=\"X\",IF(VLOOKUP(I86+1,'BD Dias No utiles'!$B$9:$H$4077,7,FALSE)=\"X\",IF(VLOOKUP(I86+2,'BD Dias No utiles'!$B$9:$H$4077,7,FALSE)=\"X\",I86+3,I86+2),I86+1),I86),0)","v":"00:00:00"},0]
[null,84,{"$f":"+IF(Simulador!$G$26>='Cronograma Referencial'!B87,EDATE(C86,(B87-B86)*VLOOKUP(Simulador!$G$27,Simulador!$V$18:$W$29,2,FALSE)/30),0)","v":"00:00:00"},0,{"$f":"+IF(Simulador!$G$26>='Cronograma Referencial'!B87,'Cronograma Referencial'!E86+VLOOKUP(Simulador!$G$27,Simulador!$V$18:$W$29,2,FALSE),0)","v":"00:00:00"},0,null,84,"00:00:00",{"$f":"+IFERROR(IF(VLOOKUP(I87,'BD Dias No utiles'!$B$9:$H$4077,7,FALSE)=\"X\",IF(VLOOKUP(I87+1,'BD Dias No utiles'!$B$9:$H$4077,7,FALSE)=\"X\",IF(VLOOKUP(I87+2,'BD Dias No utiles'!$B$9:$H$4077,7,FALSE)=\"X\",I87+3,I87+2),I87+1),I87),0)","v":"00:00:00"},0]
[null,85,{"$f":"+IF(Simulador!$G$26>='Cronograma Referencial'!B88,EDATE(C87,(B88-B87)*VLOOKUP(Simulador!$G$27,Simulador!$V$18:$W$29,2,FALSE)/30),0)","v":"00:00:00"},0,{"$f":"+IF(Simulador!$G$26>='Cronograma Referencial'!B88,'Cronograma Referencial'!E87+VLOOKUP(Simulador!$G$27,Simulador!$V$18:$W$29,2,FALSE),0)","v":"00:00:00"},0,null,85,"00:00:00",{"$f":"+IFERROR(IF(VLOOKUP(I88,'BD Dias No utiles'!$B$9:$H$4077,7,FALSE)=\"X\",IF(VLOOKUP(I88+1,'BD Dias No utiles'!$B$9:$H$4077,7,FALSE)=\"X\",IF(VLOOKUP(I88+2,'BD Dias No utiles'!$B$9:$H$4077,7,FALSE)=\"X\",I88+3,I88+2),I88+1),I88),0)","v":"00:00:00"},0]
[null,86,{"$f":"+IF(Simulador!$G$26>='Cronograma Referencial'!B89,EDATE(C88,(B89-B88)*VLOOKUP(Simulador!$G$27,Simulador!$V$18:$W$29,2,FALSE)/30),0)","v":"00:00:00"},0,{"$f":"+IF(Simulador!$G$26>='Cronograma Referencial'!B89,'Cronograma Referencial'!E88+VLOOKUP(Simulador!$G$27,Simulador!$V$18:$W$29,2,FALSE),0)","v":"00:00:00"},0,null,86,"00:00:00",{"$f":"+IFERROR(IF(VLOOKUP(I89,'BD Dias No utiles'!$B$9:$H$4077,7,FALSE)=\"X\",IF(VLOOKUP(I89+1,'BD Dias No utiles'!$B$9:$H$4077,7,FALSE)=\"X\",IF(VLOOKUP(I89+2,'BD Dias No utiles'!$B$9:$H$4077,7,FALSE)=\"X\",I89+3,I89+2),I89+1),I89),0)","v":"00:00:00"},0]
[null,87,{"$f":"+IF(Simulador!$G$26>='Cronograma Referencial'!B90,EDATE(C89,(B90-B89)*VLOOKUP(Simulador!$G$27,Simulador!$V$18:$W$29,2,FALSE)/30),0)","v":"00:00:00"},0,{"$f":"+IF(Simulador!$G$26>='Cronograma Referencial'!B90,'Cronograma Referencial'!E89+VLOOKUP(Simulador!$G$27,Simulador!$V$18:$W$29,2,FALSE),0)","v":"00:00:00"},0,null,87,"00:00:00",{"$f":"+IFERROR(IF(VLOOKUP(I90,'BD Dias No utiles'!$B$9:$H$4077,7,FALSE)=\"X\",IF(VLOOKUP(I90+1,'BD Dias No utiles'!$B$9:$H$4077,7,FALSE)=\"X\",IF(VLOOKUP(I90+2,'BD Dias No utiles'!$B$9:$H$4077,7,FALSE)=\"X\",I90+3,I90+2),I90+1),I90),0)","v":"00:00:00"},0]
[null,88,{"$f":"+IF(Simulador!$G$26>='Cronograma Referencial'!B91,EDATE(C90,(B91-B90)*VLOOKUP(Simulador!$G$27,Simulador!$V$18:$W$29,2,FALSE)/30),0)","v":"00:00:00"},0,{"$f":"+IF(Simulador!$G$26>='Cronograma Referencial'!B91,'Cronograma Referencial'!E90+VLOOKUP(Simulador!$G$27,Simulador!$V$18:$W$29,2,FALSE),0)","v":"00:00:00"},0,null,88,"00:00:00",{"$f":"+IFERROR(IF(VLOOKUP(I91,'BD Dias No utiles'!$B$9:$H$4077,7,FALSE)=\"X\",IF(VLOOKUP(I91+1,'BD Dias No utiles'!$B$9:$H$4077,7,FALSE)=\"X\",IF(VLOOKUP(I91+2,'BD Dias No utiles'!$B$9:$H$4077,7,FALSE)=\"X\",I91+3,I91+2),I91+1),I91),0)","v":"00:00:00"},0]
[null,89,{"$f":"+IF(Simulador!$G$26>='Cronograma Referencial'!B92,EDATE(C91,(B92-B91)*VLOOKUP(Simulador!$G$27,Simulador!$V$18:$W$29,2,FALSE)/30),0)","v":"00:00:00"},0,{"$f":"+IF(Simulador!$G$26>='Cronograma Referencial'!B92,'Cronograma Referencial'!E91+VLOOKUP(Simulador!$G$27,Simulador!$V$18:$W$29,2,FALSE),0)","v":"00:00:00"},0,null,89,"00:00:00",{"$f":"+IFERROR(IF(VLOOKUP(I92,'BD Dias No utiles'!$B$9:$H$4077,7,FALSE)=\"X\",IF(VLOOKUP(I92+1,'BD Dias No utiles'!$B$9:$H$4077,7,FALSE)=\"X\",IF(VLOOKUP(I92+2,'BD Dias No utiles'!$B$9:$H$4077,7,FALSE)=\"X\",I92+3,I92+2),I92+1),I92),0)","v":"00:00:00"},0]
[null,90,{"$f":"+IF(Simulador!$G$26>='Cronograma Referencial'!B93,EDATE(C92,(B93-B92)*VLOOKUP(Simulador!$G$27,Simulador!$V$18:$W$29,2,FALSE)/30),0)","v":"00:00:00"},0,{"$f":"+IF(Simulador!$G$26>='Cronograma Referencial'!B93,'Cronograma Referencial'!E92+VLOOKUP(Simulador!$G$27,Simulador!$V$18:$W$29,2,FALSE),0)","v":"00:00:00"},0,null,90,"00:00:00",{"$f":"+IFERROR(IF(VLOOKUP(I93,'BD Dias No utiles'!$B$9:$H$4077,7,FALSE)=\"X\",IF(VLOOKUP(I93+1,'BD Dias No utiles'!$B$9:$H$4077,7,FALSE)=\"X\",IF(VLOOKUP(I93+2,'BD Dias No utiles'!$B$9:$H$4077,7,FALSE)=\"X\",I93+3,I93+2),I93+1),I93),0)","v":"00:00:00"},0]
[null,91,{"$f":"+IF(Simulador!$G$26>='Cronograma Referencial'!B94,EDATE(C93,(B94-B93)*VLOOKUP(Simulador!$G$27,Simulador!$V$18:$W$29,2,FALSE)/30),0)","v":"00:00:00"},0,{"$f":"+IF(Simulador!$G$26>='Cronograma Referencial'!B94,'Cronograma Referencial'!E93+VLOOKUP(Simulador!$G$27,Simulador!$V$18:$W$29,2,FALSE),0)","v":"00:00:00"},0,null,91,"00:00:00",{"$f":"+IFERROR(IF(VLOOKUP(I94,'BD Dias No utiles'!$B$9:$H$4077,7,FALSE)=\"X\",IF(VLOOKUP(I94+1,'BD Dias No utiles'!$B$9:$H$4077,7,FALSE)=\"X\",IF(VLOOKUP(I94+2,'BD Dias No utiles'!$B$9:$H$4077,7,FALSE)=\"X\",I94+3,I94+2),I94+1),I94),0)","v":"00:00:00"},0]
[null,92,{"$f":"+IF(Simulador!$G$26>='Cronograma Referencial'!B95,EDATE(C94,(B95-B94)*VLOOKUP(Simulador!$G$27,Simulador!$V$18:$W$29,2,FALSE)/30),0)","v":"00:00:00"},0,{"$f":"+IF(Simulador!$G$26>='Cronograma Referencial'!B95,'Cronograma Referencial'!E94+VLOOKUP(Simulador!$G$27,Simulador!$V$18:$W$29,2,FALSE),0)","v":"00:00:00"},0,null,92,"00:00:00",{"$f":"+IFERROR(IF(VLOOKUP(I95,'BD Dias No utiles'!$B$9:$H$4077,7,FALSE)=\"X\",IF(VLOOKUP(I95+1,'BD Dias No utiles'!$B$9:$H$4077,7,FALSE)=\"X\",IF(VLOOKUP(I95+2,'BD Dias No utiles'!$B$9:$H$4077,7,FALSE)=\"X\",I95+3,I95+2),I95+1),I95),0)","v":"00:00:00"},0]
[null,93,{"$f":"+IF(Simulador!$G$26>='Cronograma Referencial'!B96,EDATE(C95,(B96-B95)*VLOOKUP(Simulador!$G$27,Simulador!$V$18:$W$29,2,FALSE)/30),0)","v":"00:00:00"},0,{"$f":"+IF(Simulador!$G$26>='Cronograma Referencial'!B96,'Cronograma Referencial'!E95+VLOOKUP(Simulador!$G$27,Simulador!$V$18:$W$29,2,FALSE),0)","v":"00:00:00"},0,null,93,"00:00:00",{"$f":"+IFERROR(IF(VLOOKUP(I96,'BD Dias No utiles'!$B$9:$H$4077,7,FALSE)=\"X\",IF(VLOOKUP(I96+1,'BD Dias No utiles'!$B$9:$H$4077,7,FALSE)=\"X\",IF(VLOOKUP(I96+2,'BD Dias No utiles'!$B$9:$H$4077,7,FALSE)=\"X\",I96+3,I96+2),I96+1),I96),0)","v":"00:00:00"},0]
[null,94,{"$f":"+IF(Simulador!$G$26>='Cronograma Referencial'!B97,EDATE(C96,(B97-B96)*VLOOKUP(Simulador!$G$27,Simulador!$V$18:$W$29,2,FALSE)/30),0)","v":"00:00:00"},0,{"$f":"+IF(Simulador!$G$26>='Cronograma Referencial'!B97,'Cronograma Referencial'!E96+VLOOKUP(Simulador!$G$27,Simulador!$V$18:$W$29,2,FALSE),0)","v":"00:00:00"},0,null,94,"00:00:00",{"$f":"+IFERROR(IF(VLOOKUP(I97,'BD Dias No utiles'!$B$9:$H$4077,7,FALSE)=\"X\",IF(VLOOKUP(I97+1,'BD Dias No utiles'!$B$9:$H$4077,7,FALSE)=\"X\",IF(VLOOKUP(I97+2,'BD Dias No utiles'!$B$9:$H$4077,7,FALSE)=\"X\",I97+3,I97+2),I97+1),I97),0)","v":"00:00:00"},0]
[null,95,{"$f":"+IF(Simulador!$G$26>='Cronograma Referencial'!B98,EDATE(C97,(B98-B97)*VLOOKUP(Simulador!$G$27,Simulador!$V$18:$W$29,2,FALSE)/30),0)","v":"00:00:00"},0,{"$f":"+IF(Simulador!$G$26>='Cronograma Referencial'!B98,'Cronograma Referencial'!E97+VLOOKUP(Simulador!$G$27,Simulador!$V$18:$W$29,2,FALSE),0)","v":"00:00:00"},0,null,95,"00:00:00",{"$f":"+IFERROR(IF(VLOOKUP(I98,'BD Dias No utiles'!$B$9:$H$4077,7,FALSE)=\"X\",IF(VLOOKUP(I98+1,'BD Dias No utiles'!$B$9:$H$4077,7,FALSE)=\"X\",IF(VLOOKUP(I98+2,'BD Dias No utiles'!$B$9:$H$4077,7,FALSE)=\"X\",I98+3,I98+2),I98+1),I98),0)","v":"00:00:00"},0]
[null,96,{"$f":"+IF(Simulador!$G$26>='Cronograma Referencial'!B99,EDATE(C98,(B99-B98)*VLOOKUP(Simulador!$G$27,Simulador!$V$18:$W$29,2,FALSE)/30),0)","v":"00:00:00"},0,{"$f":"+IF(Simulador!$G$26>='Cronograma Referencial'!B99,'Cronograma Referencial'!E98+VLOOKUP(Simulador!$G$27,Simulador!$V$18:$W$29,2,FALSE),0)","v":"00:00:00"},0,null,96,"00:00:00",{"$f":"+IFERROR(IF(VLOOKUP(I99,'BD Dias No utiles'!$B$9:$H$4077,7,FALSE)=\"X\",IF(VLOOKUP(I99+1,'BD Dias No utiles'!$B$9:$H$4077,7,FALSE)=\"X\",IF(VLOOKUP(I99+2,'BD Dias No utiles'!$B$9:$H$4077,7,FALSE)=\"X\",I99+3,I99+2),I99+1),I99),0)","v":"00:00:00"},0]
[null,97,{"$f":"+IF(Simulador!$G$26>='Cronograma Referencial'!B100,EDATE(C99,(B100-B99)*VLOOKUP(Simulador!$G$27,Simulador!$V$18:$W$29,2,FALSE)/30),0)","v":"00:00:00"},0,{"$f":"+IF(Simulador!$G$26>='Cronograma Referencial'!B100,'Cronograma Referencial'!E99+VLOOKUP(Simulador!$G$27,Simulador!$V$18:$W$29,2,FALSE),0)","v":"00:00:00"},0,null,97,"00:00:00",{"$f":"+IFERROR(IF(VLOOKUP(I100,'BD Dias No utiles'!$B$9:$H$4077,7,FALSE)=\"X\",IF(VLOOKUP(I100+1,'BD Dias No utiles'!$B$9:$H$4077,7,FALSE)=\"X\",IF(VLOOKUP(I100+2,'BD Dias No utiles'!$B$9:$H$4077,7,FALSE)=\"X\",I100+3,I100+2),I100+1),I100),0)","v":"00:00:00"},0]
[null,98,{"$f":"+IF(Simulador!$G$26>='Cronograma Referencial'!B101,EDATE(C100,(B101-B100)*VLOOKUP(Simulador!$G$27,Simulador!$V$18:$W$29,2,FALSE)/30),0)","v":"00:00:00"},0,{"$f":"+IF(Simulador!$G$26>='Cronograma Referencial'!B101,'Cronograma Referencial'!E100+VLOOKUP(Simulador!$G$27,Simulador!$V$18:$W$29,2,FALSE),0)","v":"00:00:00"},0,null,98,"00:00:00",{"$f":"+IFERROR(IF(VLOOKUP(I101,'BD Dias No utiles'!$B$9:$H$4077,7,FALSE)=\"X\",IF(VLOOKUP(I101+1,'BD Dias No utiles'!$B$9:$H$4077,7,FALSE)=\"X\",IF(VLOOKUP(I101+2,'BD Dias No utiles'!$B$9:$H$4077,7,FALSE)=\"X\",I101+3,I101+2),I101+1),I101),0)","v":"00:00:00"},0]
[null,99,{"$f":"+IF(Simulador!$G$26>='Cronograma Referencial'!B102,EDATE(C101,(B102-B101)*VLOOKUP(Simulador!$G$27,Simulador!$V$18:$W$29,2,FALSE)/30),0)","v":"00:00:00"},0,{"$f":"+IF(Simulador!$G$26>='Cronograma Referencial'!B102,'Cronograma Referencial'!E101+VLOOKUP(Simulador!$G$27,Simulador!$V$18:$W$29,2,FALSE),0)","v":"00:00:00"},0,null,99,"00:00:00",{"$f":"+IFERROR(IF(VLOOKUP(I102,'BD Dias No utiles'!$B$9:$H$4077,7,FALSE)=\"X\",IF(VLOOKUP(I102+1,'BD Dias No utiles'!$B$9:$H$4077,7,FALSE)=\"X\",IF(VLOOKUP(I102+2,'BD Dias No utiles'!$B$9:$H$4077,7,FALSE)=\"X\",I102+3,I102+2),I102+1),I102),0)","v":"00:00:00"},0]
[null,100,{"$f":"+IF(Simulador!$G$26>='Cronograma Referencial'!B103,EDATE(C102,(B103-B102)*VLOOKUP(Simulador!$G$27,Simulador!$V$18:$W$29,2,FALSE)/30),0)","v":"00:00:00"},0,{"$f":"+IF(Simulador!$G$26>='Cronograma Referencial'!B103,'Cronograma Referencial'!E102+VLOOKUP(Simulador!$G$27,Simulador!$V$18:$W$29,2,FALSE),0)","v":"00:00:00"},0,null,100,"00:00:00",{"$f":"+IFERROR(IF(VLOOKUP(I103,'BD Dias No utiles'!$B$9:$H$4077,7,FALSE)=\"X\",IF(VLOOKUP(I103+1,'BD Dias No utiles'!$B$9:$H$4077,7,FALSE)=\"X\",IF(VLOOKUP(I103+2,'BD Dias No utiles'!$B$9:$H$4077,7,FALSE)=\"X\",I103+3,I103+2),I103+1),I103),0)","v":"00:00:00"},0]
[null,101,{"$f":"+IF(Simulador!$G$26>='Cronograma Referencial'!B104,EDATE(C103,(B104-B103)*VLOOKUP(Simulador!$G$27,Simulador!$V$18:$W$29,2,FALSE)/30),0)","v":"00:00:00"},0,{"$f":"+IF(Simulador!$G$26>='Cronograma Referencial'!B104,'Cronograma Referencial'!E103+VLOOKUP(Simulador!$G$27,Simulador!$V$18:$W$29,2,FALSE),0)","v":"00:00:00"},0,null,101,"00:00:00",{"$f":"+IFERROR(IF(VLOOKUP(I104,'BD Dias No utiles'!$B$9:$H$4077,7,FALSE)=\"X\",IF(VLOOKUP(I104+1,'BD Dias No utiles'!$B$9:$H$4077,7,FALSE)=\"X\",IF(VLOOKUP(I104+2,'BD Dias No utiles'!$B$9:$H$4077,7,FALSE)=\"X\",I104+3,I104+2),I104+1),I104),0)","v":"00:00:00"},0]
[null,102,{"$f":"+IF(Simulador!$G$26>='Cronograma Referencial'!B105,EDATE(C104,(B105-B104)*VLOOKUP(Simulador!$G$27,Simulador!$V$18:$W$29,2,FALSE)/30),0)","v":"00:00:00"},0,{"$f":"+IF(Simulador!$G$26>='Cronograma Referencial'!B105,'Cronograma Referencial'!E104+VLOOKUP(Simulador!$G$27,Simulador!$V$18:$W$29,2,FALSE),0)","v":"00:00:00"},0,null,102,"00:00:00",{"$f":"+IFERROR(IF(VLOOKUP(I105,'BD Dias No utiles'!$B$9:$H$4077,7,FALSE)=\"X\",IF(VLOOKUP(I105+1,'BD Dias No utiles'!$B$9:$H$4077,7,FALSE)=\"X\",IF(VLOOKUP(I105+2,'BD Dias No utiles'!$B$9:$H$4077,7,FALSE)=\"X\",I105+3,I105+2),I105+1),I105),0)","v":"00:00:00"},0]
[null,103,{"$f":"+IF(Simulador!$G$26>='Cronograma Referencial'!B106,EDATE(C105,(B106-B105)*VLOOKUP(Simulador!$G$27,Simulador!$V$18:$W$29,2,FALSE)/30),0)","v":"00:00:00"},0,{"$f":"+IF(Simulador!$G$26>='Cronograma Referencial'!B106,'Cronograma Referencial'!E105+VLOOKUP(Simulador!$G$27,Simulador!$V$18:$W$29,2,FALSE),0)","v":"00:00:00"},0,null,103,"00:00:00",{"$f":"+IFERROR(IF(VLOOKUP(I106,'BD Dias No utiles'!$B$9:$H$4077,7,FALSE)=\"X\",IF(VLOOKUP(I106+1,'BD Dias No utiles'!$B$9:$H$4077,7,FALSE)=\"X\",IF(VLOOKUP(I106+2,'BD Dias No utiles'!$B$9:$H$4077,7,FALSE)=\"X\",I106+3,I106+2),I106+1),I106),0)","v":"00:00:00"},0]
[null,104,{"$f":"+IF(Simulador!$G$26>='Cronograma Referencial'!B107,EDATE(C106,(B107-B106)*VLOOKUP(Simulador!$G$27,Simulador!$V$18:$W$29,2,FALSE)/30),0)","v":"00:00:00"},0,{"$f":"+IF(Simulador!$G$26>='Cronograma Referencial'!B107,'Cronograma Referencial'!E106+VLOOKUP(Simulador!$G$27,Simulador!$V$18:$W$29,2,FALSE),0)","v":"00:00:00"},0,null,104,"00:00:00",{"$f":"+IFERROR(IF(VLOOKUP(I107,'BD Dias No utiles'!$B$9:$H$4077,7,FALSE)=\"X\",IF(VLOOKUP(I107+1,'BD Dias No utiles'!$B$9:$H$4077,7,FALSE)=\"X\",IF(VLOOKUP(I107+2,'BD Dias No utiles'!$B$9:$H$4077,7,FALSE)=\"X\",I107+3,I107+2),I107+1),I107),0)","v":"00:00:00"},0]
[null,105,{"$f":"+IF(Simulador!$G$26>='Cronograma Referencial'!B108,EDATE(C107,(B108-B107)*VLOOKUP(Simulador!$G$27,Simulador!$V$18:$W$29,2,FALSE)/30),0)","v":"00:00:00"},0,{"$f":"+IF(Simulador!$G$26>='Cronograma Referencial'!B108,'Cronograma Referencial'!E107+VLOOKUP(Simulador!$G$27,Simulador!$V$18:$W$29,2,FALSE),0)","v":"00:00:00"},0,null,105,"00:00:00",{"$f":"+IFERROR(IF(VLOOKUP(I108,'BD Dias No utiles'!$B$9:$H$4077,7,FALSE)=\"X\",IF(VLOOKUP(I108+1,'BD Dias No utiles'!$B$9:$H$4077,7,FALSE)=\"X\",IF(VLOOKUP(I108+2,'BD Dias No utiles'!$B$9:$H$4077,7,FALSE)=\"X\",I108+3,I108+2),I108+1),I108),0)","v":"00:00:00"},0]
[null,106,{"$f":"+IF(Simulador!$G$26>='Cronograma Referencial'!B109,EDATE(C108,(B109-B108)*VLOOKUP(Simulador!$G$27,Simulador!$V$18:$W$29,2,FALSE)/30),0)","v":"00:00:00"},0,{"$f":"+IF(Simulador!$G$26>='Cronograma Referencial'!B109,'Cronograma Referencial'!E108+VLOOKUP(Simulador!$G$27,Simulador!$V$18:$W$29,2,FALSE),0)","v":"00:00:00"},0,null,106,"00:00:00",{"$f":"+IFERROR(IF(VLOOKUP(I109,'BD Dias No utiles'!$B$9:$H$4077,7,FALSE)=\"X\",IF(VLOOKUP(I109+1,'BD Dias No utiles'!$B$9:$H$4077,7,FALSE)=\"X\",IF(VLOOKUP(I109+2,'BD Dias No utiles'!$B$9:$H$4077,7,FALSE)=\"X\",I109+3,I109+2),I109+1),I109),0)","v":"00:00:00"},0]
[null,107,{"$f":"+IF(Simulador!$G$26>='Cronograma Referencial'!B110,EDATE(C109,(B110-B109)*VLOOKUP(Simulador!$G$27,Simulador!$V$18:$W$29,2,FALSE)/30),0)","v":"00:00:00"},0,{"$f":"+IF(Simulador!$G$26>='Cronograma Referencial'!B110,'Cronograma Referencial'!E109+VLOOKUP(Simulador!$G$27,Simulador!$V$18:$W$29,2,FALSE),0)","v":"00:00:00"},0,null,107,"00:00:00",{"$f":"+IFERROR(IF(VLOOKUP(I110,'BD Dias No utiles'!$B$9:$H$4077,7,FALSE)=\"X\",IF(VLOOKUP(I110+1,'BD Dias No utiles'!$B$9:$H$4077,7,FALSE)=\"X\",IF(VLOOKUP(I110+2,'BD Dias No utiles'!$B$9:$H$4077,7,FALSE)=\"X\",I110+3,I110+2),I110+1),I110),0)","v":"00:00:00"},0]
[null,108,{"$f":"+IF(Simulador!$G$26>='Cronograma Referencial'!B111,EDATE(C110,(B111-B110)*VLOOKUP(Simulador!$G$27,Simulador!$V$18:$W$29,2,FALSE)/30),0)","v":"00:00:00"},0,{"$f":"+IF(Simulador!$G$26>='Cronograma Referencial'!B111,'Cronograma Referencial'!E110+VLOOKUP(Simulador!$G$27,Simulador!$V$18:$W$29,2,FALSE),0)","v":"00:00:00"},0,null,108,"00:00:00",{"$f":"+IFERROR(IF(VLOOKUP(I111,'BD Dias No utiles'!$B$9:$H$4077,7,FALSE)=\"X\",IF(VLOOKUP(I111+1,'BD Dias No utiles'!$B$9:$H$4077,7,FALSE)=\"X\",IF(VLOOKUP(I111+2,'BD Dias No utiles'!$B$9:$H$4077,7,FALSE)=\"X\",I111+3,I111+2),I111+1),I111),0)","v":"00:00:00"},0]
[null,109,{"$f":"+IF(Simulador!$G$26>='Cronograma Referencial'!B112,EDATE(C111,(B112-B111)*VLOOKUP(Simulador!$G$27,Simulador!$V$18:$W$29,2,FALSE)/30),0)","v":"00:00:00"},0,{"$f":"+IF(Simulador!$G$26>='Cronograma Referencial'!B112,'Cronograma Referencial'!E111+VLOOKUP(Simulador!$G$27,Simulador!$V$18:$W$29,2,FALSE),0)","v":"00:00:00"},0,null,109,"00:00:00",{"$f":"+IFERROR(IF(VLOOKUP(I112,'BD Dias No utiles'!$B$9:$H$4077,7,FALSE)=\"X\",IF(VLOOKUP(I112+1,'BD Dias No utiles'!$B$9:$H$4077,7,FALSE)=\"X\",IF(VLOOKUP(I112+2,'BD Dias No utiles'!$B$9:$H$4077,7,FALSE)=\"X\",I112+3,I112+2),I112+1),I112),0)","v":"00:00:00"},0]
[null,110,{"$f":"+IF(Simulador!$G$26>='Cronograma Referencial'!B113,EDATE(C112,(B113-B112)*VLOOKUP(Simulador!$G$27,Simulador!$V$18:$W$29,2,FALSE)/30),0)","v":"00:00:00"},0,{"$f":"+IF(Simulador!$G$26>='Cronograma Referencial'!B113,'Cronograma Referencial'!E112+VLOOKUP(Simulador!$G$27,Simulador!$V$18:$W$29,2,FALSE),0)","v":"00:00:00"},0,null,110,"00:00:00",{"$f":"+IFERROR(IF(VLOOKUP(I113,'BD Dias No utiles'!$B$9:$H$4077,7,FALSE)=\"X\",IF(VLOOKUP(I113+1,'BD Dias No utiles'!$B$9:$H$4077,7,FALSE)=\"X\",IF(VLOOKUP(I113+2,'BD Dias No utiles'!$B$9:$H$4077,7,FALSE)=\"X\",I113+3,I113+2),I113+1),I113),0)","v":"00:00:00"},0]
[null,111,{"$f":"+IF(Simulador!$G$26>='Cronograma Referencial'!B114,EDATE(C113,(B114-B113)*VLOOKUP(Simulador!$G$27,Simulador!$V$18:$W$29,2,FALSE)/30),0)","v":"00:00:00"},0,{"$f":"+IF(Simulador!$G$26>='Cronograma Referencial'!B114,'Cronograma Referencial'!E113+VLOOKUP(Simulador!$G$27,Simulador!$V$18:$W$29,2,FALSE),0)","v":"00:00:00"},0,null,111,"00:00:00",{"$f":"+IFERROR(IF(VLOOKUP(I114,'BD Dias No utiles'!$B$9:$H$4077,7,FALSE)=\"X\",IF(VLOOKUP(I114+1,'BD Dias No utiles'!$B$9:$H$4077,7,FALSE)=\"X\",IF(VLOOKUP(I114+2,'BD Dias No utiles'!$B$9:$H$4077,7,FALSE)=\"X\",I114+3,I114+2),I114+1),I114),0)","v":"00:00:00"},0]
[null,112,{"$f":"+IF(Simulador!$G$26>='Cronograma Referencial'!B115,EDATE(C114,(B115-B114)*VLOOKUP(Simulador!$G$27,Simulador!$V$18:$W$29,2,FALSE)/30),0)","v":"00:00:00"},0,{"$f":"+IF(Simulador!$G$26>='Cronograma Referencial'!B115,'Cronograma Referencial'!E114+VLOOKUP(Simulador!$G$27,Simulador!$V$18:$W$29,2,FALSE),0)","v":"00:00:00"},0,null,112,"00:00:00",{"$f":"+IFERROR(IF(VLOOKUP(I115,'BD Dias No utiles'!$B$9:$H$4077,7,FALSE)=\"X\",IF(VLOOKUP(I115+1,'BD Dias No utiles'!$B$9:$H$4077,7,FALSE)=\"X\",IF(VLOOKUP(I115+2,'BD Dias No utiles'!$B$9:$H$4077,7,FALSE)=\"X\",I115+3,I115+2),I115+1),I115),0)","v":"00:00:00"},0]
[null,113,{"$f":"+IF(Simulador!$G$26>='Cronograma Referencial'!B116,EDATE(C115,(B116-B115)*VLOOKUP(Simulador!$G$27,Simulador!$V$18:$W$29,2,FALSE)/30),0)","v":"00:00:00"},0,{"$f":"+IF(Simulador!$G$26>='Cronograma Referencial'!B116,'Cronograma Referencial'!E115+VLOOKUP(Simulador!$G$27,Simulador!$V$18:$W$29,2,FALSE),0)","v":"00:00:00"},0,null,113,"00:00:00",{"$f":"+IFERROR(IF(VLOOKUP(I116,'BD Dias No utiles'!$B$9:$H$4077,7,FALSE)=\"X\",IF(VLOOKUP(I116+1,'BD Dias No utiles'!$B$9:$H$4077,7,FALSE)=\"X\",IF(VLOOKUP(I116+2,'BD Dias No utiles'!$B$9:$H$4077,7,FALSE)=\"X\",I116+3,I116+2),I116+1),I116),0)","v":"00:00:00"},0]
[null,114,{"$f":"+IF(Simulador!$G$26>='Cronograma Referencial'!B117,EDATE(C116,(B117-B116)*VLOOKUP(Simulador!$G$27,Simulador!$V$18:$W$29,2,FALSE)/30),0)","v":"00:00:00"},0,{"$f":"+IF(Simulador!$G$26>='Cronograma Referencial'!B117,'Cronograma Referencial'!E116+VLOOKUP(Simulador!$G$27,Simulador!$V$18:$W$29,2,FALSE),0)","v":"00:00:00"},0,null,114,"00:00:00",{"$f":"+IFERROR(IF(VLOOKUP(I117,'BD Dias No utiles'!$B$9:$H$4077,7,FALSE)=\"X\",IF(VLOOKUP(I117+1,'BD Dias No utiles'!$B$9:$H$4077,7,FALSE)=\"X\",IF(VLOOKUP(I117+2,'BD Dias No utiles'!$B$9:$H$4077,7,FALSE)=\"X\",I117+3,I117+2),I117+1),I117),0)","v":"00:00:00"},0]
[null,115,{"$f":"+IF(Simulador!$G$26>='Cronograma Referencial'!B118,EDATE(C117,(B118-B117)*VLOOKUP(Simulador!$G$27,Simulador!$V$18:$W$29,2,FALSE)/30),0)","v":"00:00:00"},0,{"$f":"+IF(Simulador!$G$26>='Cronograma Referencial'!B118,'Cronograma Referencial'!E117+VLOOKUP(Simulador!$G$27,Simulador!$V$18:$W$29,2,FALSE),0)","v":"00:00:00"},0,null,115,"00:00:00",{"$f":"+IFERROR(IF(VLOOKUP(I118,'BD Dias No utiles'!$B$9:$H$4077,7,FALSE)=\"X\",IF(VLOOKUP(I118+1,'BD Dias No utiles'!$B$9:$H$4077,7,FALSE)=\"X\",IF(VLOOKUP(I118+2,'BD Dias No utiles'!$B$9:$H$4077,7,FALSE)=\"X\",I118+3,I118+2),I118+1),I118),0)","v":"00:00:00"},0]
[null,116,{"$f":"+IF(Simulador!$G$26>='Cronograma Referencial'!B119,EDATE(C118,(B119-B118)*VLOOKUP(Simulador!$G$27,Simulador!$V$18:$W$29,2,FALSE)/30),0)","v":"00:00:00"},0,{"$f":"+IF(Simulador!$G$26>='Cronograma Referencial'!B119,'Cronograma Referencial'!E118+VLOOKUP(Simulador!$G$27,Simulador!$V$18:$W$29,2,FALSE),0)","v":"00:00:00"},0,null,116,"00:00:00",{"$f":"+IFERROR(IF(VLOOKUP(I119,'BD Dias No utiles'!$B$9:$H$4077,7,FALSE)=\"X\",IF(VLOOKUP(I119+1,'BD Dias No utiles'!$B$9:$H$4077,7,FALSE)=\"X\",IF(VLOOKUP(I119+2,'BD Dias No utiles'!$B$9:$H$4077,7,FALSE)=\"X\",I119+3,I119+2),I119+1),I119),0)","v":"00:00:00"},0]
[null,117,{"$f":"+IF(Simulador!$G$26>='Cronograma Referencial'!B120,EDATE(C119,(B120-B119)*VLOOKUP(Simulador!$G$27,Simulador!$V$18:$W$29,2,FALSE)/30),0)","v":"00:00:00"},0,{"$f":"+IF(Simulador!$G$26>='Cronograma Referencial'!B120,'Cronograma Referencial'!E119+VLOOKUP(Simulador!$G$27,Simulador!$V$18:$W$29,2,FALSE),0)","v":"00:00:00"},0,null,117,"00:00:00",{"$f":"+IFERROR(IF(VLOOKUP(I120,'BD Dias No utiles'!$B$9:$H$4077,7,FALSE)=\"X\",IF(VLOOKUP(I120+1,'BD Dias No utiles'!$B$9:$H$4077,7,FALSE)=\"X\",IF(VLOOKUP(I120+2,'BD Dias No utiles'!$B$9:$H$4077,7,FALSE)=\"X\",I120+3,I120+2),I120+1),I120),0)","v":"00:00:00"},0]
[null,118,{"$f":"+IF(Simulador!$G$26>='Cronograma Referencial'!B121,EDATE(C120,(B121-B120)*VLOOKUP(Simulador!$G$27,Simulador!$V$18:$W$29,2,FALSE)/30),0)","v":"00:00:00"},0,{"$f":"+IF(Simulador!$G$26>='Cronograma Referencial'!B121,'Cronograma Referencial'!E120+VLOOKUP(Simulador!$G$27,Simulador!$V$18:$W$29,2,FALSE),0)","v":"00:00:00"},0,null,118,"00:00:00",{"$f":"+IFERROR(IF(VLOOKUP(I121,'BD Dias No utiles'!$B$9:$H$4077,7,FALSE)=\"X\",IF(VLOOKUP(I121+1,'BD Dias No utiles'!$B$9:$H$4077,7,FALSE)=\"X\",IF(VLOOKUP(I121+2,'BD Dias No utiles'!$B$9:$H$4077,7,FALSE)=\"X\",I121+3,I121+2),I121+1),I121),0)","v":"00:00:00"},0]
[null,119,{"$f":"+IF(Simulador!$G$26>='Cronograma Referencial'!B122,EDATE(C121,(B122-B121)*VLOOKUP(Simulador!$G$27,Simulador!$V$18:$W$29,2,FALSE)/30),0)","v":"00:00:00"},0,{"$f":"+IF(Simulador!$G$26>='Cronograma Referencial'!B122,'Cronograma Referencial'!E121+VLOOKUP(Simulador!$G$27,Simulador!$V$18:$W$29,2,FALSE),0)","v":"00:00:00"},0,null,119,"00:00:00",{"$f":"+IFERROR(IF(VLOOKUP(I122,'BD Dias No utiles'!$B$9:$H$4077,7,FALSE)=\"X\",IF(VLOOKUP(I122+1,'BD Dias No utiles'!$B$9:$H$4077,7,FALSE)=\"X\",IF(VLOOKUP(I122+2,'BD Dias No utiles'!$B$9:$H$4077,7,FALSE)=\"X\",I122+3,I122+2),I122+1),I122),0)","v":"00:00:00"},0]
[null,120,{"$f":"+IF(Simulador!$G$26>='Cronograma Referencial'!B123,EDATE(C122,(B123-B122)*VLOOKUP(Simulador!$G$27,Simulador!$V$18:$W$29,2,FALSE)/30),0)","v":"00:00:00"},0,{"$f":"+IF(Simulador!$G$26>='Cronograma Referencial'!B123,'Cronograma Referencial'!E122+VLOOKUP(Simulador!$G$27,Simulador!$V$18:$W$29,2,FALSE),0)","v":"00:00:00"},0,null,120,"00:00:00",{"$f":"+IFERROR(IF(VLOOKUP(I123,'BD Dias No utiles'!$B$9:$H$4077,7,FALSE)=\"X\",IF(VLOOKUP(I123+1,'BD Dias No utiles'!$B$9:$H$4077,7,FALSE)=\"X\",IF(VLOOKUP(I123+2,'BD Dias No utiles'!$B$9:$H$4077,7,FALSE)=\"X\",I123+3,I123+2),I123+1),I123),0)","v":"00:00:00"},0]
[null,121,{"$f":"+IF(Simulador!$G$26>='Cronograma Referencial'!B124,EDATE(C123,(B124-B123)*VLOOKUP(Simulador!$G$27,Simulador!$V$18:$W$29,2,FALSE)/30),0)","v":"00:00:00"},0,{"$f":"+IF(Simulador!$G$26>='Cronograma Referencial'!B124,'Cronograma Referencial'!E123+VLOOKUP(Simulador!$G$27,Simulador!$V$18:$W$29,2,FALSE),0)","v":"00:00:00"},0,null,121,"00:00:00",{"$f":"+IFERROR(IF(VLOOKUP(I124,'BD Dias No utiles'!$B$9:$H$4077,7,FALSE)=\"X\",IF(VLOOKUP(I124+1,'BD Dias No utiles'!$B$9:$H$4077,7,FALSE)=\"X\",IF(VLOOKUP(I124+2,'BD Dias No utiles'!$B$9:$H$4077,7,FALSE)=\"X\",I124+3,I124+2),I124+1),I124),0)","v":"00:00:00"},0]
[null,122,{"$f":"+IF(Simulador!$G$26>='Cronograma Referencial'!B125,EDATE(C124,(B125-B124)*VLOOKUP(Simulador!$G$27,Simulador!$V$18:$W$29,2,FALSE)/30),0)","v":"00:00:00"},0,{"$f":"+IF(Simulador!$G$26>='Cronograma Referencial'!B125,'Cronograma Referencial'!E124+VLOOKUP(Simulador!$G$27,Simulador!$V$18:$W$29,2,FALSE),0)","v":"00:00:00"},0,null,122,"00:00:00",{"$f":"+IFERROR(IF(VLOOKUP(I125,'BD Dias No utiles'!$B$9:$H$4077,7,FALSE)=\"X\",IF(VLOOKUP(I125+1,'BD Dias No utiles'!$B$9:$H$4077,7,FALSE)=\"X\",IF(VLOOKUP(I125+2,'BD Dias No utiles'!$B$9:$H$4077,7,FALSE)=\"X\",I125+3,I125+2),I125+1),I125),0)","v":"00:00:00"},0]
[null,123,{"$f":"+IF(Simulador!$G$26>='Cronograma Referencial'!B126,EDATE(C125,(B126-B125)*VLOOKUP(Simulador!$G$27,Simulador!$V$18:$W$29,2,FALSE)/30),0)","v":"00:00:00"},0,{"$f":"+IF(Simulador!$G$26>='Cronograma Referencial'!B126,'Cronograma Referencial'!E125+VLOOKUP(Simulador!$G$27,Simulador!$V$18:$W$29,2,FALSE),0)","v":"00:00:00"},0,null,123,"00:00:00",{"$f":"+IFERROR(IF(VLOOKUP(I126,'BD Dias No utiles'!$B$9:$H$4077,7,FALSE)=\"X\",IF(VLOOKUP(I126+1,'BD Dias No utiles'!$B$9:$H$4077,7,FALSE)=\"X\",IF(VLOOKUP(I126+2,'BD Dias No utiles'!$B$9:$H$4077,7,FALSE)=\"X\",I126+3,I126+2),I126+1),I126),0)","v":"00:00:00"},0]
[null,124,{"$f":"+IF(Simulador!$G$26>='Cronograma Referencial'!B127,EDATE(C126,(B127-B126)*VLOOKUP(Simulador!$G$27,Simulador!$V$18:$W$29,2,FALSE)/30),0)","v":"00:00:00"},0,{"$f":"+IF(Simulador!$G$26>='Cronograma Referencial'!B127,'Cronograma Referencial'!E126+VLOOKUP(Simulador!$G$27,Simulador!$V$18:$W$29,2,FALSE),0)","v":"00:00:00"},0,null,124,"00:00:00",{"$f":"+IFERROR(IF(VLOOKUP(I127,'BD Dias No utiles'!$B$9:$H$4077,7,FALSE)=\"X\",IF(VLOOKUP(I127+1,'BD Dias No utiles'!$B$9:$H$4077,7,FALSE)=\"X\",IF(VLOOKUP(I127+2,'BD Dias No utiles'!$B$9:$H$4077,7,FALSE)=\"X\",I127+3,I127+2),I127+1),I127),0)","v":"00:00:00"},0]
[null,125,{"$f":"+IF(Simulador!$G$26>='Cronograma Referencial'!B128,EDATE(C127,(B128-B127)*VLOOKUP(Simulador!$G$27,Simulador!$V$18:$W$29,2,FALSE)/30),0)","v":"00:00:00"},0,{"$f":"+IF(Simulador!$G$26>='Cronograma Referencial'!B128,'Cronograma Referencial'!E127+VLOOKUP(Simulador!$G$27,Simulador!$V$18:$W$29,2,FALSE),0)","v":"00:00:00"},0,null,125,"00:00:00",{"$f":"+IFERROR(IF(VLOOKUP(I128,'BD Dias No utiles'!$B$9:$H$4077,7,FALSE)=\"X\",IF(VLOOKUP(I128+1,'BD Dias No utiles'!$B$9:$H$4077,7,FALSE)=\"X\",IF(VLOOKUP(I128+2,'BD Dias No utiles'!$B$9:$H$4077,7,FALSE)=\"X\",I128+3,I128+2),I128+1),I128),0)","v":"00:00:00"},0]
[null,126,{"$f":"+IF(Simulador!$G$26>='Cronograma Referencial'!B129,EDATE(C128,(B129-B128)*VLOOKUP(Simulador!$G$27,Simulador!$V$18:$W$29,2,FALSE)/30),0)","v":"00:00:00"},0,{"$f":"+IF(Simulador!$G$26>='Cronograma Referencial'!B129,'Cronograma Referencial'!E128+VLOOKUP(Simulador!$G$27,Simulador!$V$18:$W$29,2,FALSE),0)","v":"00:00:00"},0,null,126,"00:00:00",{"$f":"+IFERROR(IF(VLOOKUP(I129,'BD Dias No utiles'!$B$9:$H$4077,7,FALSE)=\"X\",IF(VLOOKUP(I129+1,'BD Dias No utiles'!$B$9:$H$4077,7,FALSE)=\"X\",IF(VLOOKUP(I129+2,'BD Dias No utiles'!$B$9:$H$4077,7,FALSE)=\"X\",I129+3,I129+2),I129+1),I129),0)","v":"00:00:00"},0]
[null,127,{"$f":"+IF(Simulador!$G$26>='Cronograma Referencial'!B130,EDATE(C129,(B130-B129)*VLOOKUP(Simulador!$G$27,Simulador!$V$18:$W$29,2,FALSE)/30),0)","v":"00:00:00"},0,{"$f":"+IF(Simulador!$G$26>='Cronograma Referencial'!B130,'Cronograma Referencial'!E129+VLOOKUP(Simulador!$G$27,Simulador!$V$18:$W$29,2,FALSE),0)","v":"00:00:00"},0,null,127,"00:00:00",{"$f":"+IFERROR(IF(VLOOKUP(I130,'BD Dias No utiles'!$B$9:$H$4077,7,FALSE)=\"X\",IF(VLOOKUP(I130+1,'BD Dias No utiles'!$B$9:$H$4077,7,FALSE)=\"X\",IF(VLOOKUP(I130+2,'BD Dias No utiles'!$B$9:$H$4077,7,FALSE)=\"X\",I130+3,I130+2),I130+1),I130),0)","v":"00:00:00"},0]
[null,128,{"$f":"+IF(Simulador!$G$26>='Cronograma Referencial'!B131,EDATE(C130,(B131-B130)*VLOOKUP(Simulador!$G$27,Simulador!$V$18:$W$29,2,FALSE)/30),0)","v":"00:00:00"},0,{"$f":"+IF(Simulador!$G$26>='Cronograma Referencial'!B131,'Cronograma Referencial'!E130+VLOOKUP(Simulador!$G$27,Simulador!$V$18:$W$29,2,FALSE),0)","v":"00:00:00"},0,null,128,"00:00:00",{"$f":"+IFERROR(IF(VLOOKUP(I131,'BD Dias No utiles'!$B$9:$H$4077,7,FALSE)=\"X\",IF(VLOOKUP(I131+1,'BD Dias No utiles'!$B$9:$H$4077,7,FALSE)=\"X\",IF(VLOOKUP(I131+2,'BD Dias No utiles'!$B$9:$H$4077,7,FALSE)=\"X\",I131+3,I131+2),I131+1),I131),0)","v":"00:00:00"},0]
[null,129,{"$f":"+IF(Simulador!$G$26>='Cronograma Referencial'!B132,EDATE(C131,(B132-B131)*VLOOKUP(Simulador!$G$27,Simulador!$V$18:$W$29,2,FALSE)/30),0)","v":"00:00:00"},0,{"$f":"+IF(Simulador!$G$26>='Cronograma Referencial'!B132,'Cronograma Referencial'!E131+VLOOKUP(Simulador!$G$27,Simulador!$V$18:$W$29,2,FALSE),0)","v":"00:00:00"},0,null,{"$f":"+B132","v":129},"00:00:00",{"$f":"+IFERROR(IF(VLOOKUP(I132,'BD Dias No utiles'!$B$9:$H$4077,7,FALSE)=\"X\",IF(VLOOKUP(I132+1,'BD Dias No utiles'!$B$9:$H$4077,7,FALSE)=\"X\",IF(VLOOKUP(I132+2,'BD Dias No utiles'!$B$9:$H$4077,7,FALSE)=\"X\",I132+3,I132+2),I132+1),I132),0)","v":"00:00:00"},0]
[null,130,{"$f":"+IF(Simulador!$G$26>='Cronograma Referencial'!B133,EDATE(C132,(B133-B132)*VLOOKUP(Simulador!$G$27,Simulador!$V$18:$W$29,2,FALSE)/30),0)","v":"00:00:00"},{"$f":"+C133-C132","v":0},{"$f":"+IF(Simulador!$G$26>='Cronograma Referencial'!B133,'Cronograma Referencial'!E132+VLOOKUP(Simulador!$G$27,Simulador!$V$18:$W$29,2,FALSE),0)","v":"00:00:00"},0,null,130,{"$f":"+HLOOKUP($I$2,$C$2:$E$418,H133+2)","v":"00:00:00"},{"$f":"+IFERROR(IF(VLOOKUP(I133,'BD Dias No utiles'!$B$9:$H$4077,7,FALSE)=\"X\",IF(VLOOKUP(I133+1,'BD Dias No utiles'!$B$9:$H$4077,7,FALSE)=\"X\",IF(VLOOKUP(I133+2,'BD Dias No utiles'!$B$9:$H$4077,7,FALSE)=\"X\",I133+3,I133+2),I133+1),I133),0)","v":"00:00:00"},{"$f":"+I133-I132","v":0}]
[null,{"$f":"+B133+1","v":131},{"$f":"+IF(Simulador!$G$26>='Cronograma Referencial'!B134,EDATE(C133,(B134-B133)*VLOOKUP(Simulador!$G$27,Simulador!$V$18:$W$29,2,FALSE)/30),0)","v":"00:00:00"},0,{"$f":"+IF(Simulador!$G$26>='Cronograma Referencial'!B134,'Cronograma Referencial'!E133+VLOOKUP(Simulador!$G$27,Simulador!$V$18:$W$29,2,FALSE),0)","v":"00:00:00"},{"$f":"+E134-E133","v":0},null,131,"00:00:00",{"$f":"+IFERROR(IF(VLOOKUP(I134,'BD Dias No utiles'!$B$9:$H$4077,7,FALSE)=\"X\",IF(VLOOKUP(I134+1,'BD Dias No utiles'!$B$9:$H$4077,7,FALSE)=\"X\",IF(VLOOKUP(I134+2,'BD Dias No utiles'!$B$9:$H$4077,7,FALSE)=\"X\",I134+3,I134+2),I134+1),I134),0)","v":"00:00:00"},0]
[null,132,{"$f":"+IF(Simulador!$G$26>='Cronograma Referencial'!B135,EDATE(C134,(B135-B134)*VLOOKUP(Simulador!$G$27,Simulador!$V$18:$W$29,2,FALSE)/30),0)","v":"00:00:00"},0,{"$f":"+IF(Simulador!$G$26>='Cronograma Referencial'!B135,'Cronograma Referencial'!E134+VLOOKUP(Simulador!$G$27,Simulador!$V$18:$W$29,2,FALSE),0)","v":"00:00:00"},0,null,132,"00:00:00",{"$f":"+IFERROR(IF(VLOOKUP(I135,'BD Dias No utiles'!$B$9:$H$4077,7,FALSE)=\"X\",IF(VLOOKUP(I135+1,'BD Dias No utiles'!$B$9:$H$4077,7,FALSE)=\"X\",IF(VLOOKUP(I135+2,'BD Dias No utiles'!$B$9:$H$4077,7,FALSE)=\"X\",I135+3,I135+2),I135+1),I135),0)","v":"00:00:00"},0]
[null,133,{"$f":"+IF(Simulador!$G$26>='Cronograma Referencial'!B136,EDATE(C135,(B136-B135)*VLOOKUP(Simulador!$G$27,Simulador!$V$18:$W$29,2,FALSE)/30),0)","v":"00:00:00"},0,{"$f":"+IF(Simulador!$G$26>='Cronograma Referencial'!B136,'Cronograma Referencial'!E135+VLOOKUP(Simulador!$G$27,Simulador!$V$18:$W$29,2,FALSE),0)","v":"00:00:00"},0,null,133,"00:00:00",{"$f":"+IFERROR(IF(VLOOKUP(I136,'BD Dias No utiles'!$B$9:$H$4077,7,FALSE)=\"X\",IF(VLOOKUP(I136+1,'BD Dias No utiles'!$B$9:$H$4077,7,FALSE)=\"X\",IF(VLOOKUP(I136+2,'BD Dias No utiles'!$B$9:$H$4077,7,FALSE)=\"X\",I136+3,I136+2),I136+1),I136),0)","v":"00:00:00"},0]
[null,134,{"$f":"+IF(Simulador!$G$26>='Cronograma Referencial'!B137,EDATE(C136,(B137-B136)*VLOOKUP(Simulador!$G$27,Simulador!$V$18:$W$29,2,FALSE)/30),0)","v":"00:00:00"},0,{"$f":"+IF(Simulador!$G$26>='Cronograma Referencial'!B137,'Cronograma Referencial'!E136+VLOOKUP(Simulador!$G$27,Simulador!$V$18:$W$29,2,FALSE),0)","v":"00:00:00"},0,null,134,"00:00:00",{"$f":"+IFERROR(IF(VLOOKUP(I137,'BD Dias No utiles'!$B$9:$H$4077,7,FALSE)=\"X\",IF(VLOOKUP(I137+1,'BD Dias No utiles'!$B$9:$H$4077,7,FALSE)=\"X\",IF(VLOOKUP(I137+2,'BD Dias No utiles'!$B$9:$H$4077,7,FALSE)=\"X\",I137+3,I137+2),I137+1),I137),0)","v":"00:00:00"},0]
[null,135,{"$f":"+IF(Simulador!$G$26>='Cronograma Referencial'!B138,EDATE(C137,(B138-B137)*VLOOKUP(Simulador!$G$27,Simulador!$V$18:$W$29,2,FALSE)/30),0)","v":"00:00:00"},0,{"$f":"+IF(Simulador!$G$26>='Cronograma Referencial'!B138,'Cronograma Referencial'!E137+VLOOKUP(Simulador!$G$27,Simulador!$V$18:$W$29,2,FALSE),0)","v":"00:00:00"},0,null,135,"00:00:00",{"$f":"+IFERROR(IF(VLOOKUP(I138,'BD Dias No utiles'!$B$9:$H$4077,7,FALSE)=\"X\",IF(VLOOKUP(I138+1,'BD Dias No utiles'!$B$9:$H$4077,7,FALSE)=\"X\",IF(VLOOKUP(I138+2,'BD Dias No utiles'!$B$9:$H$4077,7,FALSE)=\"X\",I138+3,I138+2),I138+1),I138),0)","v":"00:00:00"},0]
[null,136,{"$f":"+IF(Simulador!$G$26>='Cronograma Referencial'!B139,EDATE(C138,(B139-B138)*VLOOKUP(Simulador!$G$27,Simulador!$V$18:$W$29,2,FALSE)/30),0)","v":"00:00:00"},0,{"$f":"+IF(Simulador!$G$26>='Cronograma Referencial'!B139,'Cronograma Referencial'!E138+VLOOKUP(Simulador!$G$27,Simulador!$V$18:$W$29,2,FALSE),0)","v":"00:00:00"},0,null,136,"00:00:00",{"$f":"+IFERROR(IF(VLOOKUP(I139,'BD Dias No utiles'!$B$9:$H$4077,7,FALSE)=\"X\",IF(VLOOKUP(I139+1,'BD Dias No utiles'!$B$9:$H$4077,7,FALSE)=\"X\",IF(VLOOKUP(I139+2,'BD Dias No utiles'!$B$9:$H$4077,7,FALSE)=\"X\",I139+3,I139+2),I139+1),I139),0)","v":"00:00:00"},0]
[null,137,{"$f":"+IF(Simulador!$G$26>='Cronograma Referencial'!B140,EDATE(C139,(B140-B139)*VLOOKUP(Simulador!$G$27,Simulador!$V$18:$W$29,2,FALSE)/30),0)","v":"00:00:00"},0,{"$f":"+IF(Simulador!$G$26>='Cronograma Referencial'!B140,'Cronograma Referencial'!E139+VLOOKUP(Simulador!$G$27,Simulador!$V$18:$W$29,2,FALSE),0)","v":"00:00:00"},0,null,137,"00:00:00",{"$f":"+IFERROR(IF(VLOOKUP(I140,'BD Dias No utiles'!$B$9:$H$4077,7,FALSE)=\"X\",IF(VLOOKUP(I140+1,'BD Dias No utiles'!$B$9:$H$4077,7,FALSE)=\"X\",IF(VLOOKUP(I140+2,'BD Dias No utiles'!$B$9:$H$4077,7,FALSE)=\"X\",I140+3,I140+2),I140+1),I140),0)","v":"00:00:00"},0]
[null,138,{"$f":"+IF(Simulador!$G$26>='Cronograma Referencial'!B141,EDATE(C140,(B141-B140)*VLOOKUP(Simulador!$G$27,Simulador!$V$18:$W$29,2,FALSE)/30),0)","v":"00:00:00"},0,{"$f":"+IF(Simulador!$G$26>='Cronograma Referencial'!B141,'Cronograma Referencial'!E140+VLOOKUP(Simulador!$G$27,Simulador!$V$18:$W$29,2,FALSE),0)","v":"00:00:00"},0,null,138,"00:00:00",{"$f":"+IFERROR(IF(VLOOKUP(I141,'BD Dias No utiles'!$B$9:$H$4077,7,FALSE)=\"X\",IF(VLOOKUP(I141+1,'BD Dias No utiles'!$B$9:$H$4077,7,FALSE)=\"X\",IF(VLOOKUP(I141+2,'BD Dias No utiles'!$B$9:$H$4077,7,FALSE)=\"X\",I141+3,I141+2),I141+1),I141),0)","v":"00:00:00"},0]
[null,139,{"$f":"+IF(Simulador!$G$26>='Cronograma Referencial'!B142,EDATE(C141,(B142-B141)*VLOOKUP(Simulador!$G$27,Simulador!$V$18:$W$29,2,FALSE)/30),0)","v":"00:00:00"},0,{"$f":"+IF(Simulador!$G$26>='Cronograma Referencial'!B142,'Cronograma Referencial'!E141+VLOOKUP(Simulador!$G$27,Simulador!$V$18:$W$29,2,FALSE),0)","v":"00:00:00"},0,null,139,"00:00:00",{"$f":"+IFERROR(IF(VLOOKUP(I142,'BD Dias No utiles'!$B$9:$H$4077,7,FALSE)=\"X\",IF(VLOOKUP(I142+1,'BD Dias No utiles'!$B$9:$H$4077,7,FALSE)=\"X\",IF(VLOOKUP(I142+2,'BD Dias No utiles'!$B$9:$H$4077,7,FALSE)=\"X\",I142+3,I142+2),I142+1),I142),0)","v":"00:00:00"},0]
[null,140,{"$f":"+IF(Simulador!$G$26>='Cronograma Referencial'!B143,EDATE(C142,(B143-B142)*VLOOKUP(Simulador!$G$27,Simulador!$V$18:$W$29,2,FALSE)/30),0)","v":"00:00:00"},0,{"$f":"+IF(Simulador!$G$26>='Cronograma Referencial'!B143,'Cronograma Referencial'!E142+VLOOKUP(Simulador!$G$27,Simulador!$V$18:$W$29,2,FALSE),0)","v":"00:00:00"},0,null,140,"00:00:00",{"$f":"+IFERROR(IF(VLOOKUP(I143,'BD Dias No utiles'!$B$9:$H$4077,7,FALSE)=\"X\",IF(VLOOKUP(I143+1,'BD Dias No utiles'!$B$9:$H$4077,7,FALSE)=\"X\",IF(VLOOKUP(I143+2,'BD Dias No utiles'!$B$9:$H$4077,7,FALSE)=\"X\",I143+3,I143+2),I143+1),I143),0)","v":"00:00:00"},0]
[null,141,{"$f":"+IF(Simulador!$G$26>='Cronograma Referencial'!B144,EDATE(C143,(B144-B143)*VLOOKUP(Simulador!$G$27,Simulador!$V$18:$W$29,2,FALSE)/30),0)","v":"00:00:00"},0,{"$f":"+IF(Simulador!$G$26>='Cronograma Referencial'!B144,'Cronograma Referencial'!E143+VLOOKUP(Simulador!$G$27,Simulador!$V$18:$W$29,2,FALSE),0)","v":"00:00:00"},0,null,141,"00:00:00",{"$f":"+IFERROR(IF(VLOOKUP(I144,'BD Dias No utiles'!$B$9:$H$4077,7,FALSE)=\"X\",IF(VLOOKUP(I144+1,'BD Dias No utiles'!$B$9:$H$4077,7,FALSE)=\"X\",IF(VLOOKUP(I144+2,'BD Dias No utiles'!$B$9:$H$4077,7,FALSE)=\"X\",I144+3,I144+2),I144+1),I144),0)","v":"00:00:00"},0]
[null,142,{"$f":"+IF(Simulador!$G$26>='Cronograma Referencial'!B145,EDATE(C144,(B145-B144)*VLOOKUP(Simulador!$G$27,Simulador!$V$18:$W$29,2,FALSE)/30),0)","v":"00:00:00"},0,{"$f":"+IF(Simulador!$G$26>='Cronograma Referencial'!B145,'Cronograma Referencial'!E144+VLOOKUP(Simulador!$G$27,Simulador!$V$18:$W$29,2,FALSE),0)","v":"00:00:00"},0,null,142,"00:00:00",{"$f":"+IFERROR(IF(VLOOKUP(I145,'BD Dias No utiles'!$B$9:$H$4077,7,FALSE)=\"X\",IF(VLOOKUP(I145+1,'BD Dias No utiles'!$B$9:$H$4077,7,FALSE)=\"X\",IF(VLOOKUP(I145+2,'BD Dias No utiles'!$B$9:$H$4077,7,FALSE)=\"X\",I145+3,I145+2),I145+1),I145),0)","v":"00:00:00"},0]
[null,143,{"$f":"+IF(Simulador!$G$26>='Cronograma Referencial'!B146,EDATE(C145,(B146-B145)*VLOOKUP(Simulador!$G$27,Simulador!$V$18:$W$29,2,FALSE)/30),0)","v":"00:00:00"},0,{"$f":"+IF(Simulador!$G$26>='Cronograma Referencial'!B146,'Cronograma Referencial'!E145+VLOOKUP(Simulador!$G$27,Simulador!$V$18:$W$29,2,FALSE),0)","v":"00:00:00"},0,null,143,"00:00:00",{"$f":"+IFERROR(IF(VLOOKUP(I146,'BD Dias No utiles'!$B$9:$H$4077,7,FALSE)=\"X\",IF(VLOOKUP(I146+1,'BD Dias No utiles'!$B$9:$H$4077,7,FALSE)=\"X\",IF(VLOOKUP(I146+2,'BD Dias No utiles'!$B$9:$H$4077,7,FALSE)=\"X\",I146+3,I146+2),I146+1),I146),0)","v":"00:00:00"},0]
[null,144,{"$f":"+IF(Simulador!$G$26>='Cronograma Referencial'!B147,EDATE(C146,(B147-B146)*VLOOKUP(Simulador!$G$27,Simulador!$V$18:$W$29,2,FALSE)/30),0)","v":"00:00:00"},0,{"$f":"+IF(Simulador!$G$26>='Cronograma Referencial'!B147,'Cronograma Referencial'!E146+VLOOKUP(Simulador!$G$27,Simulador!$V$18:$W$29,2,FALSE),0)","v":"00:00:00"},0,null,144,"00:00:00",{"$f":"+IFERROR(IF(VLOOKUP(I147,'BD Dias No utiles'!$B$9:$H$4077,7,FALSE)=\"X\",IF(VLOOKUP(I147+1,'BD Dias No utiles'!$B$9:$H$4077,7,FALSE)=\"X\",IF(VLOOKUP(I147+2,'BD Dias No utiles'!$B$9:$H$4077,7,FALSE)=\"X\",I147+3,I147+2),I147+1),I147),0)","v":"00:00:00"},0]
[null,145,{"$f":"+IF(Simulador!$G$26>='Cronograma Referencial'!B148,EDATE(C147,(B148-B147)*VLOOKUP(Simulador!$G$27,Simulador!$V$18:$W$29,2,FALSE)/30),0)","v":"00:00:00"},0,{"$f":"+IF(Simulador!$G$26>='Cronograma Referencial'!B148,'Cronograma Referencial'!E147+VLOOKUP(Simulador!$G$27,Simulador!$V$18:$W$29,2,FALSE),0)","v":"00:00:00"},0,null,145,"00:00:00",{"$f":"+IFERROR(IF(VLOOKUP(I148,'BD Dias No utiles'!$B$9:$H$4077,7,FALSE)=\"X\",IF(VLOOKUP(I148+1,'BD Dias No utiles'!$B$9:$H$4077,7,FALSE)=\"X\",IF(VLOOKUP(I148+2,'BD Dias No utiles'!$B$9:$H$4077,7,FALSE)=\"X\",I148+3,I148+2),I148+1),I148),0)","v":"00:00:00"},0]
[null,146,{"$f":"+IF(Simulador!$G$26>='Cronograma Referencial'!B149,EDATE(C148,(B149-B148)*VLOOKUP(Simulador!$G$27,Simulador!$V$18:$W$29,2,FALSE)/30),0)","v":"00:00:00"},0,{"$f":"+IF(Simulador!$G$26>='Cronograma Referencial'!B149,'Cronograma Referencial'!E148+VLOOKUP(Simulador!$G$27,Simulador!$V$18:$W$29,2,FALSE),0)","v":"00:00:00"},0,null,146,"00:00:00",{"$f":"+IFERROR(IF(VLOOKUP(I149,'BD Dias No utiles'!$B$9:$H$4077,7,FALSE)=\"X\",IF(VLOOKUP(I149+1,'BD Dias No utiles'!$B$9:$H$4077,7,FALSE)=\"X\",IF(VLOOKUP(I149+2,'BD Dias No utiles'!$B$9:$H$4077,7,FALSE)=\"X\",I149+3,I149+2),I149+1),I149),0)","v":"00:00:00"},0]
[null,147,{"$f":"+IF(Simulador!$G$26>='Cronograma Referencial'!B150,EDATE(C149,(B150-B149)*VLOOKUP(Simulador!$G$27,Simulador!$V$18:$W$29,2,FALSE)/30),0)","v":"00:00:00"},0,{"$f":"+IF(Simulador!$G$26>='Cronograma Referencial'!B150,'Cronograma Referencial'!E149+VLOOKUP(Simulador!$G$27,Simulador!$V$18:$W$29,2,FALSE),0)","v":"00:00:00"},0,null,147,"00:00:00",{"$f":"+IFERROR(IF(VLOOKUP(I150,'BD Dias No utiles'!$B$9:$H$4077,7,FALSE)=\"X\",IF(VLOOKUP(I150+1,'BD Dias No utiles'!$B$9:$H$4077,7,FALSE)=\"X\",IF(VLOOKUP(I150+2,'BD Dias No utiles'!$B$9:$H$4077,7,FALSE)=\"X\",I150+3,I150+2),I150+1),I150),0)","v":"00:00:00"},0]
[null,148,{"$f":"+IF(Simulador!$G$26>='Cronograma Referencial'!B151,EDATE(C150,(B151-B150)*VLOOKUP(Simulador!$G$27,Simulador!$V$18:$W$29,2,FALSE)/30),0)","v":"00:00:00"},0,{"$f":"+IF(Simulador!$G$26>='Cronograma Referencial'!B151,'Cronograma Referencial'!E150+VLOOKUP(Simulador!$G$27,Simulador!$V$18:$W$29,2,FALSE),0)","v":"00:00:00"},0,null,148,"00:00:00",{"$f":"+IFERROR(IF(VLOOKUP(I151,'BD Dias No utiles'!$B$9:$H$4077,7,FALSE)=\"X\",IF(VLOOKUP(I151+1,'BD Dias No utiles'!$B$9:$H$4077,7,FALSE)=\"X\",IF(VLOOKUP(I151+2,'BD Dias No utiles'!$B$9:$H$4077,7,FALSE)=\"X\",I151+3,I151+2),I151+1),I151),0)","v":"00:00:00"},0]
[null,149,{"$f":"+IF(Simulador!$G$26>='Cronograma Referencial'!B152,EDATE(C151,(B152-B151)*VLOOKUP(Simulador!$G$27,Simulador!$V$18:$W$29,2,FALSE)/30),0)","v":"00:00:00"},0,{"$f":"+IF(Simulador!$G$26>='Cronograma Referencial'!B152,'Cronograma Referencial'!E151+VLOOKUP(Simulador!$G$27,Simulador!$V$18:$W$29,2,FALSE),0)","v":"00:00:00"},0,null,149,"00:00:00",{"$f":"+IFERROR(IF(VLOOKUP(I152,'BD Dias No utiles'!$B$9:$H$4077,7,FALSE)=\"X\",IF(VLOOKUP(I152+1,'BD Dias No utiles'!$B$9:$H$4077,7,FALSE)=\"X\",IF(VLOOKUP(I152+2,'BD Dias No utiles'!$B$9:$H$4077,7,FALSE)=\"X\",I152+3,I152+2),I152+1),I152),0)","v":"00:00:00"},0]
[null,150,{"$f":"+IF(Simulador!$G$26>='Cronograma Referencial'!B153,EDATE(C152,(B153-B152)*VLOOKUP(Simulador!$G$27,Simulador!$V$18:$W$29,2,FALSE)/30),0)","v":"00:00:00"},0,{"$f":"+IF(Simulador!$G$26>='Cronograma Referencial'!B153,'Cronograma Referencial'!E152+VLOOKUP(Simulador!$G$27,Simulador!$V$18:$W$29,2,FALSE),0)","v":"00:00:00"},0,null,150,"00:00:00",{"$f":"+IFERROR(IF(VLOOKUP(I153,'BD Dias No utiles'!$B$9:$H$4077,7,FALSE)=\"X\",IF(VLOOKUP(I153+1,'BD Dias No utiles'!$B$9:$H$4077,7,FALSE)=\"X\",IF(VLOOKUP(I153+2,'BD Dias No utiles'!$B$9:$H$4077,7,FALSE)=\"X\",I153+3,I153+2),I153+1),I153),0)","v":"00:00:00"},0]
[null,151,{"$f":"+IF(Simulador!$G$26>='Cronograma Referencial'!B154,EDATE(C153,(B154-B153)*VLOOKUP(Simulador!$G$27,Simulador!$V$18:$W$29,2,FALSE)/30),0)","v":"00:00:00"},0,{"$f":"+IF(Simulador!$G$26>='Cronograma Referencial'!B154,'Cronograma Referencial'!E153+VLOOKUP(Simulador!$G$27,Simulador!$V$18:$W$29,2,FALSE),0)","v":"00:00:00"},0,null,151,"00:00:00",{"$f":"+IFERROR(IF(VLOOKUP(I154,'BD Dias No utiles'!$B$9:$H$4077,7,FALSE)=\"X\",IF(VLOOKUP(I154+1,'BD Dias No utiles'!$B$9:$H$4077,7,FALSE)=\"X\",IF(VLOOKUP(I154+2,'BD Dias No utiles'!$B$9:$H$4077,7,FALSE)=\"X\",I154+3,I154+2),I154+1),I154),0)","v":"00:00:00"},0]
[null,152,{"$f":"+IF(Simulador!$G$26>='Cronograma Referencial'!B155,EDATE(C154,(B155-B154)*VLOOKUP(Simulador!$G$27,Simulador!$V$18:$W$29,2,FALSE)/30),0)","v":"00:00:00"},0,{"$f":"+IF(Simulador!$G$26>='Cronograma Referencial'!B155,'Cronograma Referencial'!E154+VLOOKUP(Simulador!$G$27,Simulador!$V$18:$W$29,2,FALSE),0)","v":"00:00:00"},0,null,152,"00:00:00",{"$f":"+IFERROR(IF(VLOOKUP(I155,'BD Dias No utiles'!$B$9:$H$4077,7,FALSE)=\"X\",IF(VLOOKUP(I155+1,'BD Dias No utiles'!$B$9:$H$4077,7,FALSE)=\"X\",IF(VLOOKUP(I155+2,'BD Dias No utiles'!$B$9:$H$4077,7,FALSE)=\"X\",I155+3,I155+2),I155+1),I155),0)","v":"00:00:00"},0]
[null,153,{"$f":"+IF(Simulador!$G$26>='Cronograma Referencial'!B156,EDATE(C155,(B156-B155)*VLOOKUP(Simulador!$G$27,Simulador!$V$18:$W$29,2,FALSE)/30),0)","v":"00:00:00"},0,{"$f":"+IF(Simulador!$G$26>='Cronograma Referencial'!B156,'Cronograma Referencial'!E155+VLOOKUP(Simulador!$G$27,Simulador!$V$18:$W$29,2,FALSE),0)","v":"00:00:00"},0,null,153,"00:00:00",{"$f":"+IFERROR(IF(VLOOKUP(I156,'BD Dias No utiles'!$B$9:$H$4077,7,FALSE)=\"X\",IF(VLOOKUP(I156+1,'BD Dias No utiles'!$B$9:$H$4077,7,FALSE)=\"X\",IF(VLOOKUP(I156+2,'BD Dias No utiles'!$B$9:$H$4077,7,FALSE)=\"X\",I156+3,I156+2),I156+1),I156),0)","v":"00:00:00"},0]
[null,154,{"$f":"+IF(Simulador!$G$26>='Cronograma Referencial'!B157,EDATE(C156,(B157-B156)*VLOOKUP(Simulador!$G$27,Simulador!$V$18:$W$29,2,FALSE)/30),0)","v":"00:00:00"},0,{"$f":"+IF(Simulador!$G$26>='Cronograma Referencial'!B157,'Cronograma Referencial'!E156+VLOOKUP(Simulador!$G$27,Simulador!$V$18:$W$29,2,FALSE),0)","v":"00:00:00"},0,null,154,"00:00:00",{"$f":"+IFERROR(IF(VLOOKUP(I157,'BD Dias No utiles'!$B$9:$H$4077,7,FALSE)=\"X\",IF(VLOOKUP(I157+1,'BD Dias No utiles'!$B$9:$H$4077,7,FALSE)=\"X\",IF(VLOOKUP(I157+2,'BD Dias No utiles'!$B$9:$H$4077,7,FALSE)=\"X\",I157+3,I157+2),I157+1),I157),0)","v":"00:00:00"},0]
[null,155,{"$f":"+IF(Simulador!$G$26>='Cronograma Referencial'!B158,EDATE(C157,(B158-B157)*VLOOKUP(Simulador!$G$27,Simulador!$V$18:$W$29,2,FALSE)/30),0)","v":"00:00:00"},0,{"$f":"+IF(Simulador!$G$26>='Cronograma Referencial'!B158,'Cronograma Referencial'!E157+VLOOKUP(Simulador!$G$27,Simulador!$V$18:$W$29,2,FALSE),0)","v":"00:00:00"},0,null,155,"00:00:00",{"$f":"+IFERROR(IF(VLOOKUP(I158,'BD Dias No utiles'!$B$9:$H$4077,7,FALSE)=\"X\",IF(VLOOKUP(I158+1,'BD Dias No utiles'!$B$9:$H$4077,7,FALSE)=\"X\",IF(VLOOKUP(I158+2,'BD Dias No utiles'!$B$9:$H$4077,7,FALSE)=\"X\",I158+3,I158+2),I158+1),I158),0)","v":"00:00:00"},0]
[null,156,{"$f":"+IF(Simulador!$G$26>='Cronograma Referencial'!B159,EDATE(C158,(B159-B158)*VLOOKUP(Simulador!$G$27,Simulador!$V$18:$W$29,2,FALSE)/30),0)","v":"00:00:00"},0,{"$f":"+IF(Simulador!$G$26>='Cronograma Referencial'!B159,'Cronograma Referencial'!E158+VLOOKUP(Simulador!$G$27,Simulador!$V$18:$W$29,2,FALSE),0)","v":"00:00:00"},0,null,156,"00:00:00",{"$f":"+IFERROR(IF(VLOOKUP(I159,'BD Dias No utiles'!$B$9:$H$4077,7,FALSE)=\"X\",IF(VLOOKUP(I159+1,'BD Dias No utiles'!$B$9:$H$4077,7,FALSE)=\"X\",IF(VLOOKUP(I159+2,'BD Dias No utiles'!$B$9:$H$4077,7,FALSE)=\"X\",I159+3,I159+2),I159+1),I159),0)","v":"00:00:00"},0]
[null,157,{"$f":"+IF(Simulador!$G$26>='Cronograma Referencial'!B160,EDATE(C159,(B160-B159)*VLOOKUP(Simulador!$G$27,Simulador!$V$18:$W$29,2,FALSE)/30),0)","v":"00:00:00"},0,{"$f":"+IF(Simulador!$G$26>='Cronograma Referencial'!B160,'Cronograma Referencial'!E159+VLOOKUP(Simulador!$G$27,Simulador!$V$18:$W$29,2,FALSE),0)","v":"00:00:00"},0,null,157,"00:00:00",{"$f":"+IFERROR(IF(VLOOKUP(I160,'BD Dias No utiles'!$B$9:$H$4077,7,FALSE)=\"X\",IF(VLOOKUP(I160+1,'BD Dias No utiles'!$B$9:$H$4077,7,FALSE)=\"X\",IF(VLOOKUP(I160+2,'BD Dias No utiles'!$B$9:$H$4077,7,FALSE)=\"X\",I160+3,I160+2),I160+1),I160),0)","v":"00:00:00"},0]
[null,158,{"$f":"+IF(Simulador!$G$26>='Cronograma Referencial'!B161,EDATE(C160,(B161-B160)*VLOOKUP(Simulador!$G$27,Simulador!$V$18:$W$29,2,FALSE)/30),0)","v":"00:00:00"},0,{"$f":"+IF(Simulador!$G$26>='Cronograma Referencial'!B161,'Cronograma Referencial'!E160+VLOOKUP(Simulador!$G$27,Simulador!$V$18:$W$29,2,FALSE),0)","v":"00:00:00"},0,null,158,"00:00:00",{"$f":"+IFERROR(IF(VLOOKUP(I161,'BD Dias No utiles'!$B$9:$H$4077,7,FALSE)=\"X\",IF(VLOOKUP(I161+1,'BD Dias No utiles'!$B$9:$H$4077,7,FALSE)=\"X\",IF(VLOOKUP(I161+2,'BD Dias No utiles'!$B$9:$H$4077,7,FALSE)=\"X\",I161+3,I161+2),I161+1),I161),0)","v":"00:00:00"},0]
[null,159,{"$f":"+IF(Simulador!$G$26>='Cronograma Referencial'!B162,EDATE(C161,(B162-B161)*VLOOKUP(Simulador!$G$27,Simulador!$V$18:$W$29,2,FALSE)/30),0)","v":"00:00:00"},0,{"$f":"+IF(Simulador!$G$26>='Cronograma Referencial'!B162,'Cronograma Referencial'!E161+VLOOKUP(Simulador!$G$27,Simulador!$V$18:$W$29,2,FALSE),0)","v":"00:00:00"},0,null,159,"00:00:00",{"$f":"+IFERROR(IF(VLOOKUP(I162,'BD Dias No utiles'!$B$9:$H$4077,7,FALSE)=\"X\",IF(VLOOKUP(I162+1,'BD Dias No utiles'!$B$9:$H$4077,7,FALSE)=\"X\",IF(VLOOKUP(I162+2,'BD Dias No utiles'!$B$9:$H$4077,7,FALSE)=\"X\",I162+3,I162+2),I162+1),I162),0)","v":"00:00:00"},0]
[null,160,{"$f":"+IF(Simulador!$G$26>='Cronograma Referencial'!B163,EDATE(C162,(B163-B162)*VLOOKUP(Simulador!$G$27,Simulador!$V$18:$W$29,2,FALSE)/30),0)","v":"00:00:00"},0,{"$f":"+IF(Simulador!$G$26>='Cronograma Referencial'!B163,'Cronograma Referencial'!E162+VLOOKUP(Simulador!$G$27,Simulador!$V$18:$W$29,2,FALSE),0)","v":"00:00:00"},0,null,160,"00:00:00",{"$f":"+IFERROR(IF(VLOOKUP(I163,'BD Dias No utiles'!$B$9:$H$4077,7,FALSE)=\"X\",IF(VLOOKUP(I163+1,'BD Dias No utiles'!$B$9:$H$4077,7,FALSE)=\"X\",IF(VLOOKUP(I163+2,'BD Dias No utiles'!$B$9:$H$4077,7,FALSE)=\"X\",I163+3,I163+2),I163+1),I163),0)","v":"00:00:00"},0]
[null,161,{"$f":"+IF(Simulador!$G$26>='Cronograma Referencial'!B164,EDATE(C163,(B164-B163)*VLOOKUP(Simulador!$G$27,Simulador!$V$18:$W$29,2,FALSE)/30),0)","v":"00:00:00"},0,{"$f":"+IF(Simulador!$G$26>='Cronograma Referencial'!B164,'Cronograma Referencial'!E163+VLOOKUP(Simulador!$G$27,Simulador!$V$18:$W$29,2,FALSE),0)","v":"00:00:00"},0,null,161,"00:00:00",{"$f":"+IFERROR(IF(VLOOKUP(I164,'BD Dias No utiles'!$B$9:$H$4077,7,FALSE)=\"X\",IF(VLOOKUP(I164+1,'BD Dias No utiles'!$B$9:$H$4077,7,FALSE)=\"X\",IF(VLOOKUP(I164+2,'BD Dias No utiles'!$B$9:$H$4077,7,FALSE)=\"X\",I164+3,I164+2),I164+1),I164),0)","v":"00:00:00"},0]
[null,162,{"$f":"+IF(Simulador!$G$26>='Cronograma Referencial'!B165,EDATE(C164,(B165-B164)*VLOOKUP(Simulador!$G$27,Simulador!$V$18:$W$29,2,FALSE)/30),0)","v":"00:00:00"},0,{"$f":"+IF(Simulador!$G$26>='Cronograma Referencial'!B165,'Cronograma Referencial'!E164+VLOOKUP(Simulador!$G$27,Simulador!$V$18:$W$29,2,FALSE),0)","v":"00:00:00"},0,null,162,"00:00:00",{"$f":"+IFERROR(IF(VLOOKUP(I165,'BD Dias No utiles'!$B$9:$H$4077,7,FALSE)=\"X\",IF(VLOOKUP(I165+1,'BD Dias No utiles'!$B$9:$H$4077,7,FALSE)=\"X\",IF(VLOOKUP(I165+2,'BD Dias No utiles'!$B$9:$H$4077,7,FALSE)=\"X\",I165+3,I165+2),I165+1),I165),0)","v":"00:00:00"},0]
[null,163,{"$f":"+IF(Simulador!$G$26>='Cronograma Referencial'!B166,EDATE(C165,(B166-B165)*VLOOKUP(Simulador!$G$27,Simulador!$V$18:$W$29,2,FALSE)/30),0)","v":"00:00:00"},0,{"$f":"+IF(Simulador!$G$26>='Cronograma Referencial'!B166,'Cronograma Referencial'!E165+VLOOKUP(Simulador!$G$27,Simulador!$V$18:$W$29,2,FALSE),0)","v":"00:00:00"},0,null,163,"00:00:00",{"$f":"+IFERROR(IF(VLOOKUP(I166,'BD Dias No utiles'!$B$9:$H$4077,7,FALSE)=\"X\",IF(VLOOKUP(I166+1,'BD Dias No utiles'!$B$9:$H$4077,7,FALSE)=\"X\",IF(VLOOKUP(I166+2,'BD Dias No utiles'!$B$9:$H$4077,7,FALSE)=\"X\",I166+3,I166+2),I166+1),I166),0)","v":"00:00:00"},0]
[null,164,{"$f":"+IF(Simulador!$G$26>='Cronograma Referencial'!B167,EDATE(C166,(B167-B166)*VLOOKUP(Simulador!$G$27,Simulador!$V$18:$W$29,2,FALSE)/30),0)","v":"00:00:00"},0,{"$f":"+IF(Simulador!$G$26>='Cronograma Referencial'!B167,'Cronograma Referencial'!E166+VLOOKUP(Simulador!$G$27,Simulador!$V$18:$W$29,2,FALSE),0)","v":"00:00:00"},0,null,164,"00:00:00",{"$f":"+IFERROR(IF(VLOOKUP(I167,'BD Dias No utiles'!$B$9:$H$4077,7,FALSE)=\"X\",IF(VLOOKUP(I167+1,'BD Dias No utiles'!$B$9:$H$4077,7,FALSE)=\"X\",IF(VLOOKUP(I167+2,'BD Dias No utiles'!$B$9:$H$4077,7,FALSE)=\"X\",I167+3,I167+2),I167+1),I167),0)","v":"00:00:00"},0]
[null,165,{"$f":"+IF(Simulador!$G$26>='Cronograma Referencial'!B168,EDATE(C167,(B168-B167)*VLOOKUP(Simulador!$G$27,Simulador!$V$18:$W$29,2,FALSE)/30),0)","v":"00:00:00"},0,{"$f":"+IF(Simulador!$G$26>='Cronograma Referencial'!B168,'Cronograma Referencial'!E167+VLOOKUP(Simulador!$G$27,Simulador!$V$18:$W$29,2,FALSE),0)","v":"00:00:00"},0,null,165,"00:00:00",{"$f":"+IFERROR(IF(VLOOKUP(I168,'BD Dias No utiles'!$B$9:$H$4077,7,FALSE)=\"X\",IF(VLOOKUP(I168+1,'BD Dias No utiles'!$B$9:$H$4077,7,FALSE)=\"X\",IF(VLOOKUP(I168+2,'BD Dias No utiles'!$B$9:$H$4077,7,FALSE)=\"X\",I168+3,I168+2),I168+1),I168),0)","v":"00:00:00"},0]
[null,166,{"$f":"+IF(Simulador!$G$26>='Cronograma Referencial'!B169,EDATE(C168,(B169-B168)*VLOOKUP(Simulador!$G$27,Simulador!$V$18:$W$29,2,FALSE)/30),0)","v":"00:00:00"},0,{"$f":"+IF(Simulador!$G$26>='Cronograma Referencial'!B169,'Cronograma Referencial'!E168+VLOOKUP(Simulador!$G$27,Simulador!$V$18:$W$29,2,FALSE),0)","v":"00:00:00"},0,null,166,"00:00:00",{"$f":"+IFERROR(IF(VLOOKUP(I169,'BD Dias No utiles'!$B$9:$H$4077,7,FALSE)=\"X\",IF(VLOOKUP(I169+1,'BD Dias No utiles'!$B$9:$H$4077,7,FALSE)=\"X\",IF(VLOOKUP(I169+2,'BD Dias No utiles'!$B$9:$H$4077,7,FALSE)=\"X\",I169+3,I169+2),I169+1),I169),0)","v":"00:00:00"},0]
[null,167,{"$f":"+IF(Simulador!$G$26>='Cronograma Referencial'!B170,EDATE(C169,(B170-B169)*VLOOKUP(Simulador!$G$27,Simulador!$V$18:$W$29,2,FALSE)/30),0)","v":"00:00:00"},0,{"$f":"+IF(Simulador!$G$26>='Cronograma Referencial'!B170,'Cronograma Referencial'!E169+VLOOKUP(Simulador!$G$27,Simulador!$V$18:$W$29,2,FALSE),0)","v":"00:00:00"},0,null,167,"00:00:00",{"$f":"+IFERROR(IF(VLOOKUP(I170,'BD Dias No utiles'!$B$9:$H$4077,7,FALSE)=\"X\",IF(VLOOKUP(I170+1,'BD Dias No utiles'!$B$9:$H$4077,7,FALSE)=\"X\",IF(VLOOKUP(I170+2,'BD Dias No utiles'!$B$9:$H$4077,7,FALSE)=\"X\",I170+3,I170+2),I170+1),I170),0)","v":"00:00:00"},0]
[null,168,{"$f":"+IF(Simulador!$G$26>='Cronograma Referencial'!B171,EDATE(C170,(B171-B170)*VLOOKUP(Simulador!$G$27,Simulador!$V$18:$W$29,2,FALSE)/30),0)","v":"00:00:00"},0,{"$f":"+IF(Simulador!$G$26>='Cronograma Referencial'!B171,'Cronograma Referencial'!E170+VLOOKUP(Simulador!$G$27,Simulador!$V$18:$W$29,2,FALSE),0)","v":"00:00:00"},0,null,168,"00:00:00",{"$f":"+IFERROR(IF(VLOOKUP(I171,'BD Dias No utiles'!$B$9:$H$4077,7,FALSE)=\"X\",IF(VLOOKUP(I171+1,'BD Dias No utiles'!$B$9:$H$4077,7,FALSE)=\"X\",IF(VLOOKUP(I171+2,'BD Dias No utiles'!$B$9:$H$4077,7,FALSE)=\"X\",I171+3,I171+2),I171+1),I171),0)","v":"00:00:00"},0]
[null,169,{"$f":"+IF(Simulador!$G$26>='Cronograma Referencial'!B172,EDATE(C171,(B172-B171)*VLOOKUP(Simulador!$G$27,Simulador!$V$18:$W$29,2,FALSE)/30),0)","v":"00:00:00"},0,{"$f":"+IF(Simulador!$G$26>='Cronograma Referencial'!B172,'Cronograma Referencial'!E171+VLOOKUP(Simulador!$G$27,Simulador!$V$18:$W$29,2,FALSE),0)","v":"00:00:00"},0,null,169,"00:00:00",{"$f":"+IFERROR(IF(VLOOKUP(I172,'BD Dias No utiles'!$B$9:$H$4077,7,FALSE)=\"X\",IF(VLOOKUP(I172+1,'BD Dias No utiles'!$B$9:$H$4077,7,FALSE)=\"X\",IF(VLOOKUP(I172+2,'BD Dias No utiles'!$B$9:$H$4077,7,FALSE)=\"X\",I172+3,I172+2),I172+1),I172),0)","v":"00:00:00"},0]
[null,170,{"$f":"+IF(Simulador!$G$26>='Cronograma Referencial'!B173,EDATE(C172,(B173-B172)*VLOOKUP(Simulador!$G$27,Simulador!$V$18:$W$29,2,FALSE)/30),0)","v":"00:00:00"},0,{"$f":"+IF(Simulador!$G$26>='Cronograma Referencial'!B173,'Cronograma Referencial'!E172+VLOOKUP(Simulador!$G$27,Simulador!$V$18:$W$29,2,FALSE),0)","v":"00:00:00"},0,null,170,"00:00:00",{"$f":"+IFERROR(IF(VLOOKUP(I173,'BD Dias No utiles'!$B$9:$H$4077,7,FALSE)=\"X\",IF(VLOOKUP(I173+1,'BD Dias No utiles'!$B$9:$H$4077,7,FALSE)=\"X\",IF(VLOOKUP(I173+2,'BD Dias No utiles'!$B$9:$H$4077,7,FALSE)=\"X\",I173+3,I173+2),I173+1),I173),0)","v":"00:00:00"},0]
[null,171,{"$f":"+IF(Simulador!$G$26>='Cronograma Referencial'!B174,EDATE(C173,(B174-B173)*VLOOKUP(Simulador!$G$27,Simulador!$V$18:$W$29,2,FALSE)/30),0)","v":"00:00:00"},0,{"$f":"+IF(Simulador!$G$26>='Cronograma Referencial'!B174,'Cronograma Referencial'!E173+VLOOKUP(Simulador!$G$27,Simulador!$V$18:$W$29,2,FALSE),0)","v":"00:00:00"},0,null,171,"00:00:00",{"$f":"+IFERROR(IF(VLOOKUP(I174,'BD Dias No utiles'!$B$9:$H$4077,7,FALSE)=\"X\",IF(VLOOKUP(I174+1,'BD Dias No utiles'!$B$9:$H$4077,7,FALSE)=\"X\",IF(VLOOKUP(I174+2,'BD Dias No utiles'!$B$9:$H$4077,7,FALSE)=\"X\",I174+3,I174+2),I174+1),I174),0)","v":"00:00:00"},0]
[null,172,{"$f":"+IF(Simulador!$G$26>='Cronograma Referencial'!B175,EDATE(C174,(B175-B174)*VLOOKUP(Simulador!$G$27,Simulador!$V$18:$W$29,2,FALSE)/30),0)","v":"00:00:00"},0,{"$f":"+IF(Simulador!$G$26>='Cronograma Referencial'!B175,'Cronograma Referencial'!E174+VLOOKUP(Simulador!$G$27,Simulador!$V$18:$W$29,2,FALSE),0)","v":"00:00:00"},0,null,172,"00:00:00",{"$f":"+IFERROR(IF(VLOOKUP(I175,'BD Dias No utiles'!$B$9:$H$4077,7,FALSE)=\"X\",IF(VLOOKUP(I175+1,'BD Dias No utiles'!$B$9:$H$4077,7,FALSE)=\"X\",IF(VLOOKUP(I175+2,'BD Dias No utiles'!$B$9:$H$4077,7,FALSE)=\"X\",I175+3,I175+2),I175+1),I175),0)","v":"00:00:00"},0]
[null,173,{"$f":"+IF(Simulador!$G$26>='Cronograma Referencial'!B176,EDATE(C175,(B176-B175)*VLOOKUP(Simulador!$G$27,Simulador!$V$18:$W$29,2,FALSE)/30),0)","v":"00:00:00"},0,{"$f":"+IF(Simulador!$G$26>='Cronograma Referencial'!B176,'Cronograma Referencial'!E175+VLOOKUP(Simulador!$G$27,Simulador!$V$18:$W$29,2,FALSE),0)","v":"00:00:00"},0,null,173,"00:00:00",{"$f":"+IFERROR(IF(VLOOKUP(I176,'BD Dias No utiles'!$B$9:$H$4077,7,FALSE)=\"X\",IF(VLOOKUP(I176+1,'BD Dias No utiles'!$B$9:$H$4077,7,FALSE)=\"X\",IF(VLOOKUP(I176+2,'BD Dias No utiles'!$B$9:$H$4077,7,FALSE)=\"X\",I176+3,I176+2),I176+1),I176),0)","v":"00:00:00"},0]
[null,174,{"$f":"+IF(Simulador!$G$26>='Cronograma Referencial'!B177,EDATE(C176,(B177-B176)*VLOOKUP(Simulador!$G$27,Simulador!$V$18:$W$29,2,FALSE)/30),0)","v":"00:00:00"},0,{"$f":"+IF(Simulador!$G$26>='Cronograma Referencial'!B177,'Cronograma Referencial'!E176+VLOOKUP(Simulador!$G$27,Simulador!$V$18:$W$29,2,FALSE),0)","v":"00:00:00"},0,null,174,"00:00:00",{"$f":"+IFERROR(IF(VLOOKUP(I177,'BD Dias No utiles'!$B$9:$H$4077,7,FALSE)=\"X\",IF(VLOOKUP(I177+1,'BD Dias No utiles'!$B$9:$H$4077,7,FALSE)=\"X\",IF(VLOOKUP(I177+2,'BD Dias No utiles'!$B$9:$H$4077,7,FALSE)=\"X\",I177+3,I177+2),I177+1),I177),0)","v":"00:00:00"},0]
[null,175,{"$f":"+IF(Simulador!$G$26>='Cronograma Referencial'!B178,EDATE(C177,(B178-B177)*VLOOKUP(Simulador!$G$27,Simulador!$V$18:$W$29,2,FALSE)/30),0)","v":"00:00:00"},0,{"$f":"+IF(Simulador!$G$26>='Cronograma Referencial'!B178,'Cronograma Referencial'!E177+VLOOKUP(Simulador!$G$27,Simulador!$V$18:$W$29,2,FALSE),0)","v":"00:00:00"},0,null,175,"00:00:00",{"$f":"+IFERROR(IF(VLOOKUP(I178,'BD Dias No utiles'!$B$9:$H$4077,7,FALSE)=\"X\",IF(VLOOKUP(I178+1,'BD Dias No utiles'!$B$9:$H$4077,7,FALSE)=\"X\",IF(VLOOKUP(I178+2,'BD Dias No utiles'!$B$9:$H$4077,7,FALSE)=\"X\",I178+3,I178+2),I178+1),I178),0)","v":"00:00:00"},0]
[null,176,{"$f":"+IF(Simulador!$G$26>='Cronograma Referencial'!B179,EDATE(C178,(B179-B178)*VLOOKUP(Simulador!$G$27,Simulador!$V$18:$W$29,2,FALSE)/30),0)","v":"00:00:00"},0,{"$f":"+IF(Simulador!$G$26>='Cronograma Referencial'!B179,'Cronograma Referencial'!E178+VLOOKUP(Simulador!$G$27,Simulador!$V$18:$W$29,2,FALSE),0)","v":"00:00:00"},0,null,176,"00:00:00",{"$f":"+IFERROR(IF(VLOOKUP(I179,'BD Dias No utiles'!$B$9:$H$4077,7,FALSE)=\"X\",IF(VLOOKUP(I179+1,'BD Dias No utiles'!$B$9:$H$4077,7,FALSE)=\"X\",IF(VLOOKUP(I179+2,'BD Dias No utiles'!$B$9:$H$4077,7,FALSE)=\"X\",I179+3,I179+2),I179+1),I179),0)","v":"00:00:00"},0]
[null,177,{"$f":"+IF(Simulador!$G$26>='Cronograma Referencial'!B180,EDATE(C179,(B180-B179)*VLOOKUP(Simulador!$G$27,Simulador!$V$18:$W$29,2,FALSE)/30),0)","v":"00:00:00"},0,{"$f":"+IF(Simulador!$G$26>='Cronograma Referencial'!B180,'Cronograma Referencial'!E179+VLOOKUP(Simulador!$G$27,Simulador!$V$18:$W$29,2,FALSE),0)","v":"00:00:00"},0,null,177,"00:00:00",{"$f":"+IFERROR(IF(VLOOKUP(I180,'BD Dias No utiles'!$B$9:$H$4077,7,FALSE)=\"X\",IF(VLOOKUP(I180+1,'BD Dias No utiles'!$B$9:$H$4077,7,FALSE)=\"X\",IF(VLOOKUP(I180+2,'BD Dias No utiles'!$B$9:$H$4077,7,FALSE)=\"X\",I180+3,I180+2),I180+1),I180),0)","v":"00:00:00"},0]
[null,178,{"$f":"+IF(Simulador!$G$26>='Cronograma Referencial'!B181,EDATE(C180,(B181-B180)*VLOOKUP(Simulador!$G$27,Simulador!$V$18:$W$29,2,FALSE)/30),0)","v":"00:00:00"},0,{"$f":"+IF(Simulador!$G$26>='Cronograma Referencial'!B181,'Cronograma Referencial'!E180+VLOOKUP(Simulador!$G$27,Simulador!$V$18:$W$29,2,FALSE),0)","v":"00:00:00"},0,null,178,"00:00:00",{"$f":"+IFERROR(IF(VLOOKUP(I181,'BD Dias No utiles'!$B$9:$H$4077,7,FALSE)=\"X\",IF(VLOOKUP(I181+1,'BD Dias No utiles'!$B$9:$H$4077,7,FALSE)=\"X\",IF(VLOOKUP(I181+2,'BD Dias No utiles'!$B$9:$H$4077,7,FALSE)=\"X\",I181+3,I181+2),I181+1),I181),0)","v":"00:00:00"},0]
[null,179,{"$f":"+IF(Simulador!$G$26>='Cronograma Referencial'!B182,EDATE(C181,(B182-B181)*VLOOKUP(Simulador!$G$27,Simulador!$V$18:$W$29,2,FALSE)/30),0)","v":"00:00:00"},0,{"$f":"+IF(Simulador!$G$26>='Cronograma Referencial'!B182,'Cronograma Referencial'!E181+VLOOKUP(Simulador!$G$27,Simulador!$V$18:$W$29,2,FALSE),0)","v":"00:00:00"},0,null,179,"00:00:00",{"$f":"+IFERROR(IF(VLOOKUP(I182,'BD Dias No utiles'!$B$9:$H$4077,7,FALSE)=\"X\",IF(VLOOKUP(I182+1,'BD Dias No utiles'!$B$9:$H$4077,7,FALSE)=\"X\",IF(VLOOKUP(I182+2,'BD Dias No utiles'!$B$9:$H$4077,7,FALSE)=\"X\",I182+3,I182+2),I182+1),I182),0)","v":"00:00:00"},0]
[null,180,{"$f":"+IF(Simulador!$G$26>='Cronograma Referencial'!B183,EDATE(C182,(B183-B182)*VLOOKUP(Simulador!$G$27,Simulador!$V$18:$W$29,2,FALSE)/30),0)","v":"00:00:00"},0,{"$f":"+IF(Simulador!$G$26>='Cronograma Referencial'!B183,'Cronograma Referencial'!E182+VLOOKUP(Simulador!$G$27,Simulador!$V$18:$W$29,2,FALSE),0)","v":"00:00:00"},0,null,180,"00:00:00",{"$f":"+IFERROR(IF(VLOOKUP(I183,'BD Dias No utiles'!$B$9:$H$4077,7,FALSE)=\"X\",IF(VLOOKUP(I183+1,'BD Dias No utiles'!$B$9:$H$4077,7,FALSE)=\"X\",IF(VLOOKUP(I183+2,'BD Dias No utiles'!$B$9:$H$4077,7,FALSE)=\"X\",I183+3,I183+2),I183+1),I183),0)","v":"00:00:00"},0]
[null,181,{"$f":"+IF(Simulador!$G$26>='Cronograma Referencial'!B184,EDATE(C183,(B184-B183)*VLOOKUP(Simulador!$G$27,Simulador!$V$18:$W$29,2,FALSE)/30),0)","v":"00:00:00"},0,{"$f":"+IF(Simulador!$G$26>='Cronograma Referencial'!B184,'Cronograma Referencial'!E183+VLOOKUP(Simulador!$G$27,Simulador!$V$18:$W$29,2,FALSE),0)","v":"00:00:00"},0,null,181,"00:00:00",{"$f":"+IFERROR(IF(VLOOKUP(I184,'BD Dias No utiles'!$B$9:$H$4077,7,FALSE)=\"X\",IF(VLOOKUP(I184+1,'BD Dias No utiles'!$B$9:$H$4077,7,FALSE)=\"X\",IF(VLOOKUP(I184+2,'BD Dias No utiles'!$B$9:$H$4077,7,FALSE)=\"X\",I184+3,I184+2),I184+1),I184),0)","v":"00:00:00"},0]
[null,182,{"$f":"+IF(Simulador!$G$26>='Cronograma Referencial'!B185,EDATE(C184,(B185-B184)*VLOOKUP(Simulador!$G$27,Simulador!$V$18:$W$29,2,FALSE)/30),0)","v":"00:00:00"},0,{"$f":"+IF(Simulador!$G$26>='Cronograma Referencial'!B185,'Cronograma Referencial'!E184+VLOOKUP(Simulador!$G$27,Simulador!$V$18:$W$29,2,FALSE),0)","v":"00:00:00"},0,null,182,"00:00:00",{"$f":"+IFERROR(IF(VLOOKUP(I185,'BD Dias No utiles'!$B$9:$H$4077,7,FALSE)=\"X\",IF(VLOOKUP(I185+1,'BD Dias No utiles'!$B$9:$H$4077,7,FALSE)=\"X\",IF(VLOOKUP(I185+2,'BD Dias No utiles'!$B$9:$H$4077,7,FALSE)=\"X\",I185+3,I185+2),I185+1),I185),0)","v":"00:00:00"},0]
[null,183,{"$f":"+IF(Simulador!$G$26>='Cronograma Referencial'!B186,EDATE(C185,(B186-B185)*VLOOKUP(Simulador!$G$27,Simulador!$V$18:$W$29,2,FALSE)/30),0)","v":"00:00:00"},0,{"$f":"+IF(Simulador!$G$26>='Cronograma Referencial'!B186,'Cronograma Referencial'!E185+VLOOKUP(Simulador!$G$27,Simulador!$V$18:$W$29,2,FALSE),0)","v":"00:00:00"},0,null,183,"00:00:00",{"$f":"+IFERROR(IF(VLOOKUP(I186,'BD Dias No utiles'!$B$9:$H$4077,7,FALSE)=\"X\",IF(VLOOKUP(I186+1,'BD Dias No utiles'!$B$9:$H$4077,7,FALSE)=\"X\",IF(VLOOKUP(I186+2,'BD Dias No utiles'!$B$9:$H$4077,7,FALSE)=\"X\",I186+3,I186+2),I186+1),I186),0)","v":"00:00:00"},0]
[null,184,{"$f":"+IF(Simulador!$G$26>='Cronograma Referencial'!B187,EDATE(C186,(B187-B186)*VLOOKUP(Simulador!$G$27,Simulador!$V$18:$W$29,2,FALSE)/30),0)","v":"00:00:00"},0,{"$f":"+IF(Simulador!$G$26>='Cronograma Referencial'!B187,'Cronograma Referencial'!E186+VLOOKUP(Simulador!$G$27,Simulador!$V$18:$W$29,2,FALSE),0)","v":"00:00:00"},0,null,184,"00:00:00",{"$f":"+IFERROR(IF(VLOOKUP(I187,'BD Dias No utiles'!$B$9:$H$4077,7,FALSE)=\"X\",IF(VLOOKUP(I187+1,'BD Dias No utiles'!$B$9:$H$4077,7,FALSE)=\"X\",IF(VLOOKUP(I187+2,'BD Dias No utiles'!$B$9:$H$4077,7,FALSE)=\"X\",I187+3,I187+2),I187+1),I187),0)","v":"00:00:00"},0]
[null,185,{"$f":"+IF(Simulador!$G$26>='Cronograma Referencial'!B188,EDATE(C187,(B188-B187)*VLOOKUP(Simulador!$G$27,Simulador!$V$18:$W$29,2,FALSE)/30),0)","v":"00:00:00"},0,{"$f":"+IF(Simulador!$G$26>='Cronograma Referencial'!B188,'Cronograma Referencial'!E187+VLOOKUP(Simulador!$G$27,Simulador!$V$18:$W$29,2,FALSE),0)","v":"00:00:00"},0,null,185,"00:00:00",{"$f":"+IFERROR(IF(VLOOKUP(I188,'BD Dias No utiles'!$B$9:$H$4077,7,FALSE)=\"X\",IF(VLOOKUP(I188+1,'BD Dias No utiles'!$B$9:$H$4077,7,FALSE)=\"X\",IF(VLOOKUP(I188+2,'BD Dias No utiles'!$B$9:$H$4077,7,FALSE)=\"X\",I188+3,I188+2),I188+1),I188),0)","v":"00:00:00"},0]
[null,186,{"$f":"+IF(Simulador!$G$26>='Cronograma Referencial'!B189,EDATE(C188,(B189-B188)*VLOOKUP(Simulador!$G$27,Simulador!$V$18:$W$29,2,FALSE)/30),0)","v":"00:00:00"},0,{"$f":"+IF(Simulador!$G$26>='Cronograma Referencial'!B189,'Cronograma Referencial'!E188+VLOOKUP(Simulador!$G$27,Simulador!$V$18:$W$29,2,FALSE),0)","v":"00:00:00"},0,null,186,"00:00:00",{"$f":"+IFERROR(IF(VLOOKUP(I189,'BD Dias No utiles'!$B$9:$H$4077,7,FALSE)=\"X\",IF(VLOOKUP(I189+1,'BD Dias No utiles'!$B$9:$H$4077,7,FALSE)=\"X\",IF(VLOOKUP(I189+2,'BD Dias No utiles'!$B$9:$H$4077,7,FALSE)=\"X\",I189+3,I189+2),I189+1),I189),0)","v":"00:00:00"},0]
[null,187,{"$f":"+IF(Simulador!$G$26>='Cronograma Referencial'!B190,EDATE(C189,(B190-B189)*VLOOKUP(Simulador!$G$27,Simulador!$V$18:$W$29,2,FALSE)/30),0)","v":"00:00:00"},0,{"$f":"+IF(Simulador!$G$26>='Cronograma Referencial'!B190,'Cronograma Referencial'!E189+VLOOKUP(Simulador!$G$27,Simulador!$V$18:$W$29,2,FALSE),0)","v":"00:00:00"},0,null,187,"00:00:00",{"$f":"+IFERROR(IF(VLOOKUP(I190,'BD Dias No utiles'!$B$9:$H$4077,7,FALSE)=\"X\",IF(VLOOKUP(I190+1,'BD Dias No utiles'!$B$9:$H$4077,7,FALSE)=\"X\",IF(VLOOKUP(I190+2,'BD Dias No utiles'!$B$9:$H$4077,7,FALSE)=\"X\",I190+3,I190+2),I190+1),I190),0)","v":"00:00:00"},0]
[null,188,{"$f":"+IF(Simulador!$G$26>='Cronograma Referencial'!B191,EDATE(C190,(B191-B190)*VLOOKUP(Simulador!$G$27,Simulador!$V$18:$W$29,2,FALSE)/30),0)","v":"00:00:00"},0,{"$f":"+IF(Simulador!$G$26>='Cronograma Referencial'!B191,'Cronograma Referencial'!E190+VLOOKUP(Simulador!$G$27,Simulador!$V$18:$W$29,2,FALSE),0)","v":"00:00:00"},0,null,188,"00:00:00",{"$f":"+IFERROR(IF(VLOOKUP(I191,'BD Dias No utiles'!$B$9:$H$4077,7,FALSE)=\"X\",IF(VLOOKUP(I191+1,'BD Dias No utiles'!$B$9:$H$4077,7,FALSE)=\"X\",IF(VLOOKUP(I191+2,'BD Dias No utiles'!$B$9:$H$4077,7,FALSE)=\"X\",I191+3,I191+2),I191+1),I191),0)","v":"00:00:00"},0]
[null,189,{"$f":"+IF(Simulador!$G$26>='Cronograma Referencial'!B192,EDATE(C191,(B192-B191)*VLOOKUP(Simulador!$G$27,Simulador!$V$18:$W$29,2,FALSE)/30),0)","v":"00:00:00"},0,{"$f":"+IF(Simulador!$G$26>='Cronograma Referencial'!B192,'Cronograma Referencial'!E191+VLOOKUP(Simulador!$G$27,Simulador!$V$18:$W$29,2,FALSE),0)","v":"00:00:00"},0,null,189,"00:00:00",{"$f":"+IFERROR(IF(VLOOKUP(I192,'BD Dias No utiles'!$B$9:$H$4077,7,FALSE)=\"X\",IF(VLOOKUP(I192+1,'BD Dias No utiles'!$B$9:$H$4077,7,FALSE)=\"X\",IF(VLOOKUP(I192+2,'BD Dias No utiles'!$B$9:$H$4077,7,FALSE)=\"X\",I192+3,I192+2),I192+1),I192),0)","v":"00:00:00"},0]
[null,190,{"$f":"+IF(Simulador!$G$26>='Cronograma Referencial'!B193,EDATE(C192,(B193-B192)*VLOOKUP(Simulador!$G$27,Simulador!$V$18:$W$29,2,FALSE)/30),0)","v":"00:00:00"},0,{"$f":"+IF(Simulador!$G$26>='Cronograma Referencial'!B193,'Cronograma Referencial'!E192+VLOOKUP(Simulador!$G$27,Simulador!$V$18:$W$29,2,FALSE),0)","v":"00:00:00"},0,null,190,"00:00:00",{"$f":"+IFERROR(IF(VLOOKUP(I193,'BD Dias No utiles'!$B$9:$H$4077,7,FALSE)=\"X\",IF(VLOOKUP(I193+1,'BD Dias No utiles'!$B$9:$H$4077,7,FALSE)=\"X\",IF(VLOOKUP(I193+2,'BD Dias No utiles'!$B$9:$H$4077,7,FALSE)=\"X\",I193+3,I193+2),I193+1),I193),0)","v":"00:00:00"},0]
[null,191,{"$f":"+IF(Simulador!$G$26>='Cronograma Referencial'!B194,EDATE(C193,(B194-B193)*VLOOKUP(Simulador!$G$27,Simulador!$V$18:$W$29,2,FALSE)/30),0)","v":"00:00:00"},0,{"$f":"+IF(Simulador!$G$26>='Cronograma Referencial'!B194,'Cronograma Referencial'!E193+VLOOKUP(Simulador!$G$27,Simulador!$V$18:$W$29,2,FALSE),0)","v":"00:00:00"},0,null,191,"00:00:00",{"$f":"+IFERROR(IF(VLOOKUP(I194,'BD Dias No utiles'!$B$9:$H$4077,7,FALSE)=\"X\",IF(VLOOKUP(I194+1,'BD Dias No utiles'!$B$9:$H$4077,7,FALSE)=\"X\",IF(VLOOKUP(I194+2,'BD Dias No utiles'!$B$9:$H$4077,7,FALSE)=\"X\",I194+3,I194+2),I194+1),I194),0)","v":"00:00:00"},0]
[null,192,{"$f":"+IF(Simulador!$G$26>='Cronograma Referencial'!B195,EDATE(C194,(B195-B194)*VLOOKUP(Simulador!$G$27,Simulador!$V$18:$W$29,2,FALSE)/30),0)","v":"00:00:00"},0,{"$f":"+IF(Simulador!$G$26>='Cronograma Referencial'!B195,'Cronograma Referencial'!E194+VLOOKUP(Simulador!$G$27,Simulador!$V$18:$W$29,2,FALSE),0)","v":"00:00:00"},0,null,192,"00:00:00",{"$f":"+IFERROR(IF(VLOOKUP(I195,'BD Dias No utiles'!$B$9:$H$4077,7,FALSE)=\"X\",IF(VLOOKUP(I195+1,'BD Dias No utiles'!$B$9:$H$4077,7,FALSE)=\"X\",IF(VLOOKUP(I195+2,'BD Dias No utiles'!$B$9:$H$4077,7,FALSE)=\"X\",I195+3,I195+2),I195+1),I195),0)","v":"00:00:00"},0]
[null,193,{"$f":"+IF(Simulador!$G$26>='Cronograma Referencial'!B196,EDATE(C195,(B196-B195)*VLOOKUP(Simulador!$G$27,Simulador!$V$18:$W$29,2,FALSE)/30),0)","v":"00:00:00"},0,{"$f":"+IF(Simulador!$G$26>='Cronograma Referencial'!B196,'Cronograma Referencial'!E195+VLOOKUP(Simulador!$G$27,Simulador!$V$18:$W$29,2,FALSE),0)","v":"00:00:00"},0,null,{"$f":"+B196","v":193},"00:00:00",{"$f":"+IFERROR(IF(VLOOKUP(I196,'BD Dias No utiles'!$B$9:$H$4077,7,FALSE)=\"X\",IF(VLOOKUP(I196+1,'BD Dias No utiles'!$B$9:$H$4077,7,FALSE)=\"X\",IF(VLOOKUP(I196+2,'BD Dias No utiles'!$B$9:$H$4077,7,FALSE)=\"X\",I196+3,I196+2),I196+1),I196),0)","v":"00:00:00"},0]
[null,194,{"$f":"+IF(Simulador!$G$26>='Cronograma Referencial'!B197,EDATE(C196,(B197-B196)*VLOOKUP(Simulador!$G$27,Simulador!$V$18:$W$29,2,FALSE)/30),0)","v":"00:00:00"},{"$f":"+C197-C196","v":0},{"$f":"+IF(Simulador!$G$26>='Cronograma Referencial'!B197,'Cronograma Referencial'!E196+VLOOKUP(Simulador!$G$27,Simulador!$V$18:$W$29,2,FALSE),0)","v":"00:00:00"},0,null,194,{"$f":"+HLOOKUP($I$2,$C$2:$E$418,H197+2)","v":"00:00:00"},{"$f":"+IFERROR(IF(VLOOKUP(I197,'BD Dias No utiles'!$B$9:$H$4077,7,FALSE)=\"X\",IF(VLOOKUP(I197+1,'BD Dias No utiles'!$B$9:$H$4077,7,FALSE)=\"X\",IF(VLOOKUP(I197+2,'BD Dias No utiles'!$B$9:$H$4077,7,FALSE)=\"X\",I197+3,I197+2),I197+1),I197),0)","v":"00:00:00"},{"$f":"+I197-I196","v":0}]
[null,{"$f":"+B197+1","v":195},{"$f":"+IF(Simulador!$G$26>='Cronograma Referencial'!B198,EDATE(C197,(B198-B197)*VLOOKUP(Simulador!$G$27,Simulador!$V$18:$W$29,2,FALSE)/30),0)","v":"00:00:00"},0,{"$f":"+IF(Simulador!$G$26>='Cronograma Referencial'!B198,'Cronograma Referencial'!E197+VLOOKUP(Simulador!$G$27,Simulador!$V$18:$W$29,2,FALSE),0)","v":"00:00:00"},{"$f":"+E198-E197","v":0},null,195,"00:00:00",{"$f":"+IFERROR(IF(VLOOKUP(I198,'BD Dias No utiles'!$B$9:$H$4077,7,FALSE)=\"X\",IF(VLOOKUP(I198+1,'BD Dias No utiles'!$B$9:$H$4077,7,FALSE)=\"X\",IF(VLOOKUP(I198+2,'BD Dias No utiles'!$B$9:$H$4077,7,FALSE)=\"X\",I198+3,I198+2),I198+1),I198),0)","v":"00:00:00"},0]
[null,196,{"$f":"+IF(Simulador!$G$26>='Cronograma Referencial'!B199,EDATE(C198,(B199-B198)*VLOOKUP(Simulador!$G$27,Simulador!$V$18:$W$29,2,FALSE)/30),0)","v":"00:00:00"},0,{"$f":"+IF(Simulador!$G$26>='Cronograma Referencial'!B199,'Cronograma Referencial'!E198+VLOOKUP(Simulador!$G$27,Simulador!$V$18:$W$29,2,FALSE),0)","v":"00:00:00"},0,null,196,"00:00:00",{"$f":"+IFERROR(IF(VLOOKUP(I199,'BD Dias No utiles'!$B$9:$H$4077,7,FALSE)=\"X\",IF(VLOOKUP(I199+1,'BD Dias No utiles'!$B$9:$H$4077,7,FALSE)=\"X\",IF(VLOOKUP(I199+2,'BD Dias No utiles'!$B$9:$H$4077,7,FALSE)=\"X\",I199+3,I199+2),I199+1),I199),0)","v":"00:00:00"},0]
[null,197,{"$f":"+IF(Simulador!$G$26>='Cronograma Referencial'!B200,EDATE(C199,(B200-B199)*VLOOKUP(Simulador!$G$27,Simulador!$V$18:$W$29,2,FALSE)/30),0)","v":"00:00:00"},0,{"$f":"+IF(Simulador!$G$26>='Cronograma Referencial'!B200,'Cronograma Referencial'!E199+VLOOKUP(Simulador!$G$27,Simulador!$V$18:$W$29,2,FALSE),0)","v":"00:00:00"},0,null,197,"00:00:00",{"$f":"+IFERROR(IF(VLOOKUP(I200,'BD Dias No utiles'!$B$9:$H$4077,7,FALSE)=\"X\",IF(VLOOKUP(I200+1,'BD Dias No utiles'!$B$9:$H$4077,7,FALSE)=\"X\",IF(VLOOKUP(I200+2,'BD Dias No utiles'!$B$9:$H$4077,7,FALSE)=\"X\",I200+3,I200+2),I200+1),I200),0)","v":"00:00:00"},0]
[null,198,{"$f":"+IF(Simulador!$G$26>='Cronograma Referencial'!B201,EDATE(C200,(B201-B200)*VLOOKUP(Simulador!$G$27,Simulador!$V$18:$W$29,2,FALSE)/30),0)","v":"00:00:00"},0,{"$f":"+IF(Simulador!$G$26>='Cronograma Referencial'!B201,'Cronograma Referencial'!E200+VLOOKUP(Simulador!$G$27,Simulador!$V$18:$W$29,2,FALSE),0)","v":"00:00:00"},0,null,198,"00:00:00",{"$f":"+IFERROR(IF(VLOOKUP(I201,'BD Dias No utiles'!$B$9:$H$4077,7,FALSE)=\"X\",IF(VLOOKUP(I201+1,'BD Dias No utiles'!$B$9:$H$4077,7,FALSE)=\"X\",IF(VLOOKUP(I201+2,'BD Dias No utiles'!$B$9:$H$4077,7,FALSE)=\"X\",I201+3,I201+2),I201+1),I201),0)","v":"00:00:00"},0]
[null,199,{"$f":"+IF(Simulador!$G$26>='Cronograma Referencial'!B202,EDATE(C201,(B202-B201)*VLOOKUP(Simulador!$G$27,Simulador!$V$18:$W$29,2,FALSE)/30),0)","v":"00:00:00"},0,{"$f":"+IF(Simulador!$G$26>='Cronograma Referencial'!B202,'Cronograma Referencial'!E201+VLOOKUP(Simulador!$G$27,Simulador!$V$18:$W$29,2,FALSE),0)","v":"00:00:00"},0,null,199,"00:00:00",{"$f":"+IFERROR(IF(VLOOKUP(I202,'BD Dias No utiles'!$B$9:$H$4077,7,FALSE)=\"X\",IF(VLOOKUP(I202+1,'BD Dias No utiles'!$B$9:$H$4077,7,FALSE)=\"X\",IF(VLOOKUP(I202+2,'BD Dias No utiles'!$B$9:$H$4077,7,FALSE)=\"X\",I202+3,I202+2),I202+1),I202),0)","v":"00:00:00"},0]
[null,200,{"$f":"+IF(Simulador!$G$26>='Cronograma Referencial'!B203,EDATE(C202,(B203-B202)*VLOOKUP(Simulador!$G$27,Simulador!$V$18:$W$29,2,FALSE)/30),0)","v":"00:00:00"},0,{"$f":"+IF(Simulador!$G$26>='Cronograma Referencial'!B203,'Cronograma Referencial'!E202+VLOOKUP(Simulador!$G$27,Simulador!$V$18:$W$29,2,FALSE),0)","v":"00:00:00"},0,null,200,"00:00:00",{"$f":"+IFERROR(IF(VLOOKUP(I203,'BD Dias No utiles'!$B$9:$H$4077,7,FALSE)=\"X\",IF(VLOOKUP(I203+1,'BD Dias No utiles'!$B$9:$H$4077,7,FALSE)=\"X\",IF(VLOOKUP(I203+2,'BD Dias No utiles'!$B$9:$H$4077,7,FALSE)=\"X\",I203+3,I203+2),I203+1),I203),0)","v":"00:00:00"},0]
[null,201,{"$f":"+IF(Simulador!$G$26>='Cronograma Referencial'!B204,EDATE(C203,(B204-B203)*VLOOKUP(Simulador!$G$27,Simulador!$V$18:$W$29,2,FALSE)/30),0)","v":"00:00:00"},0,{"$f":"+IF(Simulador!$G$26>='Cronograma Referencial'!B204,'Cronograma Referencial'!E203+VLOOKUP(Simulador!$G$27,Simulador!$V$18:$W$29,2,FALSE),0)","v":"00:00:00"},0,null,201,"00:00:00",{"$f":"+IFERROR(IF(VLOOKUP(I204,'BD Dias No utiles'!$B$9:$H$4077,7,FALSE)=\"X\",IF(VLOOKUP(I204+1,'BD Dias No utiles'!$B$9:$H$4077,7,FALSE)=\"X\",IF(VLOOKUP(I204+2,'BD Dias No utiles'!$B$9:$H$4077,7,FALSE)=\"X\",I204+3,I204+2),I204+1),I204),0)","v":"00:00:00"},0]
[null,202,{"$f":"+IF(Simulador!$G$26>='Cronograma Referencial'!B205,EDATE(C204,(B205-B204)*VLOOKUP(Simulador!$G$27,Simulador!$V$18:$W$29,2,FALSE)/30),0)","v":"00:00:00"},0,{"$f":"+IF(Simulador!$G$26>='Cronograma Referencial'!B205,'Cronograma Referencial'!E204+VLOOKUP(Simulador!$G$27,Simulador!$V$18:$W$29,2,FALSE),0)","v":"00:00:00"},0,null,202,"00:00:00",{"$f":"+IFERROR(IF(VLOOKUP(I205,'BD Dias No utiles'!$B$9:$H$4077,7,FALSE)=\"X\",IF(VLOOKUP(I205+1,'BD Dias No utiles'!$B$9:$H$4077,7,FALSE)=\"X\",IF(VLOOKUP(I205+2,'BD Dias No utiles'!$B$9:$H$4077,7,FALSE)=\"X\",I205+3,I205+2),I205+1),I205),0)","v":"00:00:00"},0]
[null,203,{"$f":"+IF(Simulador!$G$26>='Cronograma Referencial'!B206,EDATE(C205,(B206-B205)*VLOOKUP(Simulador!$G$27,Simulador!$V$18:$W$29,2,FALSE)/30),0)","v":"00:00:00"},0,{"$f":"+IF(Simulador!$G$26>='Cronograma Referencial'!B206,'Cronograma Referencial'!E205+VLOOKUP(Simulador!$G$27,Simulador!$V$18:$W$29,2,FALSE),0)","v":"00:00:00"},0,null,203,"00:00:00",{"$f":"+IFERROR(IF(VLOOKUP(I206,'BD Dias No utiles'!$B$9:$H$4077,7,FALSE)=\"X\",IF(VLOOKUP(I206+1,'BD Dias No utiles'!$B$9:$H$4077,7,FALSE)=\"X\",IF(VLOOKUP(I206+2,'BD Dias No utiles'!$B$9:$H$4077,7,FALSE)=\"X\",I206+3,I206+2),I206+1),I206),0)","v":"00:00:00"},0]
[null,204,{"$f":"+IF(Simulador!$G$26>='Cronograma Referencial'!B207,EDATE(C206,(B207-B206)*VLOOKUP(Simulador!$G$27,Simulador!$V$18:$W$29,2,FALSE)/30),0)","v":"00:00:00"},0,{"$f":"+IF(Simulador!$G$26>='Cronograma Referencial'!B207,'Cronograma Referencial'!E206+VLOOKUP(Simulador!$G$27,Simulador!$V$18:$W$29,2,FALSE),0)","v":"00:00:00"},0,null,204,"00:00:00",{"$f":"+IFERROR(IF(VLOOKUP(I207,'BD Dias No utiles'!$B$9:$H$4077,7,FALSE)=\"X\",IF(VLOOKUP(I207+1,'BD Dias No utiles'!$B$9:$H$4077,7,FALSE)=\"X\",IF(VLOOKUP(I207+2,'BD Dias No utiles'!$B$9:$H$4077,7,FALSE)=\"X\",I207+3,I207+2),I207+1),I207),0)","v":"00:00:00"},0]
[null,205,{"$f":"+IF(Simulador!$G$26>='Cronograma Referencial'!B208,EDATE(C207,(B208-B207)*VLOOKUP(Simulador!$G$27,Simulador!$V$18:$W$29,2,FALSE)/30),0)","v":"00:00:00"},0,{"$f":"+IF(Simulador!$G$26>='Cronograma Referencial'!B208,'Cronograma Referencial'!E207+VLOOKUP(Simulador!$G$27,Simulador!$V$18:$W$29,2,FALSE),0)","v":"00:00:00"},0,null,205,"00:00:00",{"$f":"+IFERROR(IF(VLOOKUP(I208,'BD Dias No utiles'!$B$9:$H$4077,7,FALSE)=\"X\",IF(VLOOKUP(I208+1,'BD Dias No utiles'!$B$9:$H$4077,7,FALSE)=\"X\",IF(VLOOKUP(I208+2,'BD Dias No utiles'!$B$9:$H$4077,7,FALSE)=\"X\",I208+3,I208+2),I208+1),I208),0)","v":"00:00:00"},0]
[null,206,{"$f":"+IF(Simulador!$G$26>='Cronograma Referencial'!B209,EDATE(C208,(B209-B208)*VLOOKUP(Simulador!$G$27,Simulador!$V$18:$W$29,2,FALSE)/30),0)","v":"00:00:00"},0,{"$f":"+IF(Simulador!$G$26>='Cronograma Referencial'!B209,'Cronograma Referencial'!E208+VLOOKUP(Simulador!$G$27,Simulador!$V$18:$W$29,2,FALSE),0)","v":"00:00:00"},0,null,206,"00:00:00",{"$f":"+IFERROR(IF(VLOOKUP(I209,'BD Dias No utiles'!$B$9:$H$4077,7,FALSE)=\"X\",IF(VLOOKUP(I209+1,'BD Dias No utiles'!$B$9:$H$4077,7,FALSE)=\"X\",IF(VLOOKUP(I209+2,'BD Dias No utiles'!$B$9:$H$4077,7,FALSE)=\"X\",I209+3,I209+2),I209+1),I209),0)","v":"00:00:00"},0]
[null,207,{"$f":"+IF(Simulador!$G$26>='Cronograma Referencial'!B210,EDATE(C209,(B210-B209)*VLOOKUP(Simulador!$G$27,Simulador!$V$18:$W$29,2,FALSE)/30),0)","v":"00:00:00"},0,{"$f":"+IF(Simulador!$G$26>='Cronograma Referencial'!B210,'Cronograma Referencial'!E209+VLOOKUP(Simulador!$G$27,Simulador!$V$18:$W$29,2,FALSE),0)","v":"00:00:00"},0,null,207,"00:00:00",{"$f":"+IFERROR(IF(VLOOKUP(I210,'BD Dias No utiles'!$B$9:$H$4077,7,FALSE)=\"X\",IF(VLOOKUP(I210+1,'BD Dias No utiles'!$B$9:$H$4077,7,FALSE)=\"X\",IF(VLOOKUP(I210+2,'BD Dias No utiles'!$B$9:$H$4077,7,FALSE)=\"X\",I210+3,I210+2),I210+1),I210),0)","v":"00:00:00"},0]
[null,208,{"$f":"+IF(Simulador!$G$26>='Cronograma Referencial'!B211,EDATE(C210,(B211-B210)*VLOOKUP(Simulador!$G$27,Simulador!$V$18:$W$29,2,FALSE)/30),0)","v":"00:00:00"},0,{"$f":"+IF(Simulador!$G$26>='Cronograma Referencial'!B211,'Cronograma Referencial'!E210+VLOOKUP(Simulador!$G$27,Simulador!$V$18:$W$29,2,FALSE),0)","v":"00:00:00"},0,null,208,"00:00:00",{"$f":"+IFERROR(IF(VLOOKUP(I211,'BD Dias No utiles'!$B$9:$H$4077,7,FALSE)=\"X\",IF(VLOOKUP(I211+1,'BD Dias No utiles'!$B$9:$H$4077,7,FALSE)=\"X\",IF(VLOOKUP(I211+2,'BD Dias No utiles'!$B$9:$H$4077,7,FALSE)=\"X\",I211+3,I211+2),I211+1),I211),0)","v":"00:00:00"},0]
[null,209,{"$f":"+IF(Simulador!$G$26>='Cronograma Referencial'!B212,EDATE(C211,(B212-B211)*VLOOKUP(Simulador!$G$27,Simulador!$V$18:$W$29,2,FALSE)/30),0)","v":"00:00:00"},0,{"$f":"+IF(Simulador!$G$26>='Cronograma Referencial'!B212,'Cronograma Referencial'!E211+VLOOKUP(Simulador!$G$27,Simulador!$V$18:$W$29,2,FALSE),0)","v":"00:00:00"},0,null,209,"00:00:00",{"$f":"+IFERROR(IF(VLOOKUP(I212,'BD Dias No utiles'!$B$9:$H$4077,7,FALSE)=\"X\",IF(VLOOKUP(I212+1,'BD Dias No utiles'!$B$9:$H$4077,7,FALSE)=\"X\",IF(VLOOKUP(I212+2,'BD Dias No utiles'!$B$9:$H$4077,7,FALSE)=\"X\",I212+3,I212+2),I212+1),I212),0)","v":"00:00:00"},0]
[null,210,{"$f":"+IF(Simulador!$G$26>='Cronograma Referencial'!B213,EDATE(C212,(B213-B212)*VLOOKUP(Simulador!$G$27,Simulador!$V$18:$W$29,2,FALSE)/30),0)","v":"00:00:00"},0,{"$f":"+IF(Simulador!$G$26>='Cronograma Referencial'!B213,'Cronograma Referencial'!E212+VLOOKUP(Simulador!$G$27,Simulador!$V$18:$W$29,2,FALSE),0)","v":"00:00:00"},0,null,210,"00:00:00",{"$f":"+IFERROR(IF(VLOOKUP(I213,'BD Dias No utiles'!$B$9:$H$4077,7,FALSE)=\"X\",IF(VLOOKUP(I213+1,'BD Dias No utiles'!$B$9:$H$4077,7,FALSE)=\"X\",IF(VLOOKUP(I213+2,'BD Dias No utiles'!$B$9:$H$4077,7,FALSE)=\"X\",I213+3,I213+2),I213+1),I213),0)","v":"00:00:00"},0]
[null,211,{"$f":"+IF(Simulador!$G$26>='Cronograma Referencial'!B214,EDATE(C213,(B214-B213)*VLOOKUP(Simulador!$G$27,Simulador!$V$18:$W$29,2,FALSE)/30),0)","v":"00:00:00"},0,{"$f":"+IF(Simulador!$G$26>='Cronograma Referencial'!B214,'Cronograma Referencial'!E213+VLOOKUP(Simulador!$G$27,Simulador!$V$18:$W$29,2,FALSE),0)","v":"00:00:00"},0,null,211,"00:00:00",{"$f":"+IFERROR(IF(VLOOKUP(I214,'BD Dias No utiles'!$B$9:$H$4077,7,FALSE)=\"X\",IF(VLOOKUP(I214+1,'BD Dias No utiles'!$B$9:$H$4077,7,FALSE)=\"X\",IF(VLOOKUP(I214+2,'BD Dias No utiles'!$B$9:$H$4077,7,FALSE)=\"X\",I214+3,I214+2),I214+1),I214),0)","v":"00:00:00"},0]
[null,212,{"$f":"+IF(Simulador!$G$26>='Cronograma Referencial'!B215,EDATE(C214,(B215-B214)*VLOOKUP(Simulador!$G$27,Simulador!$V$18:$W$29,2,FALSE)/30),0)","v":"00:00:00"},0,{"$f":"+IF(Simulador!$G$26>='Cronograma Referencial'!B215,'Cronograma Referencial'!E214+VLOOKUP(Simulador!$G$27,Simulador!$V$18:$W$29,2,FALSE),0)","v":"00:00:00"},0,null,212,"00:00:00",{"$f":"+IFERROR(IF(VLOOKUP(I215,'BD Dias No utiles'!$B$9:$H$4077,7,FALSE)=\"X\",IF(VLOOKUP(I215+1,'BD Dias No utiles'!$B$9:$H$4077,7,FALSE)=\"X\",IF(VLOOKUP(I215+2,'BD Dias No utiles'!$B$9:$H$4077,7,FALSE)=\"X\",I215+3,I215+2),I215+1),I215),0)","v":"00:00:00"},0]
[null,213,{"$f":"+IF(Simulador!$G$26>='Cronograma Referencial'!B216,EDATE(C215,(B216-B215)*VLOOKUP(Simulador!$G$27,Simulador!$V$18:$W$29,2,FALSE)/30),0)","v":"00:00:00"},0,{"$f":"+IF(Simulador!$G$26>='Cronograma Referencial'!B216,'Cronograma Referencial'!E215+VLOOKUP(Simulador!$G$27,Simulador!$V$18:$W$29,2,FALSE),0)","v":"00:00:00"},0,null,213,"00:00:00",{"$f":"+IFERROR(IF(VLOOKUP(I216,'BD Dias No utiles'!$B$9:$H$4077,7,FALSE)=\"X\",IF(VLOOKUP(I216+1,'BD Dias No utiles'!$B$9:$H$4077,7,FALSE)=\"X\",IF(VLOOKUP(I216+2,'BD Dias No utiles'!$B$9:$H$4077,7,FALSE)=\"X\",I216+3,I216+2),I216+1),I216),0)","v":"00:00:00"},0]
[null,214,{"$f":"+IF(Simulador!$G$26>='Cronograma Referencial'!B217,EDATE(C216,(B217-B216)*VLOOKUP(Simulador!$G$27,Simulador!$V$18:$W$29,2,FALSE)/30),0)","v":"00:00:00"},0,{"$f":"+IF(Simulador!$G$26>='Cronograma Referencial'!B217,'Cronograma Referencial'!E216+VLOOKUP(Simulador!$G$27,Simulador!$V$18:$W$29,2,FALSE),0)","v":"00:00:00"},0,null,214,"00:00:00",{"$f":"+IFERROR(IF(VLOOKUP(I217,'BD Dias No utiles'!$B$9:$H$4077,7,FALSE)=\"X\",IF(VLOOKUP(I217+1,'BD Dias No utiles'!$B$9:$H$4077,7,FALSE)=\"X\",IF(VLOOKUP(I217+2,'BD Dias No utiles'!$B$9:$H$4077,7,FALSE)=\"X\",I217+3,I217+2),I217+1),I217),0)","v":"00:00:00"},0]
[null,215,{"$f":"+IF(Simulador!$G$26>='Cronograma Referencial'!B218,EDATE(C217,(B218-B217)*VLOOKUP(Simulador!$G$27,Simulador!$V$18:$W$29,2,FALSE)/30),0)","v":"00:00:00"},0,{"$f":"+IF(Simulador!$G$26>='Cronograma Referencial'!B218,'Cronograma Referencial'!E217+VLOOKUP(Simulador!$G$27,Simulador!$V$18:$W$29,2,FALSE),0)","v":"00:00:00"},0,null,215,"00:00:00",{"$f":"+IFERROR(IF(VLOOKUP(I218,'BD Dias No utiles'!$B$9:$H$4077,7,FALSE)=\"X\",IF(VLOOKUP(I218+1,'BD Dias No utiles'!$B$9:$H$4077,7,FALSE)=\"X\",IF(VLOOKUP(I218+2,'BD Dias No utiles'!$B$9:$H$4077,7,FALSE)=\"X\",I218+3,I218+2),I218+1),I218),0)","v":"00:00:00"},0]
[null,216,{"$f":"+IF(Simulador!$G$26>='Cronograma Referencial'!B219,EDATE(C218,(B219-B218)*VLOOKUP(Simulador!$G$27,Simulador!$V$18:$W$29,2,FALSE)/30),0)","v":"00:00:00"},0,{"$f":"+IF(Simulador!$G$26>='Cronograma Referencial'!B219,'Cronograma Referencial'!E218+VLOOKUP(Simulador!$G$27,Simulador!$V$18:$W$29,2,FALSE),0)","v":"00:00:00"},0,null,216,"00:00:00",{"$f":"+IFERROR(IF(VLOOKUP(I219,'BD Dias No utiles'!$B$9:$H$4077,7,FALSE)=\"X\",IF(VLOOKUP(I219+1,'BD Dias No utiles'!$B$9:$H$4077,7,FALSE)=\"X\",IF(VLOOKUP(I219+2,'BD Dias No utiles'!$B$9:$H$4077,7,FALSE)=\"X\",I219+3,I219+2),I219+1),I219),0)","v":"00:00:00"},0]
[null,217,{"$f":"+IF(Simulador!$G$26>='Cronograma Referencial'!B220,EDATE(C219,(B220-B219)*VLOOKUP(Simulador!$G$27,Simulador!$V$18:$W$29,2,FALSE)/30),0)","v":"00:00:00"},0,{"$f":"+IF(Simulador!$G$26>='Cronograma Referencial'!B220,'Cronograma Referencial'!E219+VLOOKUP(Simulador!$G$27,Simulador!$V$18:$W$29,2,FALSE),0)","v":"00:00:00"},0,null,217,"00:00:00",{"$f":"+IFERROR(IF(VLOOKUP(I220,'BD Dias No utiles'!$B$9:$H$4077,7,FALSE)=\"X\",IF(VLOOKUP(I220+1,'BD Dias No utiles'!$B$9:$H$4077,7,FALSE)=\"X\",IF(VLOOKUP(I220+2,'BD Dias No utiles'!$B$9:$H$4077,7,FALSE)=\"X\",I220+3,I220+2),I220+1),I220),0)","v":"00:00:00"},0]
[null,218,{"$f":"+IF(Simulador!$G$26>='Cronograma Referencial'!B221,EDATE(C220,(B221-B220)*VLOOKUP(Simulador!$G$27,Simulador!$V$18:$W$29,2,FALSE)/30),0)","v":"00:00:00"},0,{"$f":"+IF(Simulador!$G$26>='Cronograma Referencial'!B221,'Cronograma Referencial'!E220+VLOOKUP(Simulador!$G$27,Simulador!$V$18:$W$29,2,FALSE),0)","v":"00:00:00"},0,null,218,"00:00:00",{"$f":"+IFERROR(IF(VLOOKUP(I221,'BD Dias No utiles'!$B$9:$H$4077,7,FALSE)=\"X\",IF(VLOOKUP(I221+1,'BD Dias No utiles'!$B$9:$H$4077,7,FALSE)=\"X\",IF(VLOOKUP(I221+2,'BD Dias No utiles'!$B$9:$H$4077,7,FALSE)=\"X\",I221+3,I221+2),I221+1),I221),0)","v":"00:00:00"},0]
[null,219,{"$f":"+IF(Simulador!$G$26>='Cronograma Referencial'!B222,EDATE(C221,(B222-B221)*VLOOKUP(Simulador!$G$27,Simulador!$V$18:$W$29,2,FALSE)/30),0)","v":"00:00:00"},0,{"$f":"+IF(Simulador!$G$26>='Cronograma Referencial'!B222,'Cronograma Referencial'!E221+VLOOKUP(Simulador!$G$27,Simulador!$V$18:$W$29,2,FALSE),0)","v":"00:00:00"},0,null,219,"00:00:00",{"$f":"+IFERROR(IF(VLOOKUP(I222,'BD Dias No utiles'!$B$9:$H$4077,7,FALSE)=\"X\",IF(VLOOKUP(I222+1,'BD Dias No utiles'!$B$9:$H$4077,7,FALSE)=\"X\",IF(VLOOKUP(I222+2,'BD Dias No utiles'!$B$9:$H$4077,7,FALSE)=\"X\",I222+3,I222+2),I222+1),I222),0)","v":"00:00:00"},0]
[null,220,{"$f":"+IF(Simulador!$G$26>='Cronograma Referencial'!B223,EDATE(C222,(B223-B222)*VLOOKUP(Simulador!$G$27,Simulador!$V$18:$W$29,2,FALSE)/30),0)","v":"00:00:00"},0,{"$f":"+IF(Simulador!$G$26>='Cronograma Referencial'!B223,'Cronograma Referencial'!E222+VLOOKUP(Simulador!$G$27,Simulador!$V$18:$W$29,2,FALSE),0)","v":"00:00:00"},0,null,220,"00:00:00",{"$f":"+IFERROR(IF(VLOOKUP(I223,'BD Dias No utiles'!$B$9:$H$4077,7,FALSE)=\"X\",IF(VLOOKUP(I223+1,'BD Dias No utiles'!$B$9:$H$4077,7,FALSE)=\"X\",IF(VLOOKUP(I223+2,'BD Dias No utiles'!$B$9:$H$4077,7,FALSE)=\"X\",I223+3,I223+2),I223+1),I223),0)","v":"00:00:00"},0]
[null,221,{"$f":"+IF(Simulador!$G$26>='Cronograma Referencial'!B224,EDATE(C223,(B224-B223)*VLOOKUP(Simulador!$G$27,Simulador!$V$18:$W$29,2,FALSE)/30),0)","v":"00:00:00"},0,{"$f":"+IF(Simulador!$G$26>='Cronograma Referencial'!B224,'Cronograma Referencial'!E223+VLOOKUP(Simulador!$G$27,Simulador!$V$18:$W$29,2,FALSE),0)","v":"00:00:00"},0,null,221,"00:00:00",{"$f":"+IFERROR(IF(VLOOKUP(I224,'BD Dias No utiles'!$B$9:$H$4077,7,FALSE)=\"X\",IF(VLOOKUP(I224+1,'BD Dias No utiles'!$B$9:$H$4077,7,FALSE)=\"X\",IF(VLOOKUP(I224+2,'BD Dias No utiles'!$B$9:$H$4077,7,FALSE)=\"X\",I224+3,I224+2),I224+1),I224),0)","v":"00:00:00"},0]
[null,222,{"$f":"+IF(Simulador!$G$26>='Cronograma Referencial'!B225,EDATE(C224,(B225-B224)*VLOOKUP(Simulador!$G$27,Simulador!$V$18:$W$29,2,FALSE)/30),0)","v":"00:00:00"},0,{"$f":"+IF(Simulador!$G$26>='Cronograma Referencial'!B225,'Cronograma Referencial'!E224+VLOOKUP(Simulador!$G$27,Simulador!$V$18:$W$29,2,FALSE),0)","v":"00:00:00"},0,null,222,"00:00:00",{"$f":"+IFERROR(IF(VLOOKUP(I225,'BD Dias No utiles'!$B$9:$H$4077,7,FALSE)=\"X\",IF(VLOOKUP(I225+1,'BD Dias No utiles'!$B$9:$H$4077,7,FALSE)=\"X\",IF(VLOOKUP(I225+2,'BD Dias No utiles'!$B$9:$H$4077,7,FALSE)=\"X\",I225+3,I225+2),I225+1),I225),0)","v":"00:00:00"},0]
[null,223,{"$f":"+IF(Simulador!$G$26>='Cronograma Referencial'!B226,EDATE(C225,(B226-B225)*VLOOKUP(Simulador!$G$27,Simulador!$V$18:$W$29,2,FALSE)/30),0)","v":"00:00:00"},0,{"$f":"+IF(Simulador!$G$26>='Cronograma Referencial'!B226,'Cronograma Referencial'!E225+VLOOKUP(Simulador!$G$27,Simulador!$V$18:$W$29,2,FALSE),0)","v":"00:00:00"},0,null,223,"00:00:00",{"$f":"+IFERROR(IF(VLOOKUP(I226,'BD Dias No utiles'!$B$9:$H$4077,7,FALSE)=\"X\",IF(VLOOKUP(I226+1,'BD Dias No utiles'!$B$9:$H$4077,7,FALSE)=\"X\",IF(VLOOKUP(I226+2,'BD Dias No utiles'!$B$9:$H$4077,7,FALSE)=\"X\",I226+3,I226+2),I226+1),I226),0)","v":"00:00:00"},0]
[null,224,{"$f":"+IF(Simulador!$G$26>='Cronograma Referencial'!B227,EDATE(C226,(B227-B226)*VLOOKUP(Simulador!$G$27,Simulador!$V$18:$W$29,2,FALSE)/30),0)","v":"00:00:00"},0,{"$f":"+IF(Simulador!$G$26>='Cronograma Referencial'!B227,'Cronograma Referencial'!E226+VLOOKUP(Simulador!$G$27,Simulador!$V$18:$W$29,2,FALSE),0)","v":"00:00:00"},0,null,224,"00:00:00",{"$f":"+IFERROR(IF(VLOOKUP(I227,'BD Dias No utiles'!$B$9:$H$4077,7,FALSE)=\"X\",IF(VLOOKUP(I227+1,'BD Dias No utiles'!$B$9:$H$4077,7,FALSE)=\"X\",IF(VLOOKUP(I227+2,'BD Dias No utiles'!$B$9:$H$4077,7,FALSE)=\"X\",I227+3,I227+2),I227+1),I227),0)","v":"00:00:00"},0]
[null,225,{"$f":"+IF(Simulador!$G$26>='Cronograma Referencial'!B228,EDATE(C227,(B228-B227)*VLOOKUP(Simulador!$G$27,Simulador!$V$18:$W$29,2,FALSE)/30),0)","v":"00:00:00"},0,{"$f":"+IF(Simulador!$G$26>='Cronograma Referencial'!B228,'Cronograma Referencial'!E227+VLOOKUP(Simulador!$G$27,Simulador!$V$18:$W$29,2,FALSE),0)","v":"00:00:00"},0,null,225,"00:00:00",{"$f":"+IFERROR(IF(VLOOKUP(I228,'BD Dias No utiles'!$B$9:$H$4077,7,FALSE)=\"X\",IF(VLOOKUP(I228+1,'BD Dias No utiles'!$B$9:$H$4077,7,FALSE)=\"X\",IF(VLOOKUP(I228+2,'BD Dias No utiles'!$B$9:$H$4077,7,FALSE)=\"X\",I228+3,I228+2),I228+1),I228),0)","v":"00:00:00"},0]
[null,226,{"$f":"+IF(Simulador!$G$26>='Cronograma Referencial'!B229,EDATE(C228,(B229-B228)*VLOOKUP(Simulador!$G$27,Simulador!$V$18:$W$29,2,FALSE)/30),0)","v":"00:00:00"},0,{"$f":"+IF(Simulador!$G$26>='Cronograma Referencial'!B229,'Cronograma Referencial'!E228+VLOOKUP(Simulador!$G$27,Simulador!$V$18:$W$29,2,FALSE),0)","v":"00:00:00"},0,null,226,"00:00:00",{"$f":"+IFERROR(IF(VLOOKUP(I229,'BD Dias No utiles'!$B$9:$H$4077,7,FALSE)=\"X\",IF(VLOOKUP(I229+1,'BD Dias No utiles'!$B$9:$H$4077,7,FALSE)=\"X\",IF(VLOOKUP(I229+2,'BD Dias No utiles'!$B$9:$H$4077,7,FALSE)=\"X\",I229+3,I229+2),I229+1),I229),0)","v":"00:00:00"},0]
[null,227,{"$f":"+IF(Simulador!$G$26>='Cronograma Referencial'!B230,EDATE(C229,(B230-B229)*VLOOKUP(Simulador!$G$27,Simulador!$V$18:$W$29,2,FALSE)/30),0)","v":"00:00:00"},0,{"$f":"+IF(Simulador!$G$26>='Cronograma Referencial'!B230,'Cronograma Referencial'!E229+VLOOKUP(Simulador!$G$27,Simulador!$V$18:$W$29,2,FALSE),0)","v":"00:00:00"},0,null,227,"00:00:00",{"$f":"+IFERROR(IF(VLOOKUP(I230,'BD Dias No utiles'!$B$9:$H$4077,7,FALSE)=\"X\",IF(VLOOKUP(I230+1,'BD Dias No utiles'!$B$9:$H$4077,7,FALSE)=\"X\",IF(VLOOKUP(I230+2,'BD Dias No utiles'!$B$9:$H$4077,7,FALSE)=\"X\",I230+3,I230+2),I230+1),I230),0)","v":"00:00:00"},0]
[null,228,{"$f":"+IF(Simulador!$G$26>='Cronograma Referencial'!B231,EDATE(C230,(B231-B230)*VLOOKUP(Simulador!$G$27,Simulador!$V$18:$W$29,2,FALSE)/30),0)","v":"00:00:00"},0,{"$f":"+IF(Simulador!$G$26>='Cronograma Referencial'!B231,'Cronograma Referencial'!E230+VLOOKUP(Simulador!$G$27,Simulador!$V$18:$W$29,2,FALSE),0)","v":"00:00:00"},0,null,228,"00:00:00",{"$f":"+IFERROR(IF(VLOOKUP(I231,'BD Dias No utiles'!$B$9:$H$4077,7,FALSE)=\"X\",IF(VLOOKUP(I231+1,'BD Dias No utiles'!$B$9:$H$4077,7,FALSE)=\"X\",IF(VLOOKUP(I231+2,'BD Dias No utiles'!$B$9:$H$4077,7,FALSE)=\"X\",I231+3,I231+2),I231+1),I231),0)","v":"00:00:00"},0]
[null,229,{"$f":"+IF(Simulador!$G$26>='Cronograma Referencial'!B232,EDATE(C231,(B232-B231)*VLOOKUP(Simulador!$G$27,Simulador!$V$18:$W$29,2,FALSE)/30),0)","v":"00:00:00"},0,{"$f":"+IF(Simulador!$G$26>='Cronograma Referencial'!B232,'Cronograma Referencial'!E231+VLOOKUP(Simulador!$G$27,Simulador!$V$18:$W$29,2,FALSE),0)","v":"00:00:00"},0,null,229,"00:00:00",{"$f":"+IFERROR(IF(VLOOKUP(I232,'BD Dias No utiles'!$B$9:$H$4077,7,FALSE)=\"X\",IF(VLOOKUP(I232+1,'BD Dias No utiles'!$B$9:$H$4077,7,FALSE)=\"X\",IF(VLOOKUP(I232+2,'BD Dias No utiles'!$B$9:$H$4077,7,FALSE)=\"X\",I232+3,I232+2),I232+1),I232),0)","v":"00:00:00"},0]
[null,230,{"$f":"+IF(Simulador!$G$26>='Cronograma Referencial'!B233,EDATE(C232,(B233-B232)*VLOOKUP(Simulador!$G$27,Simulador!$V$18:$W$29,2,FALSE)/30),0)","v":"00:00:00"},0,{"$f":"+IF(Simulador!$G$26>='Cronograma Referencial'!B233,'Cronograma Referencial'!E232+VLOOKUP(Simulador!$G$27,Simulador!$V$18:$W$29,2,FALSE),0)","v":"00:00:00"},0,null,230,"00:00:00",{"$f":"+IFERROR(IF(VLOOKUP(I233,'BD Dias No utiles'!$B$9:$H$4077,7,FALSE)=\"X\",IF(VLOOKUP(I233+1,'BD Dias No utiles'!$B$9:$H$4077,7,FALSE)=\"X\",IF(VLOOKUP(I233+2,'BD Dias No utiles'!$B$9:$H$4077,7,FALSE)=\"X\",I233+3,I233+2),I233+1),I233),0)","v":"00:00:00"},0]
[null,231,{"$f":"+IF(Simulador!$G$26>='Cronograma Referencial'!B234,EDATE(C233,(B234-B233)*VLOOKUP(Simulador!$G$27,Simulador!$V$18:$W$29,2,FALSE)/30),0)","v":"00:00:00"},0,{"$f":"+IF(Simulador!$G$26>='Cronograma Referencial'!B234,'Cronograma Referencial'!E233+VLOOKUP(Simulador!$G$27,Simulador!$V$18:$W$29,2,FALSE),0)","v":"00:00:00"},0,null,231,"00:00:00",{"$f":"+IFERROR(IF(VLOOKUP(I234,'BD Dias No utiles'!$B$9:$H$4077,7,FALSE)=\"X\",IF(VLOOKUP(I234+1,'BD Dias No utiles'!$B$9:$H$4077,7,FALSE)=\"X\",IF(VLOOKUP(I234+2,'BD Dias No utiles'!$B$9:$H$4077,7,FALSE)=\"X\",I234+3,I234+2),I234+1),I234),0)","v":"00:00:00"},0]
[null,232,{"$f":"+IF(Simulador!$G$26>='Cronograma Referencial'!B235,EDATE(C234,(B235-B234)*VLOOKUP(Simulador!$G$27,Simulador!$V$18:$W$29,2,FALSE)/30),0)","v":"00:00:00"},0,{"$f":"+IF(Simulador!$G$26>='Cronograma Referencial'!B235,'Cronograma Referencial'!E234+VLOOKUP(Simulador!$G$27,Simulador!$V$18:$W$29,2,FALSE),0)","v":"00:00:00"},0,null,232,"00:00:00",{"$f":"+IFERROR(IF(VLOOKUP(I235,'BD Dias No utiles'!$B$9:$H$4077,7,FALSE)=\"X\",IF(VLOOKUP(I235+1,'BD Dias No utiles'!$B$9:$H$4077,7,FALSE)=\"X\",IF(VLOOKUP(I235+2,'BD Dias No utiles'!$B$9:$H$4077,7,FALSE)=\"X\",I235+3,I235+2),I235+1),I235),0)","v":"00:00:00"},0]
[null,233,{"$f":"+IF(Simulador!$G$26>='Cronograma Referencial'!B236,EDATE(C235,(B236-B235)*VLOOKUP(Simulador!$G$27,Simulador!$V$18:$W$29,2,FALSE)/30),0)","v":"00:00:00"},0,{"$f":"+IF(Simulador!$G$26>='Cronograma Referencial'!B236,'Cronograma Referencial'!E235+VLOOKUP(Simulador!$G$27,Simulador!$V$18:$W$29,2,FALSE),0)","v":"00:00:00"},0,null,233,"00:00:00",{"$f":"+IFERROR(IF(VLOOKUP(I236,'BD Dias No utiles'!$B$9:$H$4077,7,FALSE)=\"X\",IF(VLOOKUP(I236+1,'BD Dias No utiles'!$B$9:$H$4077,7,FALSE)=\"X\",IF(VLOOKUP(I236+2,'BD Dias No utiles'!$B$9:$H$4077,7,FALSE)=\"X\",I236+3,I236+2),I236+1),I236),0)","v":"00:00:00"},0]
[null,234,{"$f":"+IF(Simulador!$G$26>='Cronograma Referencial'!B237,EDATE(C236,(B237-B236)*VLOOKUP(Simulador!$G$27,Simulador!$V$18:$W$29,2,FALSE)/30),0)","v":"00:00:00"},0,{"$f":"+IF(Simulador!$G$26>='Cronograma Referencial'!B237,'Cronograma Referencial'!E236+VLOOKUP(Simulador!$G$27,Simulador!$V$18:$W$29,2,FALSE),0)","v":"00:00:00"},0,null,234,"00:00:00",{"$f":"+IFERROR(IF(VLOOKUP(I237,'BD Dias No utiles'!$B$9:$H$4077,7,FALSE)=\"X\",IF(VLOOKUP(I237+1,'BD Dias No utiles'!$B$9:$H$4077,7,FALSE)=\"X\",IF(VLOOKUP(I237+2,'BD Dias No utiles'!$B$9:$H$4077,7,FALSE)=\"X\",I237+3,I237+2),I237+1),I237),0)","v":"00:00:00"},0]
[null,235,{"$f":"+IF(Simulador!$G$26>='Cronograma Referencial'!B238,EDATE(C237,(B238-B237)*VLOOKUP(Simulador!$G$27,Simulador!$V$18:$W$29,2,FALSE)/30),0)","v":"00:00:00"},0,{"$f":"+IF(Simulador!$G$26>='Cronograma Referencial'!B238,'Cronograma Referencial'!E237+VLOOKUP(Simulador!$G$27,Simulador!$V$18:$W$29,2,FALSE),0)","v":"00:00:00"},0,null,235,"00:00:00",{"$f":"+IFERROR(IF(VLOOKUP(I238,'BD Dias No utiles'!$B$9:$H$4077,7,FALSE)=\"X\",IF(VLOOKUP(I238+1,'BD Dias No utiles'!$B$9:$H$4077,7,FALSE)=\"X\",IF(VLOOKUP(I238+2,'BD Dias No utiles'!$B$9:$H$4077,7,FALSE)=\"X\",I238+3,I238+2),I238+1),I238),0)","v":"00:00:00"},0]
[null,236,{"$f":"+IF(Simulador!$G$26>='Cronograma Referencial'!B239,EDATE(C238,(B239-B238)*VLOOKUP(Simulador!$G$27,Simulador!$V$18:$W$29,2,FALSE)/30),0)","v":"00:00:00"},0,{"$f":"+IF(Simulador!$G$26>='Cronograma Referencial'!B239,'Cronograma Referencial'!E238+VLOOKUP(Simulador!$G$27,Simulador!$V$18:$W$29,2,FALSE),0)","v":"00:00:00"},0,null,236,"00:00:00",{"$f":"+IFERROR(IF(VLOOKUP(I239,'BD Dias No utiles'!$B$9:$H$4077,7,FALSE)=\"X\",IF(VLOOKUP(I239+1,'BD Dias No utiles'!$B$9:$H$4077,7,FALSE)=\"X\",IF(VLOOKUP(I239+2,'BD Dias No utiles'!$B$9:$H$4077,7,FALSE)=\"X\",I239+3,I239+2),I239+1),I239),0)","v":"00:00:00"},0]
[null,237,{"$f":"+IF(Simulador!$G$26>='Cronograma Referencial'!B240,EDATE(C239,(B240-B239)*VLOOKUP(Simulador!$G$27,Simulador!$V$18:$W$29,2,FALSE)/30),0)","v":"00:00:00"},0,{"$f":"+IF(Simulador!$G$26>='Cronograma Referencial'!B240,'Cronograma Referencial'!E239+VLOOKUP(Simulador!$G$27,Simulador!$V$18:$W$29,2,FALSE),0)","v":"00:00:00"},0,null,237,"00:00:00",{"$f":"+IFERROR(IF(VLOOKUP(I240,'BD Dias No utiles'!$B$9:$H$4077,7,FALSE)=\"X\",IF(VLOOKUP(I240+1,'BD Dias No utiles'!$B$9:$H$4077,7,FALSE)=\"X\",IF(VLOOKUP(I240+2,'BD Dias No utiles'!$B$9:$H$4077,7,FALSE)=\"X\",I240+3,I240+2),I240+1),I240),0)","v":"00:00:00"},0]
[null,238,{"$f":"+IF(Simulador!$G$26>='Cronograma Referencial'!B241,EDATE(C240,(B241-B240)*VLOOKUP(Simulador!$G$27,Simulador!$V$18:$W$29,2,FALSE)/30),0)","v":"00:00:00"},0,{"$f":"+IF(Simulador!$G$26>='Cronograma Referencial'!B241,'Cronograma Referencial'!E240+VLOOKUP(Simulador!$G$27,Simulador!$V$18:$W$29,2,FALSE),0)","v":"00:00:00"},0,null,238,"00:00:00",{"$f":"+IFERROR(IF(VLOOKUP(I241,'BD Dias No utiles'!$B$9:$H$4077,7,FALSE)=\"X\",IF(VLOOKUP(I241+1,'BD Dias No utiles'!$B$9:$H$4077,7,FALSE)=\"X\",IF(VLOOKUP(I241+2,'BD Dias No utiles'!$B$9:$H$4077,7,FALSE)=\"X\",I241+3,I241+2),I241+1),I241),0)","v":"00:00:00"},0]
[null,239,{"$f":"+IF(Simulador!$G$26>='Cronograma Referencial'!B242,EDATE(C241,(B242-B241)*VLOOKUP(Simulador!$G$27,Simulador!$V$18:$W$29,2,FALSE)/30),0)","v":"00:00:00"},0,{"$f":"+IF(Simulador!$G$26>='Cronograma Referencial'!B242,'Cronograma Referencial'!E241+VLOOKUP(Simulador!$G$27,Simulador!$V$18:$W$29,2,FALSE),0)","v":"00:00:00"},0,null,239,"00:00:00",{"$f":"+IFERROR(IF(VLOOKUP(I242,'BD Dias No utiles'!$B$9:$H$4077,7,FALSE)=\"X\",IF(VLOOKUP(I242+1,'BD Dias No utiles'!$B$9:$H$4077,7,FALSE)=\"X\",IF(VLOOKUP(I242+2,'BD Dias No utiles'!$B$9:$H$4077,7,FALSE)=\"X\",I242+3,I242+2),I242+1),I242),0)","v":"00:00:00"},0]
[null,240,{"$f":"+IF(Simulador!$G$26>='Cronograma Referencial'!B243,EDATE(C242,(B243-B242)*VLOOKUP(Simulador!$G$27,Simulador!$V$18:$W$29,2,FALSE)/30),0)","v":"00:00:00"},0,{"$f":"+IF(Simulador!$G$26>='Cronograma Referencial'!B243,'Cronograma Referencial'!E242+VLOOKUP(Simulador!$G$27,Simulador!$V$18:$W$29,2,FALSE),0)","v":"00:00:00"},0,null,240,"00:00:00",{"$f":"+IFERROR(IF(VLOOKUP(I243,'BD Dias No utiles'!$B$9:$H$4077,7,FALSE)=\"X\",IF(VLOOKUP(I243+1,'BD Dias No utiles'!$B$9:$H$4077,7,FALSE)=\"X\",IF(VLOOKUP(I243+2,'BD Dias No utiles'!$B$9:$H$4077,7,FALSE)=\"X\",I243+3,I243+2),I243+1),I243),0)","v":"00:00:00"},0]
[null,241,{"$f":"+IF(Simulador!$G$26>='Cronograma Referencial'!B244,EDATE(C243,(B244-B243)*VLOOKUP(Simulador!$G$27,Simulador!$V$18:$W$29,2,FALSE)/30),0)","v":"00:00:00"},0,{"$f":"+IF(Simulador!$G$26>='Cronograma Referencial'!B244,'Cronograma Referencial'!E243+VLOOKUP(Simulador!$G$27,Simulador!$V$18:$W$29,2,FALSE),0)","v":"00:00:00"},0,null,241,"00:00:00",{"$f":"+IFERROR(IF(VLOOKUP(I244,'BD Dias No utiles'!$B$9:$H$4077,7,FALSE)=\"X\",IF(VLOOKUP(I244+1,'BD Dias No utiles'!$B$9:$H$4077,7,FALSE)=\"X\",IF(VLOOKUP(I244+2,'BD Dias No utiles'!$B$9:$H$4077,7,FALSE)=\"X\",I244+3,I244+2),I244+1),I244),0)","v":"00:00:00"},0]
[null,242,{"$f":"+IF(Simulador!$G$26>='Cronograma Referencial'!B245,EDATE(C244,(B245-B244)*VLOOKUP(Simulador!$G$27,Simulador!$V$18:$W$29,2,FALSE)/30),0)","v":"00:00:00"},0,{"$f":"+IF(Simulador!$G$26>='Cronograma Referencial'!B245,'Cronograma Referencial'!E244+VLOOKUP(Simulador!$G$27,Simulador!$V$18:$W$29,2,FALSE),0)","v":"00:00:00"},0,null,242,"00:00:00",{"$f":"+IFERROR(IF(VLOOKUP(I245,'BD Dias No utiles'!$B$9:$H$4077,7,FALSE)=\"X\",IF(VLOOKUP(I245+1,'BD Dias No utiles'!$B$9:$H$4077,7,FALSE)=\"X\",IF(VLOOKUP(I245+2,'BD Dias No utiles'!$B$9:$H$4077,7,FALSE)=\"X\",I245+3,I245+2),I245+1),I245),0)","v":"00:00:00"},0]
[null,243,{"$f":"+IF(Simulador!$G$26>='Cronograma Referencial'!B246,EDATE(C245,(B246-B245)*VLOOKUP(Simulador!$G$27,Simulador!$V$18:$W$29,2,FALSE)/30),0)","v":"00:00:00"},0,{"$f":"+IF(Simulador!$G$26>='Cronograma Referencial'!B246,'Cronograma Referencial'!E245+VLOOKUP(Simulador!$G$27,Simulador!$V$18:$W$29,2,FALSE),0)","v":"00:00:00"},0,null,243,"00:00:00",{"$f":"+IFERROR(IF(VLOOKUP(I246,'BD Dias No utiles'!$B$9:$H$4077,7,FALSE)=\"X\",IF(VLOOKUP(I246+1,'BD Dias No utiles'!$B$9:$H$4077,7,FALSE)=\"X\",IF(VLOOKUP(I246+2,'BD Dias No utiles'!$B$9:$H$4077,7,FALSE)=\"X\",I246+3,I246+2),I246+1),I246),0)","v":"00:00:00"},0]
[null,244,{"$f":"+IF(Simulador!$G$26>='Cronograma Referencial'!B247,EDATE(C246,(B247-B246)*VLOOKUP(Simulador!$G$27,Simulador!$V$18:$W$29,2,FALSE)/30),0)","v":"00:00:00"},0,{"$f":"+IF(Simulador!$G$26>='Cronograma Referencial'!B247,'Cronograma Referencial'!E246+VLOOKUP(Simulador!$G$27,Simulador!$V$18:$W$29,2,FALSE),0)","v":"00:00:00"},0,null,244,"00:00:00",{"$f":"+IFERROR(IF(VLOOKUP(I247,'BD Dias No utiles'!$B$9:$H$4077,7,FALSE)=\"X\",IF(VLOOKUP(I247+1,'BD Dias No utiles'!$B$9:$H$4077,7,FALSE)=\"X\",IF(VLOOKUP(I247+2,'BD Dias No utiles'!$B$9:$H$4077,7,FALSE)=\"X\",I247+3,I247+2),I247+1),I247),0)","v":"00:00:00"},0]
[null,245,{"$f":"+IF(Simulador!$G$26>='Cronograma Referencial'!B248,EDATE(C247,(B248-B247)*VLOOKUP(Simulador!$G$27,Simulador!$V$18:$W$29,2,FALSE)/30),0)","v":"00:00:00"},0,{"$f":"+IF(Simulador!$G$26>='Cronograma Referencial'!B248,'Cronograma Referencial'!E247+VLOOKUP(Simulador!$G$27,Simulador!$V$18:$W$29,2,FALSE),0)","v":"00:00:00"},0,null,245,"00:00:00",{"$f":"+IFERROR(IF(VLOOKUP(I248,'BD Dias No utiles'!$B$9:$H$4077,7,FALSE)=\"X\",IF(VLOOKUP(I248+1,'BD Dias No utiles'!$B$9:$H$4077,7,FALSE)=\"X\",IF(VLOOKUP(I248+2,'BD Dias No utiles'!$B$9:$H$4077,7,FALSE)=\"X\",I248+3,I248+2),I248+1),I248),0)","v":"00:00:00"},0]
[null,246,{"$f":"+IF(Simulador!$G$26>='Cronograma Referencial'!B249,EDATE(C248,(B249-B248)*VLOOKUP(Simulador!$G$27,Simulador!$V$18:$W$29,2,FALSE)/30),0)","v":"00:00:00"},0,{"$f":"+IF(Simulador!$G$26>='Cronograma Referencial'!B249,'Cronograma Referencial'!E248+VLOOKUP(Simulador!$G$27,Simulador!$V$18:$W$29,2,FALSE),0)","v":"00:00:00"},0,null,246,"00:00:00",{"$f":"+IFERROR(IF(VLOOKUP(I249,'BD Dias No utiles'!$B$9:$H$4077,7,FALSE)=\"X\",IF(VLOOKUP(I249+1,'BD Dias No utiles'!$B$9:$H$4077,7,FALSE)=\"X\",IF(VLOOKUP(I249+2,'BD Dias No utiles'!$B$9:$H$4077,7,FALSE)=\"X\",I249+3,I249+2),I249+1),I249),0)","v":"00:00:00"},0]
[null,247,{"$f":"+IF(Simulador!$G$26>='Cronograma Referencial'!B250,EDATE(C249,(B250-B249)*VLOOKUP(Simulador!$G$27,Simulador!$V$18:$W$29,2,FALSE)/30),0)","v":"00:00:00"},0,{"$f":"+IF(Simulador!$G$26>='Cronograma Referencial'!B250,'Cronograma Referencial'!E249+VLOOKUP(Simulador!$G$27,Simulador!$V$18:$W$29,2,FALSE),0)","v":"00:00:00"},0,null,247,"00:00:00",{"$f":"+IFERROR(IF(VLOOKUP(I250,'BD Dias No utiles'!$B$9:$H$4077,7,FALSE)=\"X\",IF(VLOOKUP(I250+1,'BD Dias No utiles'!$B$9:$H$4077,7,FALSE)=\"X\",IF(VLOOKUP(I250+2,'BD Dias No utiles'!$B$9:$H$4077,7,FALSE)=\"X\",I250+3,I250+2),I250+1),I250),0)","v":"00:00:00"},0]
[null,248,{"$f":"+IF(Simulador!$G$26>='Cronograma Referencial'!B251,EDATE(C250,(B251-B250)*VLOOKUP(Simulador!$G$27,Simulador!$V$18:$W$29,2,FALSE)/30),0)","v":"00:00:00"},0,{"$f":"+IF(Simulador!$G$26>='Cronograma Referencial'!B251,'Cronograma Referencial'!E250+VLOOKUP(Simulador!$G$27,Simulador!$V$18:$W$29,2,FALSE),0)","v":"00:00:00"},0,null,248,"00:00:00",{"$f":"+IFERROR(IF(VLOOKUP(I251,'BD Dias No utiles'!$B$9:$H$4077,7,FALSE)=\"X\",IF(VLOOKUP(I251+1,'BD Dias No utiles'!$B$9:$H$4077,7,FALSE)=\"X\",IF(VLOOKUP(I251+2,'BD Dias No utiles'!$B$9:$H$4077,7,FALSE)=\"X\",I251+3,I251+2),I251+1),I251),0)","v":"00:00:00"},0]
[null,249,{"$f":"+IF(Simulador!$G$26>='Cronograma Referencial'!B252,EDATE(C251,(B252-B251)*VLOOKUP(Simulador!$G$27,Simulador!$V$18:$W$29,2,FALSE)/30),0)","v":"00:00:00"},0,{"$f":"+IF(Simulador!$G$26>='Cronograma Referencial'!B252,'Cronograma Referencial'!E251+VLOOKUP(Simulador!$G$27,Simulador!$V$18:$W$29,2,FALSE),0)","v":"00:00:00"},0,null,249,"00:00:00",{"$f":"+IFERROR(IF(VLOOKUP(I252,'BD Dias No utiles'!$B$9:$H$4077,7,FALSE)=\"X\",IF(VLOOKUP(I252+1,'BD Dias No utiles'!$B$9:$H$4077,7,FALSE)=\"X\",IF(VLOOKUP(I252+2,'BD Dias No utiles'!$B$9:$H$4077,7,FALSE)=\"X\",I252+3,I252+2),I252+1),I252),0)","v":"00:00:00"},0]
[null,250,{"$f":"+IF(Simulador!$G$26>='Cronograma Referencial'!B253,EDATE(C252,(B253-B252)*VLOOKUP(Simulador!$G$27,Simulador!$V$18:$W$29,2,FALSE)/30),0)","v":"00:00:00"},0,{"$f":"+IF(Simulador!$G$26>='Cronograma Referencial'!B253,'Cronograma Referencial'!E252+VLOOKUP(Simulador!$G$27,Simulador!$V$18:$W$29,2,FALSE),0)","v":"00:00:00"},0,null,250,"00:00:00",{"$f":"+IFERROR(IF(VLOOKUP(I253,'BD Dias No utiles'!$B$9:$H$4077,7,FALSE)=\"X\",IF(VLOOKUP(I253+1,'BD Dias No utiles'!$B$9:$H$4077,7,FALSE)=\"X\",IF(VLOOKUP(I253+2,'BD Dias No utiles'!$B$9:$H$4077,7,FALSE)=\"X\",I253+3,I253+2),I253+1),I253),0)","v":"00:00:00"},0]
[null,251,{"$f":"+IF(Simulador!$G$26>='Cronograma Referencial'!B254,EDATE(C253,(B254-B253)*VLOOKUP(Simulador!$G$27,Simulador!$V$18:$W$29,2,FALSE)/30),0)","v":"00:00:00"},0,{"$f":"+IF(Simulador!$G$26>='Cronograma Referencial'!B254,'Cronograma Referencial'!E253+VLOOKUP(Simulador!$G$27,Simulador!$V$18:$W$29,2,FALSE),0)","v":"00:00:00"},0,null,251,"00:00:00",{"$f":"+IFERROR(IF(VLOOKUP(I254,'BD Dias No utiles'!$B$9:$H$4077,7,FALSE)=\"X\",IF(VLOOKUP(I254+1,'BD Dias No utiles'!$B$9:$H$4077,7,FALSE)=\"X\",IF(VLOOKUP(I254+2,'BD Dias No utiles'!$B$9:$H$4077,7,FALSE)=\"X\",I254+3,I254+2),I254+1),I254),0)","v":"00:00:00"},0]
[null,252,{"$f":"+IF(Simulador!$G$26>='Cronograma Referencial'!B255,EDATE(C254,(B255-B254)*VLOOKUP(Simulador!$G$27,Simulador!$V$18:$W$29,2,FALSE)/30),0)","v":"00:00:00"},0,{"$f":"+IF(Simulador!$G$26>='Cronograma Referencial'!B255,'Cronograma Referencial'!E254+VLOOKUP(Simulador!$G$27,Simulador!$V$18:$W$29,2,FALSE),0)","v":"00:00:00"},0,null,252,"00:00:00",{"$f":"+IFERROR(IF(VLOOKUP(I255,'BD Dias No utiles'!$B$9:$H$4077,7,FALSE)=\"X\",IF(VLOOKUP(I255+1,'BD Dias No utiles'!$B$9:$H$4077,7,FALSE)=\"X\",IF(VLOOKUP(I255+2,'BD Dias No utiles'!$B$9:$H$4077,7,FALSE)=\"X\",I255+3,I255+2),I255+1),I255),0)","v":"00:00:00"},0]
[null,253,{"$f":"+IF(Simulador!$G$26>='Cronograma Referencial'!B256,EDATE(C255,(B256-B255)*VLOOKUP(Simulador!$G$27,Simulador!$V$18:$W$29,2,FALSE)/30),0)","v":"00:00:00"},0,{"$f":"+IF(Simulador!$G$26>='Cronograma Referencial'!B256,'Cronograma Referencial'!E255+VLOOKUP(Simulador!$G$27,Simulador!$V$18:$W$29,2,FALSE),0)","v":"00:00:00"},0,null,253,"00:00:00",{"$f":"+IFERROR(IF(VLOOKUP(I256,'BD Dias No utiles'!$B$9:$H$4077,7,FALSE)=\"X\",IF(VLOOKUP(I256+1,'BD Dias No utiles'!$B$9:$H$4077,7,FALSE)=\"X\",IF(VLOOKUP(I256+2,'BD Dias No utiles'!$B$9:$H$4077,7,FALSE)=\"X\",I256+3,I256+2),I256+1),I256),0)","v":"00:00:00"},0]
[null,254,{"$f":"+IF(Simulador!$G$26>='Cronograma Referencial'!B257,EDATE(C256,(B257-B256)*VLOOKUP(Simulador!$G$27,Simulador!$V$18:$W$29,2,FALSE)/30),0)","v":"00:00:00"},0,{"$f":"+IF(Simulador!$G$26>='Cronograma Referencial'!B257,'Cronograma Referencial'!E256+VLOOKUP(Simulador!$G$27,Simulador!$V$18:$W$29,2,FALSE),0)","v":"00:00:00"},0,null,254,"00:00:00",{"$f":"+IFERROR(IF(VLOOKUP(I257,'BD Dias No utiles'!$B$9:$H$4077,7,FALSE)=\"X\",IF(VLOOKUP(I257+1,'BD Dias No utiles'!$B$9:$H$4077,7,FALSE)=\"X\",IF(VLOOKUP(I257+2,'BD Dias No utiles'!$B$9:$H$4077,7,FALSE)=\"X\",I257+3,I257+2),I257+1),I257),0)","v":"00:00:00"},0]
[null,255,{"$f":"+IF(Simulador!$G$26>='Cronograma Referencial'!B258,EDATE(C257,(B258-B257)*VLOOKUP(Simulador!$G$27,Simulador!$V$18:$W$29,2,FALSE)/30),0)","v":"00:00:00"},0,{"$f":"+IF(Simulador!$G$26>='Cronograma Referencial'!B258,'Cronograma Referencial'!E257+VLOOKUP(Simulador!$G$27,Simulador!$V$18:$W$29,2,FALSE),0)","v":"00:00:00"},0,null,255,"00:00:00",{"$f":"+IFERROR(IF(VLOOKUP(I258,'BD Dias No utiles'!$B$9:$H$4077,7,FALSE)=\"X\",IF(VLOOKUP(I258+1,'BD Dias No utiles'!$B$9:$H$4077,7,FALSE)=\"X\",IF(VLOOKUP(I258+2,'BD Dias No utiles'!$B$9:$H$4077,7,FALSE)=\"X\",I258+3,I258+2),I258+1),I258),0)","v":"00:00:00"},0]
[null,256,{"$f":"+IF(Simulador!$G$26>='Cronograma Referencial'!B259,EDATE(C258,(B259-B258)*VLOOKUP(Simulador!$G$27,Simulador!$V$18:$W$29,2,FALSE)/30),0)","v":"00:00:00"},0,{"$f":"+IF(Simulador!$G$26>='Cronograma Referencial'!B259,'Cronograma Referencial'!E258+VLOOKUP(Simulador!$G$27,Simulador!$V$18:$W$29,2,FALSE),0)","v":"00:00:00"},0,null,256,"00:00:00",{"$f":"+IFERROR(IF(VLOOKUP(I259,'BD Dias No utiles'!$B$9:$H$4077,7,FALSE)=\"X\",IF(VLOOKUP(I259+1,'BD Dias No utiles'!$B$9:$H$4077,7,FALSE)=\"X\",IF(VLOOKUP(I259+2,'BD Dias No utiles'!$B$9:$H$4077,7,FALSE)=\"X\",I259+3,I259+2),I259+1),I259),0)","v":"00:00:00"},0]
[null,257,{"$f":"+IF(Simulador!$G$26>='Cronograma Referencial'!B260,EDATE(C259,(B260-B259)*VLOOKUP(Simulador!$G$27,Simulador!$V$18:$W$29,2,FALSE)/30),0)","v":"00:00:00"},0,{"$f":"+IF(Simulador!$G$26>='Cronograma Referencial'!B260,'Cronograma Referencial'!E259+VLOOKUP(Simulador!$G$27,Simulador!$V$18:$W$29,2,FALSE),0)","v":"00:00:00"},0,null,{"$f":"+B260","v":257},"00:00:00",{"$f":"+IFERROR(IF(VLOOKUP(I260,'BD Dias No utiles'!$B$9:$H$4077,7,FALSE)=\"X\",IF(VLOOKUP(I260+1,'BD Dias No utiles'!$B$9:$H$4077,7,FALSE)=\"X\",IF(VLOOKUP(I260+2,'BD Dias No utiles'!$B$9:$H$4077,7,FALSE)=\"X\",I260+3,I260+2),I260+1),I260),0)","v":"00:00:00"},0]
[null,258,{"$f":"+IF(Simulador!$G$26>='Cronograma Referencial'!B261,EDATE(C260,(B261-B260)*VLOOKUP(Simulador!$G$27,Simulador!$V$18:$W$29,2,FALSE)/30),0)","v":"00:00:00"},{"$f":"+C261-C260","v":0},{"$f":"+IF(Simulador!$G$26>='Cronograma Referencial'!B261,'Cronograma Referencial'!E260+VLOOKUP(Simulador!$G$27,Simulador!$V$18:$W$29,2,FALSE),0)","v":"00:00:00"},0,null,258,{"$f":"+HLOOKUP($I$2,$C$2:$E$418,H261+2)","v":"00:00:00"},{"$f":"+IFERROR(IF(VLOOKUP(I261,'BD Dias No utiles'!$B$9:$H$4077,7,FALSE)=\"X\",IF(VLOOKUP(I261+1,'BD Dias No utiles'!$B$9:$H$4077,7,FALSE)=\"X\",IF(VLOOKUP(I261+2,'BD Dias No utiles'!$B$9:$H$4077,7,FALSE)=\"X\",I261+3,I261+2),I261+1),I261),0)","v":"00:00:00"},{"$f":"+I261-I260","v":0}]
[null,{"$f":"+B261+1","v":259},{"$f":"+IF(Simulador!$G$26>='Cronograma Referencial'!B262,EDATE(C261,(B262-B261)*VLOOKUP(Simulador!$G$27,Simulador!$V$18:$W$29,2,FALSE)/30),0)","v":"00:00:00"},0,{"$f":"+IF(Simulador!$G$26>='Cronograma Referencial'!B262,'Cronograma Referencial'!E261+VLOOKUP(Simulador!$G$27,Simulador!$V$18:$W$29,2,FALSE),0)","v":"00:00:00"},{"$f":"+E262-E261","v":0},null,259,"00:00:00",{"$f":"+IFERROR(IF(VLOOKUP(I262,'BD Dias No utiles'!$B$9:$H$4077,7,FALSE)=\"X\",IF(VLOOKUP(I262+1,'BD Dias No utiles'!$B$9:$H$4077,7,FALSE)=\"X\",IF(VLOOKUP(I262+2,'BD Dias No utiles'!$B$9:$H$4077,7,FALSE)=\"X\",I262+3,I262+2),I262+1),I262),0)","v":"00:00:00"},0]
[null,260,{"$f":"+IF(Simulador!$G$26>='Cronograma Referencial'!B263,EDATE(C262,(B263-B262)*VLOOKUP(Simulador!$G$27,Simulador!$V$18:$W$29,2,FALSE)/30),0)","v":"00:00:00"},0,{"$f":"+IF(Simulador!$G$26>='Cronograma Referencial'!B263,'Cronograma Referencial'!E262+VLOOKUP(Simulador!$G$27,Simulador!$V$18:$W$29,2,FALSE),0)","v":"00:00:00"},0,null,260,"00:00:00",{"$f":"+IFERROR(IF(VLOOKUP(I263,'BD Dias No utiles'!$B$9:$H$4077,7,FALSE)=\"X\",IF(VLOOKUP(I263+1,'BD Dias No utiles'!$B$9:$H$4077,7,FALSE)=\"X\",IF(VLOOKUP(I263+2,'BD Dias No utiles'!$B$9:$H$4077,7,FALSE)=\"X\",I263+3,I263+2),I263+1),I263),0)","v":"00:00:00"},0]
[null,261,{"$f":"+IF(Simulador!$G$26>='Cronograma Referencial'!B264,EDATE(C263,(B264-B263)*VLOOKUP(Simulador!$G$27,Simulador!$V$18:$W$29,2,FALSE)/30),0)","v":"00:00:00"},0,{"$f":"+IF(Simulador!$G$26>='Cronograma Referencial'!B264,'Cronograma Referencial'!E263+VLOOKUP(Simulador!$G$27,Simulador!$V$18:$W$29,2,FALSE),0)","v":"00:00:00"},0,null,261,"00:00:00",{"$f":"+IFERROR(IF(VLOOKUP(I264,'BD Dias No utiles'!$B$9:$H$4077,7,FALSE)=\"X\",IF(VLOOKUP(I264+1,'BD Dias No utiles'!$B$9:$H$4077,7,FALSE)=\"X\",IF(VLOOKUP(I264+2,'BD Dias No utiles'!$B$9:$H$4077,7,FALSE)=\"X\",I264+3,I264+2),I264+1),I264),0)","v":"00:00:00"},0]
[null,262,{"$f":"+IF(Simulador!$G$26>='Cronograma Referencial'!B265,EDATE(C264,(B265-B264)*VLOOKUP(Simulador!$G$27,Simulador!$V$18:$W$29,2,FALSE)/30),0)","v":"00:00:00"},0,{"$f":"+IF(Simulador!$G$26>='Cronograma Referencial'!B265,'Cronograma Referencial'!E264+VLOOKUP(Simulador!$G$27,Simulador!$V$18:$W$29,2,FALSE),0)","v":"00:00:00"},0,null,262,"00:00:00",{"$f":"+IFERROR(IF(VLOOKUP(I265,'BD Dias No utiles'!$B$9:$H$4077,7,FALSE)=\"X\",IF(VLOOKUP(I265+1,'BD Dias No utiles'!$B$9:$H$4077,7,FALSE)=\"X\",IF(VLOOKUP(I265+2,'BD Dias No utiles'!$B$9:$H$4077,7,FALSE)=\"X\",I265+3,I265+2),I265+1),I265),0)","v":"00:00:00"},0]
[null,263,{"$f":"+IF(Simulador!$G$26>='Cronograma Referencial'!B266,EDATE(C265,(B266-B265)*VLOOKUP(Simulador!$G$27,Simulador!$V$18:$W$29,2,FALSE)/30),0)","v":"00:00:00"},0,{"$f":"+IF(Simulador!$G$26>='Cronograma Referencial'!B266,'Cronograma Referencial'!E265+VLOOKUP(Simulador!$G$27,Simulador!$V$18:$W$29,2,FALSE),0)","v":"00:00:00"},0,null,263,"00:00:00",{"$f":"+IFERROR(IF(VLOOKUP(I266,'BD Dias No utiles'!$B$9:$H$4077,7,FALSE)=\"X\",IF(VLOOKUP(I266+1,'BD Dias No utiles'!$B$9:$H$4077,7,FALSE)=\"X\",IF(VLOOKUP(I266+2,'BD Dias No utiles'!$B$9:$H$4077,7,FALSE)=\"X\",I266+3,I266+2),I266+1),I266),0)","v":"00:00:00"},0]
[null,264,{"$f":"+IF(Simulador!$G$26>='Cronograma Referencial'!B267,EDATE(C266,(B267-B266)*VLOOKUP(Simulador!$G$27,Simulador!$V$18:$W$29,2,FALSE)/30),0)","v":"00:00:00"},0,{"$f":"+IF(Simulador!$G$26>='Cronograma Referencial'!B267,'Cronograma Referencial'!E266+VLOOKUP(Simulador!$G$27,Simulador!$V$18:$W$29,2,FALSE),0)","v":"00:00:00"},0,null,264,"00:00:00",{"$f":"+IFERROR(IF(VLOOKUP(I267,'BD Dias No utiles'!$B$9:$H$4077,7,FALSE)=\"X\",IF(VLOOKUP(I267+1,'BD Dias No utiles'!$B$9:$H$4077,7,FALSE)=\"X\",IF(VLOOKUP(I267+2,'BD Dias No utiles'!$B$9:$H$4077,7,FALSE)=\"X\",I267+3,I267+2),I267+1),I267),0)","v":"00:00:00"},0]
[null,265,{"$f":"+IF(Simulador!$G$26>='Cronograma Referencial'!B268,EDATE(C267,(B268-B267)*VLOOKUP(Simulador!$G$27,Simulador!$V$18:$W$29,2,FALSE)/30),0)","v":"00:00:00"},0,{"$f":"+IF(Simulador!$G$26>='Cronograma Referencial'!B268,'Cronograma Referencial'!E267+VLOOKUP(Simulador!$G$27,Simulador!$V$18:$W$29,2,FALSE),0)","v":"00:00:00"},0,null,265,"00:00:00",{"$f":"+IFERROR(IF(VLOOKUP(I268,'BD Dias No utiles'!$B$9:$H$4077,7,FALSE)=\"X\",IF(VLOOKUP(I268+1,'BD Dias No utiles'!$B$9:$H$4077,7,FALSE)=\"X\",IF(VLOOKUP(I268+2,'BD Dias No utiles'!$B$9:$H$4077,7,FALSE)=\"X\",I268+3,I268+2),I268+1),I268),0)","v":"00:00:00"},0]
[null,266,{"$f":"+IF(Simulador!$G$26>='Cronograma Referencial'!B269,EDATE(C268,(B269-B268)*VLOOKUP(Simulador!$G$27,Simulador!$V$18:$W$29,2,FALSE)/30),0)","v":"00:00:00"},0,{"$f":"+IF(Simulador!$G$26>='Cronograma Referencial'!B269,'Cronograma Referencial'!E268+VLOOKUP(Simulador!$G$27,Simulador!$V$18:$W$29,2,FALSE),0)","v":"00:00:00"},0,null,266,"00:00:00",{"$f":"+IFERROR(IF(VLOOKUP(I269,'BD Dias No utiles'!$B$9:$H$4077,7,FALSE)=\"X\",IF(VLOOKUP(I269+1,'BD Dias No utiles'!$B$9:$H$4077,7,FALSE)=\"X\",IF(VLOOKUP(I269+2,'BD Dias No utiles'!$B$9:$H$4077,7,FALSE)=\"X\",I269+3,I269+2),I269+1),I269),0)","v":"00:00:00"},0]
[null,267,{"$f":"+IF(Simulador!$G$26>='Cronograma Referencial'!B270,EDATE(C269,(B270-B269)*VLOOKUP(Simulador!$G$27,Simulador!$V$18:$W$29,2,FALSE)/30),0)","v":"00:00:00"},0,{"$f":"+IF(Simulador!$G$26>='Cronograma Referencial'!B270,'Cronograma Referencial'!E269+VLOOKUP(Simulador!$G$27,Simulador!$V$18:$W$29,2,FALSE),0)","v":"00:00:00"},0,null,267,"00:00:00",{"$f":"+IFERROR(IF(VLOOKUP(I270,'BD Dias No utiles'!$B$9:$H$4077,7,FALSE)=\"X\",IF(VLOOKUP(I270+1,'BD Dias No utiles'!$B$9:$H$4077,7,FALSE)=\"X\",IF(VLOOKUP(I270+2,'BD Dias No utiles'!$B$9:$H$4077,7,FALSE)=\"X\",I270+3,I270+2),I270+1),I270),0)","v":"00:00:00"},0]
[null,268,{"$f":"+IF(Simulador!$G$26>='Cronograma Referencial'!B271,EDATE(C270,(B271-B270)*VLOOKUP(Simulador!$G$27,Simulador!$V$18:$W$29,2,FALSE)/30),0)","v":"00:00:00"},0,{"$f":"+IF(Simulador!$G$26>='Cronograma Referencial'!B271,'Cronograma Referencial'!E270+VLOOKUP(Simulador!$G$27,Simulador!$V$18:$W$29,2,FALSE),0)","v":"00:00:00"},0,null,268,"00:00:00",{"$f":"+IFERROR(IF(VLOOKUP(I271,'BD Dias No utiles'!$B$9:$H$4077,7,FALSE)=\"X\",IF(VLOOKUP(I271+1,'BD Dias No utiles'!$B$9:$H$4077,7,FALSE)=\"X\",IF(VLOOKUP(I271+2,'BD Dias No utiles'!$B$9:$H$4077,7,FALSE)=\"X\",I271+3,I271+2),I271+1),I271),0)","v":"00:00:00"},0]
[null,269,{"$f":"+IF(Simulador!$G$26>='Cronograma Referencial'!B272,EDATE(C271,(B272-B271)*VLOOKUP(Simulador!$G$27,Simulador!$V$18:$W$29,2,FALSE)/30),0)","v":"00:00:00"},0,{"$f":"+IF(Simulador!$G$26>='Cronograma Referencial'!B272,'Cronograma Referencial'!E271+VLOOKUP(Simulador!$G$27,Simulador!$V$18:$W$29,2,FALSE),0)","v":"00:00:00"},0,null,269,"00:00:00",{"$f":"+IFERROR(IF(VLOOKUP(I272,'BD Dias No utiles'!$B$9:$H$4077,7,FALSE)=\"X\",IF(VLOOKUP(I272+1,'BD Dias No utiles'!$B$9:$H$4077,7,FALSE)=\"X\",IF(VLOOKUP(I272+2,'BD Dias No utiles'!$B$9:$H$4077,7,FALSE)=\"X\",I272+3,I272+2),I272+1),I272),0)","v":"00:00:00"},0]
[null,270,{"$f":"+IF(Simulador!$G$26>='Cronograma Referencial'!B273,EDATE(C272,(B273-B272)*VLOOKUP(Simulador!$G$27,Simulador!$V$18:$W$29,2,FALSE)/30),0)","v":"00:00:00"},0,{"$f":"+IF(Simulador!$G$26>='Cronograma Referencial'!B273,'Cronograma Referencial'!E272+VLOOKUP(Simulador!$G$27,Simulador!$V$18:$W$29,2,FALSE),0)","v":"00:00:00"},0,null,270,"00:00:00",{"$f":"+IFERROR(IF(VLOOKUP(I273,'BD Dias No utiles'!$B$9:$H$4077,7,FALSE)=\"X\",IF(VLOOKUP(I273+1,'BD Dias No utiles'!$B$9:$H$4077,7,FALSE)=\"X\",IF(VLOOKUP(I273+2,'BD Dias No utiles'!$B$9:$H$4077,7,FALSE)=\"X\",I273+3,I273+2),I273+1),I273),0)","v":"00:00:00"},0]
[null,271,{"$f":"+IF(Simulador!$G$26>='Cronograma Referencial'!B274,EDATE(C273,(B274-B273)*VLOOKUP(Simulador!$G$27,Simulador!$V$18:$W$29,2,FALSE)/30),0)","v":"00:00:00"},0,{"$f":"+IF(Simulador!$G$26>='Cronograma Referencial'!B274,'Cronograma Referencial'!E273+VLOOKUP(Simulador!$G$27,Simulador!$V$18:$W$29,2,FALSE),0)","v":"00:00:00"},0,null,271,"00:00:00",{"$f":"+IFERROR(IF(VLOOKUP(I274,'BD Dias No utiles'!$B$9:$H$4077,7,FALSE)=\"X\",IF(VLOOKUP(I274+1,'BD Dias No utiles'!$B$9:$H$4077,7,FALSE)=\"X\",IF(VLOOKUP(I274+2,'BD Dias No utiles'!$B$9:$H$4077,7,FALSE)=\"X\",I274+3,I274+2),I274+1),I274),0)","v":"00:00:00"},0]
[null,272,{"$f":"+IF(Simulador!$G$26>='Cronograma Referencial'!B275,EDATE(C274,(B275-B274)*VLOOKUP(Simulador!$G$27,Simulador!$V$18:$W$29,2,FALSE)/30),0)","v":"00:00:00"},0,{"$f":"+IF(Simulador!$G$26>='Cronograma Referencial'!B275,'Cronograma Referencial'!E274+VLOOKUP(Simulador!$G$27,Simulador!$V$18:$W$29,2,FALSE),0)","v":"00:00:00"},0,null,272,"00:00:00",{"$f":"+IFERROR(IF(VLOOKUP(I275,'BD Dias No utiles'!$B$9:$H$4077,7,FALSE)=\"X\",IF(VLOOKUP(I275+1,'BD Dias No utiles'!$B$9:$H$4077,7,FALSE)=\"X\",IF(VLOOKUP(I275+2,'BD Dias No utiles'!$B$9:$H$4077,7,FALSE)=\"X\",I275+3,I275+2),I275+1),I275),0)","v":"00:00:00"},0]
[null,273,{"$f":"+IF(Simulador!$G$26>='Cronograma Referencial'!B276,EDATE(C275,(B276-B275)*VLOOKUP(Simulador!$G$27,Simulador!$V$18:$W$29,2,FALSE)/30),0)","v":"00:00:00"},0,{"$f":"+IF(Simulador!$G$26>='Cronograma Referencial'!B276,'Cronograma Referencial'!E275+VLOOKUP(Simulador!$G$27,Simulador!$V$18:$W$29,2,FALSE),0)","v":"00:00:00"},0,null,273,"00:00:00",{"$f":"+IFERROR(IF(VLOOKUP(I276,'BD Dias No utiles'!$B$9:$H$4077,7,FALSE)=\"X\",IF(VLOOKUP(I276+1,'BD Dias No utiles'!$B$9:$H$4077,7,FALSE)=\"X\",IF(VLOOKUP(I276+2,'BD Dias No utiles'!$B$9:$H$4077,7,FALSE)=\"X\",I276+3,I276+2),I276+1),I276),0)","v":"00:00:00"},0]
[null,274,{"$f":"+IF(Simulador!$G$26>='Cronograma Referencial'!B277,EDATE(C276,(B277-B276)*VLOOKUP(Simulador!$G$27,Simulador!$V$18:$W$29,2,FALSE)/30),0)","v":"00:00:00"},0,{"$f":"+IF(Simulador!$G$26>='Cronograma Referencial'!B277,'Cronograma Referencial'!E276+VLOOKUP(Simulador!$G$27,Simulador!$V$18:$W$29,2,FALSE),0)","v":"00:00:00"},0,null,274,"00:00:00",{"$f":"+IFERROR(IF(VLOOKUP(I277,'BD Dias No utiles'!$B$9:$H$4077,7,FALSE)=\"X\",IF(VLOOKUP(I277+1,'BD Dias No utiles'!$B$9:$H$4077,7,FALSE)=\"X\",IF(VLOOKUP(I277+2,'BD Dias No utiles'!$B$9:$H$4077,7,FALSE)=\"X\",I277+3,I277+2),I277+1),I277),0)","v":"00:00:00"},0]
[null,275,{"$f":"+IF(Simulador!$G$26>='Cronograma Referencial'!B278,EDATE(C277,(B278-B277)*VLOOKUP(Simulador!$G$27,Simulador!$V$18:$W$29,2,FALSE)/30),0)","v":"00:00:00"},0,{"$f":"+IF(Simulador!$G$26>='Cronograma Referencial'!B278,'Cronograma Referencial'!E277+VLOOKUP(Simulador!$G$27,Simulador!$V$18:$W$29,2,FALSE),0)","v":"00:00:00"},0,null,275,"00:00:00",{"$f":"+IFERROR(IF(VLOOKUP(I278,'BD Dias No utiles'!$B$9:$H$4077,7,FALSE)=\"X\",IF(VLOOKUP(I278+1,'BD Dias No utiles'!$B$9:$H$4077,7,FALSE)=\"X\",IF(VLOOKUP(I278+2,'BD Dias No utiles'!$B$9:$H$4077,7,FALSE)=\"X\",I278+3,I278+2),I278+1),I278),0)","v":"00:00:00"},0]
[null,276,{"$f":"+IF(Simulador!$G$26>='Cronograma Referencial'!B279,EDATE(C278,(B279-B278)*VLOOKUP(Simulador!$G$27,Simulador!$V$18:$W$29,2,FALSE)/30),0)","v":"00:00:00"},0,{"$f":"+IF(Simulador!$G$26>='Cronograma Referencial'!B279,'Cronograma Referencial'!E278+VLOOKUP(Simulador!$G$27,Simulador!$V$18:$W$29,2,FALSE),0)","v":"00:00:00"},0,null,276,"00:00:00",{"$f":"+IFERROR(IF(VLOOKUP(I279,'BD Dias No utiles'!$B$9:$H$4077,7,FALSE)=\"X\",IF(VLOOKUP(I279+1,'BD Dias No utiles'!$B$9:$H$4077,7,FALSE)=\"X\",IF(VLOOKUP(I279+2,'BD Dias No utiles'!$B$9:$H$4077,7,FALSE)=\"X\",I279+3,I279+2),I279+1),I279),0)","v":"00:00:00"},0]
[null,277,{"$f":"+IF(Simulador!$G$26>='Cronograma Referencial'!B280,EDATE(C279,(B280-B279)*VLOOKUP(Simulador!$G$27,Simulador!$V$18:$W$29,2,FALSE)/30),0)","v":"00:00:00"},0,{"$f":"+IF(Simulador!$G$26>='Cronograma Referencial'!B280,'Cronograma Referencial'!E279+VLOOKUP(Simulador!$G$27,Simulador!$V$18:$W$29,2,FALSE),0)","v":"00:00:00"},0,null,277,"00:00:00",{"$f":"+IFERROR(IF(VLOOKUP(I280,'BD Dias No utiles'!$B$9:$H$4077,7,FALSE)=\"X\",IF(VLOOKUP(I280+1,'BD Dias No utiles'!$B$9:$H$4077,7,FALSE)=\"X\",IF(VLOOKUP(I280+2,'BD Dias No utiles'!$B$9:$H$4077,7,FALSE)=\"X\",I280+3,I280+2),I280+1),I280),0)","v":"00:00:00"},0]
[null,278,{"$f":"+IF(Simulador!$G$26>='Cronograma Referencial'!B281,EDATE(C280,(B281-B280)*VLOOKUP(Simulador!$G$27,Simulador!$V$18:$W$29,2,FALSE)/30),0)","v":"00:00:00"},0,{"$f":"+IF(Simulador!$G$26>='Cronograma Referencial'!B281,'Cronograma Referencial'!E280+VLOOKUP(Simulador!$G$27,Simulador!$V$18:$W$29,2,FALSE),0)","v":"00:00:00"},0,null,278,"00:00:00",{"$f":"+IFERROR(IF(VLOOKUP(I281,'BD Dias No utiles'!$B$9:$H$4077,7,FALSE)=\"X\",IF(VLOOKUP(I281+1,'BD Dias No utiles'!$B$9:$H$4077,7,FALSE)=\"X\",IF(VLOOKUP(I281+2,'BD Dias No utiles'!$B$9:$H$4077,7,FALSE)=\"X\",I281+3,I281+2),I281+1),I281),0)","v":"00:00:00"},0]
[null,279,{"$f":"+IF(Simulador!$G$26>='Cronograma Referencial'!B282,EDATE(C281,(B282-B281)*VLOOKUP(Simulador!$G$27,Simulador!$V$18:$W$29,2,FALSE)/30),0)","v":"00:00:00"},0,{"$f":"+IF(Simulador!$G$26>='Cronograma Referencial'!B282,'Cronograma Referencial'!E281+VLOOKUP(Simulador!$G$27,Simulador!$V$18:$W$29,2,FALSE),0)","v":"00:00:00"},0,null,279,"00:00:00",{"$f":"+IFERROR(IF(VLOOKUP(I282,'BD Dias No utiles'!$B$9:$H$4077,7,FALSE)=\"X\",IF(VLOOKUP(I282+1,'BD Dias No utiles'!$B$9:$H$4077,7,FALSE)=\"X\",IF(VLOOKUP(I282+2,'BD Dias No utiles'!$B$9:$H$4077,7,FALSE)=\"X\",I282+3,I282+2),I282+1),I282),0)","v":"00:00:00"},0]
[null,280,{"$f":"+IF(Simulador!$G$26>='Cronograma Referencial'!B283,EDATE(C282,(B283-B282)*VLOOKUP(Simulador!$G$27,Simulador!$V$18:$W$29,2,FALSE)/30),0)","v":"00:00:00"},0,{"$f":"+IF(Simulador!$G$26>='Cronograma Referencial'!B283,'Cronograma Referencial'!E282+VLOOKUP(Simulador!$G$27,Simulador!$V$18:$W$29,2,FALSE),0)","v":"00:00:00"},0,null,280,"00:00:00",{"$f":"+IFERROR(IF(VLOOKUP(I283,'BD Dias No utiles'!$B$9:$H$4077,7,FALSE)=\"X\",IF(VLOOKUP(I283+1,'BD Dias No utiles'!$B$9:$H$4077,7,FALSE)=\"X\",IF(VLOOKUP(I283+2,'BD Dias No utiles'!$B$9:$H$4077,7,FALSE)=\"X\",I283+3,I283+2),I283+1),I283),0)","v":"00:00:00"},0]
[null,281,{"$f":"+IF(Simulador!$G$26>='Cronograma Referencial'!B284,EDATE(C283,(B284-B283)*VLOOKUP(Simulador!$G$27,Simulador!$V$18:$W$29,2,FALSE)/30),0)","v":"00:00:00"},0,{"$f":"+IF(Simulador!$G$26>='Cronograma Referencial'!B284,'Cronograma Referencial'!E283+VLOOKUP(Simulador!$G$27,Simulador!$V$18:$W$29,2,FALSE),0)","v":"00:00:00"},0,null,281,"00:00:00",{"$f":"+IFERROR(IF(VLOOKUP(I284,'BD Dias No utiles'!$B$9:$H$4077,7,FALSE)=\"X\",IF(VLOOKUP(I284+1,'BD Dias No utiles'!$B$9:$H$4077,7,FALSE)=\"X\",IF(VLOOKUP(I284+2,'BD Dias No utiles'!$B$9:$H$4077,7,FALSE)=\"X\",I284+3,I284+2),I284+1),I284),0)","v":"00:00:00"},0]
[null,282,{"$f":"+IF(Simulador!$G$26>='Cronograma Referencial'!B285,EDATE(C284,(B285-B284)*VLOOKUP(Simulador!$G$27,Simulador!$V$18:$W$29,2,FALSE)/30),0)","v":"00:00:00"},0,{"$f":"+IF(Simulador!$G$26>='Cronograma Referencial'!B285,'Cronograma Referencial'!E284+VLOOKUP(Simulador!$G$27,Simulador!$V$18:$W$29,2,FALSE),0)","v":"00:00:00"},0,null,282,"00:00:00",{"$f":"+IFERROR(IF(VLOOKUP(I285,'BD Dias No utiles'!$B$9:$H$4077,7,FALSE)=\"X\",IF(VLOOKUP(I285+1,'BD Dias No utiles'!$B$9:$H$4077,7,FALSE)=\"X\",IF(VLOOKUP(I285+2,'BD Dias No utiles'!$B$9:$H$4077,7,FALSE)=\"X\",I285+3,I285+2),I285+1),I285),0)","v":"00:00:00"},0]
[null,283,{"$f":"+IF(Simulador!$G$26>='Cronograma Referencial'!B286,EDATE(C285,(B286-B285)*VLOOKUP(Simulador!$G$27,Simulador!$V$18:$W$29,2,FALSE)/30),0)","v":"00:00:00"},0,{"$f":"+IF(Simulador!$G$26>='Cronograma Referencial'!B286,'Cronograma Referencial'!E285+VLOOKUP(Simulador!$G$27,Simulador!$V$18:$W$29,2,FALSE),0)","v":"00:00:00"},0,null,283,"00:00:00",{"$f":"+IFERROR(IF(VLOOKUP(I286,'BD Dias No utiles'!$B$9:$H$4077,7,FALSE)=\"X\",IF(VLOOKUP(I286+1,'BD Dias No utiles'!$B$9:$H$4077,7,FALSE)=\"X\",IF(VLOOKUP(I286+2,'BD Dias No utiles'!$B$9:$H$4077,7,FALSE)=\"X\",I286+3,I286+2),I286+1),I286),0)","v":"00:00:00"},0]
[null,284,{"$f":"+IF(Simulador!$G$26>='Cronograma Referencial'!B287,EDATE(C286,(B287-B286)*VLOOKUP(Simulador!$G$27,Simulador!$V$18:$W$29,2,FALSE)/30),0)","v":"00:00:00"},0,{"$f":"+IF(Simulador!$G$26>='Cronograma Referencial'!B287,'Cronograma Referencial'!E286+VLOOKUP(Simulador!$G$27,Simulador!$V$18:$W$29,2,FALSE),0)","v":"00:00:00"},0,null,284,"00:00:00",{"$f":"+IFERROR(IF(VLOOKUP(I287,'BD Dias No utiles'!$B$9:$H$4077,7,FALSE)=\"X\",IF(VLOOKUP(I287+1,'BD Dias No utiles'!$B$9:$H$4077,7,FALSE)=\"X\",IF(VLOOKUP(I287+2,'BD Dias No utiles'!$B$9:$H$4077,7,FALSE)=\"X\",I287+3,I287+2),I287+1),I287),0)","v":"00:00:00"},0]
[null,285,{"$f":"+IF(Simulador!$G$26>='Cronograma Referencial'!B288,EDATE(C287,(B288-B287)*VLOOKUP(Simulador!$G$27,Simulador!$V$18:$W$29,2,FALSE)/30),0)","v":"00:00:00"},0,{"$f":"+IF(Simulador!$G$26>='Cronograma Referencial'!B288,'Cronograma Referencial'!E287+VLOOKUP(Simulador!$G$27,Simulador!$V$18:$W$29,2,FALSE),0)","v":"00:00:00"},0,null,285,"00:00:00",{"$f":"+IFERROR(IF(VLOOKUP(I288,'BD Dias No utiles'!$B$9:$H$4077,7,FALSE)=\"X\",IF(VLOOKUP(I288+1,'BD Dias No utiles'!$B$9:$H$4077,7,FALSE)=\"X\",IF(VLOOKUP(I288+2,'BD Dias No utiles'!$B$9:$H$4077,7,FALSE)=\"X\",I288+3,I288+2),I288+1),I288),0)","v":"00:00:00"},0]
[null,286,{"$f":"+IF(Simulador!$G$26>='Cronograma Referencial'!B289,EDATE(C288,(B289-B288)*VLOOKUP(Simulador!$G$27,Simulador!$V$18:$W$29,2,FALSE)/30),0)","v":"00:00:00"},0,{"$f":"+IF(Simulador!$G$26>='Cronograma Referencial'!B289,'Cronograma Referencial'!E288+VLOOKUP(Simulador!$G$27,Simulador!$V$18:$W$29,2,FALSE),0)","v":"00:00:00"},0,null,286,"00:00:00",{"$f":"+IFERROR(IF(VLOOKUP(I289,'BD Dias No utiles'!$B$9:$H$4077,7,FALSE)=\"X\",IF(VLOOKUP(I289+1,'BD Dias No utiles'!$B$9:$H$4077,7,FALSE)=\"X\",IF(VLOOKUP(I289+2,'BD Dias No utiles'!$B$9:$H$4077,7,FALSE)=\"X\",I289+3,I289+2),I289+1),I289),0)","v":"00:00:00"},0]
[null,287,{"$f":"+IF(Simulador!$G$26>='Cronograma Referencial'!B290,EDATE(C289,(B290-B289)*VLOOKUP(Simulador!$G$27,Simulador!$V$18:$W$29,2,FALSE)/30),0)","v":"00:00:00"},0,{"$f":"+IF(Simulador!$G$26>='Cronograma Referencial'!B290,'Cronograma Referencial'!E289+VLOOKUP(Simulador!$G$27,Simulador!$V$18:$W$29,2,FALSE),0)","v":"00:00:00"},0,null,287,"00:00:00",{"$f":"+IFERROR(IF(VLOOKUP(I290,'BD Dias No utiles'!$B$9:$H$4077,7,FALSE)=\"X\",IF(VLOOKUP(I290+1,'BD Dias No utiles'!$B$9:$H$4077,7,FALSE)=\"X\",IF(VLOOKUP(I290+2,'BD Dias No utiles'!$B$9:$H$4077,7,FALSE)=\"X\",I290+3,I290+2),I290+1),I290),0)","v":"00:00:00"},0]
[null,288,{"$f":"+IF(Simulador!$G$26>='Cronograma Referencial'!B291,EDATE(C290,(B291-B290)*VLOOKUP(Simulador!$G$27,Simulador!$V$18:$W$29,2,FALSE)/30),0)","v":"00:00:00"},0,{"$f":"+IF(Simulador!$G$26>='Cronograma Referencial'!B291,'Cronograma Referencial'!E290+VLOOKUP(Simulador!$G$27,Simulador!$V$18:$W$29,2,FALSE),0)","v":"00:00:00"},0,null,288,"00:00:00",{"$f":"+IFERROR(IF(VLOOKUP(I291,'BD Dias No utiles'!$B$9:$H$4077,7,FALSE)=\"X\",IF(VLOOKUP(I291+1,'BD Dias No utiles'!$B$9:$H$4077,7,FALSE)=\"X\",IF(VLOOKUP(I291+2,'BD Dias No utiles'!$B$9:$H$4077,7,FALSE)=\"X\",I291+3,I291+2),I291+1),I291),0)","v":"00:00:00"},0]
[null,289,{"$f":"+IF(Simulador!$G$26>='Cronograma Referencial'!B292,EDATE(C291,(B292-B291)*VLOOKUP(Simulador!$G$27,Simulador!$V$18:$W$29,2,FALSE)/30),0)","v":"00:00:00"},0,{"$f":"+IF(Simulador!$G$26>='Cronograma Referencial'!B292,'Cronograma Referencial'!E291+VLOOKUP(Simulador!$G$27,Simulador!$V$18:$W$29,2,FALSE),0)","v":"00:00:00"},0,null,289,"00:00:00",{"$f":"+IFERROR(IF(VLOOKUP(I292,'BD Dias No utiles'!$B$9:$H$4077,7,FALSE)=\"X\",IF(VLOOKUP(I292+1,'BD Dias No utiles'!$B$9:$H$4077,7,FALSE)=\"X\",IF(VLOOKUP(I292+2,'BD Dias No utiles'!$B$9:$H$4077,7,FALSE)=\"X\",I292+3,I292+2),I292+1),I292),0)","v":"00:00:00"},0]
[null,290,{"$f":"+IF(Simulador!$G$26>='Cronograma Referencial'!B293,EDATE(C292,(B293-B292)*VLOOKUP(Simulador!$G$27,Simulador!$V$18:$W$29,2,FALSE)/30),0)","v":"00:00:00"},0,{"$f":"+IF(Simulador!$G$26>='Cronograma Referencial'!B293,'Cronograma Referencial'!E292+VLOOKUP(Simulador!$G$27,Simulador!$V$18:$W$29,2,FALSE),0)","v":"00:00:00"},0,null,290,"00:00:00",{"$f":"+IFERROR(IF(VLOOKUP(I293,'BD Dias No utiles'!$B$9:$H$4077,7,FALSE)=\"X\",IF(VLOOKUP(I293+1,'BD Dias No utiles'!$B$9:$H$4077,7,FALSE)=\"X\",IF(VLOOKUP(I293+2,'BD Dias No utiles'!$B$9:$H$4077,7,FALSE)=\"X\",I293+3,I293+2),I293+1),I293),0)","v":"00:00:00"},0]
[null,291,{"$f":"+IF(Simulador!$G$26>='Cronograma Referencial'!B294,EDATE(C293,(B294-B293)*VLOOKUP(Simulador!$G$27,Simulador!$V$18:$W$29,2,FALSE)/30),0)","v":"00:00:00"},0,{"$f":"+IF(Simulador!$G$26>='Cronograma Referencial'!B294,'Cronograma Referencial'!E293+VLOOKUP(Simulador!$G$27,Simulador!$V$18:$W$29,2,FALSE),0)","v":"00:00:00"},0,null,291,"00:00:00",{"$f":"+IFERROR(IF(VLOOKUP(I294,'BD Dias No utiles'!$B$9:$H$4077,7,FALSE)=\"X\",IF(VLOOKUP(I294+1,'BD Dias No utiles'!$B$9:$H$4077,7,FALSE)=\"X\",IF(VLOOKUP(I294+2,'BD Dias No utiles'!$B$9:$H$4077,7,FALSE)=\"X\",I294+3,I294+2),I294+1),I294),0)","v":"00:00:00"},0]
[null,292,{"$f":"+IF(Simulador!$G$26>='Cronograma Referencial'!B295,EDATE(C294,(B295-B294)*VLOOKUP(Simulador!$G$27,Simulador!$V$18:$W$29,2,FALSE)/30),0)","v":"00:00:00"},0,{"$f":"+IF(Simulador!$G$26>='Cronograma Referencial'!B295,'Cronograma Referencial'!E294+VLOOKUP(Simulador!$G$27,Simulador!$V$18:$W$29,2,FALSE),0)","v":"00:00:00"},0,null,292,"00:00:00",{"$f":"+IFERROR(IF(VLOOKUP(I295,'BD Dias No utiles'!$B$9:$H$4077,7,FALSE)=\"X\",IF(VLOOKUP(I295+1,'BD Dias No utiles'!$B$9:$H$4077,7,FALSE)=\"X\",IF(VLOOKUP(I295+2,'BD Dias No utiles'!$B$9:$H$4077,7,FALSE)=\"X\",I295+3,I295+2),I295+1),I295),0)","v":"00:00:00"},0]
[null,293,{"$f":"+IF(Simulador!$G$26>='Cronograma Referencial'!B296,EDATE(C295,(B296-B295)*VLOOKUP(Simulador!$G$27,Simulador!$V$18:$W$29,2,FALSE)/30),0)","v":"00:00:00"},0,{"$f":"+IF(Simulador!$G$26>='Cronograma Referencial'!B296,'Cronograma Referencial'!E295+VLOOKUP(Simulador!$G$27,Simulador!$V$18:$W$29,2,FALSE),0)","v":"00:00:00"},0,null,293,"00:00:00",{"$f":"+IFERROR(IF(VLOOKUP(I296,'BD Dias No utiles'!$B$9:$H$4077,7,FALSE)=\"X\",IF(VLOOKUP(I296+1,'BD Dias No utiles'!$B$9:$H$4077,7,FALSE)=\"X\",IF(VLOOKUP(I296+2,'BD Dias No utiles'!$B$9:$H$4077,7,FALSE)=\"X\",I296+3,I296+2),I296+1),I296),0)","v":"00:00:00"},0]
[null,294,{"$f":"+IF(Simulador!$G$26>='Cronograma Referencial'!B297,EDATE(C296,(B297-B296)*VLOOKUP(Simulador!$G$27,Simulador!$V$18:$W$29,2,FALSE)/30),0)","v":"00:00:00"},0,{"$f":"+IF(Simulador!$G$26>='Cronograma Referencial'!B297,'Cronograma Referencial'!E296+VLOOKUP(Simulador!$G$27,Simulador!$V$18:$W$29,2,FALSE),0)","v":"00:00:00"},0,null,294,"00:00:00",{"$f":"+IFERROR(IF(VLOOKUP(I297,'BD Dias No utiles'!$B$9:$H$4077,7,FALSE)=\"X\",IF(VLOOKUP(I297+1,'BD Dias No utiles'!$B$9:$H$4077,7,FALSE)=\"X\",IF(VLOOKUP(I297+2,'BD Dias No utiles'!$B$9:$H$4077,7,FALSE)=\"X\",I297+3,I297+2),I297+1),I297),0)","v":"00:00:00"},0]
[null,295,{"$f":"+IF(Simulador!$G$26>='Cronograma Referencial'!B298,EDATE(C297,(B298-B297)*VLOOKUP(Simulador!$G$27,Simulador!$V$18:$W$29,2,FALSE)/30),0)","v":"00:00:00"},0,{"$f":"+IF(Simulador!$G$26>='Cronograma Referencial'!B298,'Cronograma Referencial'!E297+VLOOKUP(Simulador!$G$27,Simulador!$V$18:$W$29,2,FALSE),0)","v":"00:00:00"},0,null,295,"00:00:00",{"$f":"+IFERROR(IF(VLOOKUP(I298,'BD Dias No utiles'!$B$9:$H$4077,7,FALSE)=\"X\",IF(VLOOKUP(I298+1,'BD Dias No utiles'!$B$9:$H$4077,7,FALSE)=\"X\",IF(VLOOKUP(I298+2,'BD Dias No utiles'!$B$9:$H$4077,7,FALSE)=\"X\",I298+3,I298+2),I298+1),I298),0)","v":"00:00:00"},0]
[null,296,{"$f":"+IF(Simulador!$G$26>='Cronograma Referencial'!B299,EDATE(C298,(B299-B298)*VLOOKUP(Simulador!$G$27,Simulador!$V$18:$W$29,2,FALSE)/30),0)","v":"00:00:00"},0,{"$f":"+IF(Simulador!$G$26>='Cronograma Referencial'!B299,'Cronograma Referencial'!E298+VLOOKUP(Simulador!$G$27,Simulador!$V$18:$W$29,2,FALSE),0)","v":"00:00:00"},0,null,296,"00:00:00",{"$f":"+IFERROR(IF(VLOOKUP(I299,'BD Dias No utiles'!$B$9:$H$4077,7,FALSE)=\"X\",IF(VLOOKUP(I299+1,'BD Dias No utiles'!$B$9:$H$4077,7,FALSE)=\"X\",IF(VLOOKUP(I299+2,'BD Dias No utiles'!$B$9:$H$4077,7,FALSE)=\"X\",I299+3,I299+2),I299+1),I299),0)","v":"00:00:00"},0]
[null,297,{"$f":"+IF(Simulador!$G$26>='Cronograma Referencial'!B300,EDATE(C299,(B300-B299)*VLOOKUP(Simulador!$G$27,Simulador!$V$18:$W$29,2,FALSE)/30),0)","v":"00:00:00"},0,{"$f":"+IF(Simulador!$G$26>='Cronograma Referencial'!B300,'Cronograma Referencial'!E299+VLOOKUP(Simulador!$G$27,Simulador!$V$18:$W$29,2,FALSE),0)","v":"00:00:00"},0,null,297,"00:00:00",{"$f":"+IFERROR(IF(VLOOKUP(I300,'BD Dias No utiles'!$B$9:$H$4077,7,FALSE)=\"X\",IF(VLOOKUP(I300+1,'BD Dias No utiles'!$B$9:$H$4077,7,FALSE)=\"X\",IF(VLOOKUP(I300+2,'BD Dias No utiles'!$B$9:$H$4077,7,FALSE)=\"X\",I300+3,I300+2),I300+1),I300),0)","v":"00:00:00"},0]
[null,298,{"$f":"+IF(Simulador!$G$26>='Cronograma Referencial'!B301,EDATE(C300,(B301-B300)*VLOOKUP(Simulador!$G$27,Simulador!$V$18:$W$29,2,FALSE)/30),0)","v":"00:00:00"},0,{"$f":"+IF(Simulador!$G$26>='Cronograma Referencial'!B301,'Cronograma Referencial'!E300+VLOOKUP(Simulador!$G$27,Simulador!$V$18:$W$29,2,FALSE),0)","v":"00:00:00"},0,null,298,"00:00:00",{"$f":"+IFERROR(IF(VLOOKUP(I301,'BD Dias No utiles'!$B$9:$H$4077,7,FALSE)=\"X\",IF(VLOOKUP(I301+1,'BD Dias No utiles'!$B$9:$H$4077,7,FALSE)=\"X\",IF(VLOOKUP(I301+2,'BD Dias No utiles'!$B$9:$H$4077,7,FALSE)=\"X\",I301+3,I301+2),I301+1),I301),0)","v":"00:00:00"},0]
[null,299,{"$f":"+IF(Simulador!$G$26>='Cronograma Referencial'!B302,EDATE(C301,(B302-B301)*VLOOKUP(Simulador!$G$27,Simulador!$V$18:$W$29,2,FALSE)/30),0)","v":"00:00:00"},0,{"$f":"+IF(Simulador!$G$26>='Cronograma Referencial'!B302,'Cronograma Referencial'!E301+VLOOKUP(Simulador!$G$27,Simulador!$V$18:$W$29,2,FALSE),0)","v":"00:00:00"},0,null,299,"00:00:00",{"$f":"+IFERROR(IF(VLOOKUP(I302,'BD Dias No utiles'!$B$9:$H$4077,7,FALSE)=\"X\",IF(VLOOKUP(I302+1,'BD Dias No utiles'!$B$9:$H$4077,7,FALSE)=\"X\",IF(VLOOKUP(I302+2,'BD Dias No utiles'!$B$9:$H$4077,7,FALSE)=\"X\",I302+3,I302+2),I302+1),I302),0)","v":"00:00:00"},0]
[null,300,{"$f":"+IF(Simulador!$G$26>='Cronograma Referencial'!B303,EDATE(C302,(B303-B302)*VLOOKUP(Simulador!$G$27,Simulador!$V$18:$W$29,2,FALSE)/30),0)","v":"00:00:00"},0,{"$f":"+IF(Simulador!$G$26>='Cronograma Referencial'!B303,'Cronograma Referencial'!E302+VLOOKUP(Simulador!$G$27,Simulador!$V$18:$W$29,2,FALSE),0)","v":"00:00:00"},0,null,300,"00:00:00",{"$f":"+IFERROR(IF(VLOOKUP(I303,'BD Dias No utiles'!$B$9:$H$4077,7,FALSE)=\"X\",IF(VLOOKUP(I303+1,'BD Dias No utiles'!$B$9:$H$4077,7,FALSE)=\"X\",IF(VLOOKUP(I303+2,'BD Dias No utiles'!$B$9:$H$4077,7,FALSE)=\"X\",I303+3,I303+2),I303+1),I303),0)","v":"00:00:00"},0]
[null,301,{"$f":"+IF(Simulador!$G$26>='Cronograma Referencial'!B304,EDATE(C303,(B304-B303)*VLOOKUP(Simulador!$G$27,Simulador!$V$18:$W$29,2,FALSE)/30),0)","v":"00:00:00"},0,{"$f":"+IF(Simulador!$G$26>='Cronograma Referencial'!B304,'Cronograma Referencial'!E303+VLOOKUP(Simulador!$G$27,Simulador!$V$18:$W$29,2,FALSE),0)","v":"00:00:00"},0,null,301,"00:00:00",{"$f":"+IFERROR(IF(VLOOKUP(I304,'BD Dias No utiles'!$B$9:$H$4077,7,FALSE)=\"X\",IF(VLOOKUP(I304+1,'BD Dias No utiles'!$B$9:$H$4077,7,FALSE)=\"X\",IF(VLOOKUP(I304+2,'BD Dias No utiles'!$B$9:$H$4077,7,FALSE)=\"X\",I304+3,I304+2),I304+1),I304),0)","v":"00:00:00"},0]
[null,302,{"$f":"+IF(Simulador!$G$26>='Cronograma Referencial'!B305,EDATE(C304,(B305-B304)*VLOOKUP(Simulador!$G$27,Simulador!$V$18:$W$29,2,FALSE)/30),0)","v":"00:00:00"},0,{"$f":"+IF(Simulador!$G$26>='Cronograma Referencial'!B305,'Cronograma Referencial'!E304+VLOOKUP(Simulador!$G$27,Simulador!$V$18:$W$29,2,FALSE),0)","v":"00:00:00"},0,null,302,"00:00:00",{"$f":"+IFERROR(IF(VLOOKUP(I305,'BD Dias No utiles'!$B$9:$H$4077,7,FALSE)=\"X\",IF(VLOOKUP(I305+1,'BD Dias No utiles'!$B$9:$H$4077,7,FALSE)=\"X\",IF(VLOOKUP(I305+2,'BD Dias No utiles'!$B$9:$H$4077,7,FALSE)=\"X\",I305+3,I305+2),I305+1),I305),0)","v":"00:00:00"},0]
[null,303,{"$f":"+IF(Simulador!$G$26>='Cronograma Referencial'!B306,EDATE(C305,(B306-B305)*VLOOKUP(Simulador!$G$27,Simulador!$V$18:$W$29,2,FALSE)/30),0)","v":"00:00:00"},0,{"$f":"+IF(Simulador!$G$26>='Cronograma Referencial'!B306,'Cronograma Referencial'!E305+VLOOKUP(Simulador!$G$27,Simulador!$V$18:$W$29,2,FALSE),0)","v":"00:00:00"},0,null,303,"00:00:00",{"$f":"+IFERROR(IF(VLOOKUP(I306,'BD Dias No utiles'!$B$9:$H$4077,7,FALSE)=\"X\",IF(VLOOKUP(I306+1,'BD Dias No utiles'!$B$9:$H$4077,7,FALSE)=\"X\",IF(VLOOKUP(I306+2,'BD Dias No utiles'!$B$9:$H$4077,7,FALSE)=\"X\",I306+3,I306+2),I306+1),I306),0)","v":"00:00:00"},0]
[null,304,{"$f":"+IF(Simulador!$G$26>='Cronograma Referencial'!B307,EDATE(C306,(B307-B306)*VLOOKUP(Simulador!$G$27,Simulador!$V$18:$W$29,2,FALSE)/30),0)","v":"00:00:00"},0,{"$f":"+IF(Simulador!$G$26>='Cronograma Referencial'!B307,'Cronograma Referencial'!E306+VLOOKUP(Simulador!$G$27,Simulador!$V$18:$W$29,2,FALSE),0)","v":"00:00:00"},0,null,304,"00:00:00",{"$f":"+IFERROR(IF(VLOOKUP(I307,'BD Dias No utiles'!$B$9:$H$4077,7,FALSE)=\"X\",IF(VLOOKUP(I307+1,'BD Dias No utiles'!$B$9:$H$4077,7,FALSE)=\"X\",IF(VLOOKUP(I307+2,'BD Dias No utiles'!$B$9:$H$4077,7,FALSE)=\"X\",I307+3,I307+2),I307+1),I307),0)","v":"00:00:00"},0]
[null,305,{"$f":"+IF(Simulador!$G$26>='Cronograma Referencial'!B308,EDATE(C307,(B308-B307)*VLOOKUP(Simulador!$G$27,Simulador!$V$18:$W$29,2,FALSE)/30),0)","v":"00:00:00"},0,{"$f":"+IF(Simulador!$G$26>='Cronograma Referencial'!B308,'Cronograma Referencial'!E307+VLOOKUP(Simulador!$G$27,Simulador!$V$18:$W$29,2,FALSE),0)","v":"00:00:00"},0,null,305,"00:00:00",{"$f":"+IFERROR(IF(VLOOKUP(I308,'BD Dias No utiles'!$B$9:$H$4077,7,FALSE)=\"X\",IF(VLOOKUP(I308+1,'BD Dias No utiles'!$B$9:$H$4077,7,FALSE)=\"X\",IF(VLOOKUP(I308+2,'BD Dias No utiles'!$B$9:$H$4077,7,FALSE)=\"X\",I308+3,I308+2),I308+1),I308),0)","v":"00:00:00"},0]
[null,306,{"$f":"+IF(Simulador!$G$26>='Cronograma Referencial'!B309,EDATE(C308,(B309-B308)*VLOOKUP(Simulador!$G$27,Simulador!$V$18:$W$29,2,FALSE)/30),0)","v":"00:00:00"},0,{"$f":"+IF(Simulador!$G$26>='Cronograma Referencial'!B309,'Cronograma Referencial'!E308+VLOOKUP(Simulador!$G$27,Simulador!$V$18:$W$29,2,FALSE),0)","v":"00:00:00"},0,null,306,"00:00:00",{"$f":"+IFERROR(IF(VLOOKUP(I309,'BD Dias No utiles'!$B$9:$H$4077,7,FALSE)=\"X\",IF(VLOOKUP(I309+1,'BD Dias No utiles'!$B$9:$H$4077,7,FALSE)=\"X\",IF(VLOOKUP(I309+2,'BD Dias No utiles'!$B$9:$H$4077,7,FALSE)=\"X\",I309+3,I309+2),I309+1),I309),0)","v":"00:00:00"},0]
[null,307,{"$f":"+IF(Simulador!$G$26>='Cronograma Referencial'!B310,EDATE(C309,(B310-B309)*VLOOKUP(Simulador!$G$27,Simulador!$V$18:$W$29,2,FALSE)/30),0)","v":"00:00:00"},0,{"$f":"+IF(Simulador!$G$26>='Cronograma Referencial'!B310,'Cronograma Referencial'!E309+VLOOKUP(Simulador!$G$27,Simulador!$V$18:$W$29,2,FALSE),0)","v":"00:00:00"},0,null,307,"00:00:00",{"$f":"+IFERROR(IF(VLOOKUP(I310,'BD Dias No utiles'!$B$9:$H$4077,7,FALSE)=\"X\",IF(VLOOKUP(I310+1,'BD Dias No utiles'!$B$9:$H$4077,7,FALSE)=\"X\",IF(VLOOKUP(I310+2,'BD Dias No utiles'!$B$9:$H$4077,7,FALSE)=\"X\",I310+3,I310+2),I310+1),I310),0)","v":"00:00:00"},0]
[null,308,{"$f":"+IF(Simulador!$G$26>='Cronograma Referencial'!B311,EDATE(C310,(B311-B310)*VLOOKUP(Simulador!$G$27,Simulador!$V$18:$W$29,2,FALSE)/30),0)","v":"00:00:00"},0,{"$f":"+IF(Simulador!$G$26>='Cronograma Referencial'!B311,'Cronograma Referencial'!E310+VLOOKUP(Simulador!$G$27,Simulador!$V$18:$W$29,2,FALSE),0)","v":"00:00:00"},0,null,308,"00:00:00",{"$f":"+IFERROR(IF(VLOOKUP(I311,'BD Dias No utiles'!$B$9:$H$4077,7,FALSE)=\"X\",IF(VLOOKUP(I311+1,'BD Dias No utiles'!$B$9:$H$4077,7,FALSE)=\"X\",IF(VLOOKUP(I311+2,'BD Dias No utiles'!$B$9:$H$4077,7,FALSE)=\"X\",I311+3,I311+2),I311+1),I311),0)","v":"00:00:00"},0]
[null,309,{"$f":"+IF(Simulador!$G$26>='Cronograma Referencial'!B312,EDATE(C311,(B312-B311)*VLOOKUP(Simulador!$G$27,Simulador!$V$18:$W$29,2,FALSE)/30),0)","v":"00:00:00"},0,{"$f":"+IF(Simulador!$G$26>='Cronograma Referencial'!B312,'Cronograma Referencial'!E311+VLOOKUP(Simulador!$G$27,Simulador!$V$18:$W$29,2,FALSE),0)","v":"00:00:00"},0,null,309,"00:00:00",{"$f":"+IFERROR(IF(VLOOKUP(I312,'BD Dias No utiles'!$B$9:$H$4077,7,FALSE)=\"X\",IF(VLOOKUP(I312+1,'BD Dias No utiles'!$B$9:$H$4077,7,FALSE)=\"X\",IF(VLOOKUP(I312+2,'BD Dias No utiles'!$B$9:$H$4077,7,FALSE)=\"X\",I312+3,I312+2),I312+1),I312),0)","v":"00:00:00"},0]
[null,310,{"$f":"+IF(Simulador!$G$26>='Cronograma Referencial'!B313,EDATE(C312,(B313-B312)*VLOOKUP(Simulador!$G$27,Simulador!$V$18:$W$29,2,FALSE)/30),0)","v":"00:00:00"},0,{"$f":"+IF(Simulador!$G$26>='Cronograma Referencial'!B313,'Cronograma Referencial'!E312+VLOOKUP(Simulador!$G$27,Simulador!$V$18:$W$29,2,FALSE),0)","v":"00:00:00"},0,null,310,"00:00:00",{"$f":"+IFERROR(IF(VLOOKUP(I313,'BD Dias No utiles'!$B$9:$H$4077,7,FALSE)=\"X\",IF(VLOOKUP(I313+1,'BD Dias No utiles'!$B$9:$H$4077,7,FALSE)=\"X\",IF(VLOOKUP(I313+2,'BD Dias No utiles'!$B$9:$H$4077,7,FALSE)=\"X\",I313+3,I313+2),I313+1),I313),0)","v":"00:00:00"},0]
[null,311,{"$f":"+IF(Simulador!$G$26>='Cronograma Referencial'!B314,EDATE(C313,(B314-B313)*VLOOKUP(Simulador!$G$27,Simulador!$V$18:$W$29,2,FALSE)/30),0)","v":"00:00:00"},0,{"$f":"+IF(Simulador!$G$26>='Cronograma Referencial'!B314,'Cronograma Referencial'!E313+VLOOKUP(Simulador!$G$27,Simulador!$V$18:$W$29,2,FALSE),0)","v":"00:00:00"},0,null,311,"00:00:00",{"$f":"+IFERROR(IF(VLOOKUP(I314,'BD Dias No utiles'!$B$9:$H$4077,7,FALSE)=\"X\",IF(VLOOKUP(I314+1,'BD Dias No utiles'!$B$9:$H$4077,7,FALSE)=\"X\",IF(VLOOKUP(I314+2,'BD Dias No utiles'!$B$9:$H$4077,7,FALSE)=\"X\",I314+3,I314+2),I314+1),I314),0)","v":"00:00:00"},0]
[null,312,{"$f":"+IF(Simulador!$G$26>='Cronograma Referencial'!B315,EDATE(C314,(B315-B314)*VLOOKUP(Simulador!$G$27,Simulador!$V$18:$W$29,2,FALSE)/30),0)","v":"00:00:00"},0,{"$f":"+IF(Simulador!$G$26>='Cronograma Referencial'!B315,'Cronograma Referencial'!E314+VLOOKUP(Simulador!$G$27,Simulador!$V$18:$W$29,2,FALSE),0)","v":"00:00:00"},0,null,312,"00:00:00",{"$f":"+IFERROR(IF(VLOOKUP(I315,'BD Dias No utiles'!$B$9:$H$4077,7,FALSE)=\"X\",IF(VLOOKUP(I315+1,'BD Dias No utiles'!$B$9:$H$4077,7,FALSE)=\"X\",IF(VLOOKUP(I315+2,'BD Dias No utiles'!$B$9:$H$4077,7,FALSE)=\"X\",I315+3,I315+2),I315+1),I315),0)","v":"00:00:00"},0]
[null,313,{"$f":"+IF(Simulador!$G$26>='Cronograma Referencial'!B316,EDATE(C315,(B316-B315)*VLOOKUP(Simulador!$G$27,Simulador!$V$18:$W$29,2,FALSE)/30),0)","v":"00:00:00"},0,{"$f":"+IF(Simulador!$G$26>='Cronograma Referencial'!B316,'Cronograma Referencial'!E315+VLOOKUP(Simulador!$G$27,Simulador!$V$18:$W$29,2,FALSE),0)","v":"00:00:00"},0,null,313,"00:00:00",{"$f":"+IFERROR(IF(VLOOKUP(I316,'BD Dias No utiles'!$B$9:$H$4077,7,FALSE)=\"X\",IF(VLOOKUP(I316+1,'BD Dias No utiles'!$B$9:$H$4077,7,FALSE)=\"X\",IF(VLOOKUP(I316+2,'BD Dias No utiles'!$B$9:$H$4077,7,FALSE)=\"X\",I316+3,I316+2),I316+1),I316),0)","v":"00:00:00"},0]
[null,314,{"$f":"+IF(Simulador!$G$26>='Cronograma Referencial'!B317,EDATE(C316,(B317-B316)*VLOOKUP(Simulador!$G$27,Simulador!$V$18:$W$29,2,FALSE)/30),0)","v":"00:00:00"},0,{"$f":"+IF(Simulador!$G$26>='Cronograma Referencial'!B317,'Cronograma Referencial'!E316+VLOOKUP(Simulador!$G$27,Simulador!$V$18:$W$29,2,FALSE),0)","v":"00:00:00"},0,null,314,"00:00:00",{"$f":"+IFERROR(IF(VLOOKUP(I317,'BD Dias No utiles'!$B$9:$H$4077,7,FALSE)=\"X\",IF(VLOOKUP(I317+1,'BD Dias No utiles'!$B$9:$H$4077,7,FALSE)=\"X\",IF(VLOOKUP(I317+2,'BD Dias No utiles'!$B$9:$H$4077,7,FALSE)=\"X\",I317+3,I317+2),I317+1),I317),0)","v":"00:00:00"},0]
[null,315,{"$f":"+IF(Simulador!$G$26>='Cronograma Referencial'!B318,EDATE(C317,(B318-B317)*VLOOKUP(Simulador!$G$27,Simulador!$V$18:$W$29,2,FALSE)/30),0)","v":"00:00:00"},0,{"$f":"+IF(Simulador!$G$26>='Cronograma Referencial'!B318,'Cronograma Referencial'!E317+VLOOKUP(Simulador!$G$27,Simulador!$V$18:$W$29,2,FALSE),0)","v":"00:00:00"},0,null,315,"00:00:00",{"$f":"+IFERROR(IF(VLOOKUP(I318,'BD Dias No utiles'!$B$9:$H$4077,7,FALSE)=\"X\",IF(VLOOKUP(I318+1,'BD Dias No utiles'!$B$9:$H$4077,7,FALSE)=\"X\",IF(VLOOKUP(I318+2,'BD Dias No utiles'!$B$9:$H$4077,7,FALSE)=\"X\",I318+3,I318+2),I318+1),I318),0)","v":"00:00:00"},0]
[null,316,{"$f":"+IF(Simulador!$G$26>='Cronograma Referencial'!B319,EDATE(C318,(B319-B318)*VLOOKUP(Simulador!$G$27,Simulador!$V$18:$W$29,2,FALSE)/30),0)","v":"00:00:00"},0,{"$f":"+IF(Simulador!$G$26>='Cronograma Referencial'!B319,'Cronograma Referencial'!E318+VLOOKUP(Simulador!$G$27,Simulador!$V$18:$W$29,2,FALSE),0)","v":"00:00:00"},0,null,316,"00:00:00",{"$f":"+IFERROR(IF(VLOOKUP(I319,'BD Dias No utiles'!$B$9:$H$4077,7,FALSE)=\"X\",IF(VLOOKUP(I319+1,'BD Dias No utiles'!$B$9:$H$4077,7,FALSE)=\"X\",IF(VLOOKUP(I319+2,'BD Dias No utiles'!$B$9:$H$4077,7,FALSE)=\"X\",I319+3,I319+2),I319+1),I319),0)","v":"00:00:00"},0]
[null,317,{"$f":"+IF(Simulador!$G$26>='Cronograma Referencial'!B320,EDATE(C319,(B320-B319)*VLOOKUP(Simulador!$G$27,Simulador!$V$18:$W$29,2,FALSE)/30),0)","v":"00:00:00"},0,{"$f":"+IF(Simulador!$G$26>='Cronograma Referencial'!B320,'Cronograma Referencial'!E319+VLOOKUP(Simulador!$G$27,Simulador!$V$18:$W$29,2,FALSE),0)","v":"00:00:00"},0,null,317,"00:00:00",{"$f":"+IFERROR(IF(VLOOKUP(I320,'BD Dias No utiles'!$B$9:$H$4077,7,FALSE)=\"X\",IF(VLOOKUP(I320+1,'BD Dias No utiles'!$B$9:$H$4077,7,FALSE)=\"X\",IF(VLOOKUP(I320+2,'BD Dias No utiles'!$B$9:$H$4077,7,FALSE)=\"X\",I320+3,I320+2),I320+1),I320),0)","v":"00:00:00"},0]
[null,318,{"$f":"+IF(Simulador!$G$26>='Cronograma Referencial'!B321,EDATE(C320,(B321-B320)*VLOOKUP(Simulador!$G$27,Simulador!$V$18:$W$29,2,FALSE)/30),0)","v":"00:00:00"},0,{"$f":"+IF(Simulador!$G$26>='Cronograma Referencial'!B321,'Cronograma Referencial'!E320+VLOOKUP(Simulador!$G$27,Simulador!$V$18:$W$29,2,FALSE),0)","v":"00:00:00"},0,null,318,"00:00:00",{"$f":"+IFERROR(IF(VLOOKUP(I321,'BD Dias No utiles'!$B$9:$H$4077,7,FALSE)=\"X\",IF(VLOOKUP(I321+1,'BD Dias No utiles'!$B$9:$H$4077,7,FALSE)=\"X\",IF(VLOOKUP(I321+2,'BD Dias No utiles'!$B$9:$H$4077,7,FALSE)=\"X\",I321+3,I321+2),I321+1),I321),0)","v":"00:00:00"},0]
[null,319,{"$f":"+IF(Simulador!$G$26>='Cronograma Referencial'!B322,EDATE(C321,(B322-B321)*VLOOKUP(Simulador!$G$27,Simulador!$V$18:$W$29,2,FALSE)/30),0)","v":"00:00:00"},0,{"$f":"+IF(Simulador!$G$26>='Cronograma Referencial'!B322,'Cronograma Referencial'!E321+VLOOKUP(Simulador!$G$27,Simulador!$V$18:$W$29,2,FALSE),0)","v":"00:00:00"},0,null,319,"00:00:00",{"$f":"+IFERROR(IF(VLOOKUP(I322,'BD Dias No utiles'!$B$9:$H$4077,7,FALSE)=\"X\",IF(VLOOKUP(I322+1,'BD Dias No utiles'!$B$9:$H$4077,7,FALSE)=\"X\",IF(VLOOKUP(I322+2,'BD Dias No utiles'!$B$9:$H$4077,7,FALSE)=\"X\",I322+3,I322+2),I322+1),I322),0)","v":"00:00:00"},0]
[null,320,{"$f":"+IF(Simulador!$G$26>='Cronograma Referencial'!B323,EDATE(C322,(B323-B322)*VLOOKUP(Simulador!$G$27,Simulador!$V$18:$W$29,2,FALSE)/30),0)","v":"00:00:00"},0,{"$f":"+IF(Simulador!$G$26>='Cronograma Referencial'!B323,'Cronograma Referencial'!E322+VLOOKUP(Simulador!$G$27,Simulador!$V$18:$W$29,2,FALSE),0)","v":"00:00:00"},0,null,320,"00:00:00",{"$f":"+IFERROR(IF(VLOOKUP(I323,'BD Dias No utiles'!$B$9:$H$4077,7,FALSE)=\"X\",IF(VLOOKUP(I323+1,'BD Dias No utiles'!$B$9:$H$4077,7,FALSE)=\"X\",IF(VLOOKUP(I323+2,'BD Dias No utiles'!$B$9:$H$4077,7,FALSE)=\"X\",I323+3,I323+2),I323+1),I323),0)","v":"00:00:00"},0]
[null,321,{"$f":"+IF(Simulador!$G$26>='Cronograma Referencial'!B324,EDATE(C323,(B324-B323)*VLOOKUP(Simulador!$G$27,Simulador!$V$18:$W$29,2,FALSE)/30),0)","v":"00:00:00"},0,{"$f":"+IF(Simulador!$G$26>='Cronograma Referencial'!B324,'Cronograma Referencial'!E323+VLOOKUP(Simulador!$G$27,Simulador!$V$18:$W$29,2,FALSE),0)","v":"00:00:00"},0,null,{"$f":"+B324","v":321},"00:00:00",{"$f":"+IFERROR(IF(VLOOKUP(I324,'BD Dias No utiles'!$B$9:$H$4077,7,FALSE)=\"X\",IF(VLOOKUP(I324+1,'BD Dias No utiles'!$B$9:$H$4077,7,FALSE)=\"X\",IF(VLOOKUP(I324+2,'BD Dias No utiles'!$B$9:$H$4077,7,FALSE)=\"X\",I324+3,I324+2),I324+1),I324),0)","v":"00:00:00"},0]
[null,322,{"$f":"+IF(Simulador!$G$26>='Cronograma Referencial'!B325,EDATE(C324,(B325-B324)*VLOOKUP(Simulador!$G$27,Simulador!$V$18:$W$29,2,FALSE)/30),0)","v":"00:00:00"},{"$f":"+C325-C324","v":0},{"$f":"+IF(Simulador!$G$26>='Cronograma Referencial'!B325,'Cronograma Referencial'!E324+VLOOKUP(Simulador!$G$27,Simulador!$V$18:$W$29,2,FALSE),0)","v":"00:00:00"},0,null,322,{"$f":"+HLOOKUP($I$2,$C$2:$E$418,H325+2)","v":"00:00:00"},{"$f":"+IFERROR(IF(VLOOKUP(I325,'BD Dias No utiles'!$B$9:$H$4077,7,FALSE)=\"X\",IF(VLOOKUP(I325+1,'BD Dias No utiles'!$B$9:$H$4077,7,FALSE)=\"X\",IF(VLOOKUP(I325+2,'BD Dias No utiles'!$B$9:$H$4077,7,FALSE)=\"X\",I325+3,I325+2),I325+1),I325),0)","v":"00:00:00"},{"$f":"+I325-I324","v":0}]
[null,{"$f":"+B325+1","v":323},{"$f":"+IF(Simulador!$G$26>='Cronograma Referencial'!B326,EDATE(C325,(B326-B325)*VLOOKUP(Simulador!$G$27,Simulador!$V$18:$W$29,2,FALSE)/30),0)","v":"00:00:00"},0,{"$f":"+IF(Simulador!$G$26>='Cronograma Referencial'!B326,'Cronograma Referencial'!E325+VLOOKUP(Simulador!$G$27,Simulador!$V$18:$W$29,2,FALSE),0)","v":"00:00:00"},{"$f":"+E326-E325","v":0},null,323,"00:00:00",{"$f":"+IFERROR(IF(VLOOKUP(I326,'BD Dias No utiles'!$B$9:$H$4077,7,FALSE)=\"X\",IF(VLOOKUP(I326+1,'BD Dias No utiles'!$B$9:$H$4077,7,FALSE)=\"X\",IF(VLOOKUP(I326+2,'BD Dias No utiles'!$B$9:$H$4077,7,FALSE)=\"X\",I326+3,I326+2),I326+1),I326),0)","v":"00:00:00"},0]
[null,324,{"$f":"+IF(Simulador!$G$26>='Cronograma Referencial'!B327,EDATE(C326,(B327-B326)*VLOOKUP(Simulador!$G$27,Simulador!$V$18:$W$29,2,FALSE)/30),0)","v":"00:00:00"},0,{"$f":"+IF(Simulador!$G$26>='Cronograma Referencial'!B327,'Cronograma Referencial'!E326+VLOOKUP(Simulador!$G$27,Simulador!$V$18:$W$29,2,FALSE),0)","v":"00:00:00"},0,null,324,"00:00:00",{"$f":"+IFERROR(IF(VLOOKUP(I327,'BD Dias No utiles'!$B$9:$H$4077,7,FALSE)=\"X\",IF(VLOOKUP(I327+1,'BD Dias No utiles'!$B$9:$H$4077,7,FALSE)=\"X\",IF(VLOOKUP(I327+2,'BD Dias No utiles'!$B$9:$H$4077,7,FALSE)=\"X\",I327+3,I327+2),I327+1),I327),0)","v":"00:00:00"},0]
[null,325,{"$f":"+IF(Simulador!$G$26>='Cronograma Referencial'!B328,EDATE(C327,(B328-B327)*VLOOKUP(Simulador!$G$27,Simulador!$V$18:$W$29,2,FALSE)/30),0)","v":"00:00:00"},0,{"$f":"+IF(Simulador!$G$26>='Cronograma Referencial'!B328,'Cronograma Referencial'!E327+VLOOKUP(Simulador!$G$27,Simulador!$V$18:$W$29,2,FALSE),0)","v":"00:00:00"},0,null,325,"00:00:00",{"$f":"+IFERROR(IF(VLOOKUP(I328,'BD Dias No utiles'!$B$9:$H$4077,7,FALSE)=\"X\",IF(VLOOKUP(I328+1,'BD Dias No utiles'!$B$9:$H$4077,7,FALSE)=\"X\",IF(VLOOKUP(I328+2,'BD Dias No utiles'!$B$9:$H$4077,7,FALSE)=\"X\",I328+3,I328+2),I328+1),I328),0)","v":"00:00:00"},0]
[null,326,{"$f":"+IF(Simulador!$G$26>='Cronograma Referencial'!B329,EDATE(C328,(B329-B328)*VLOOKUP(Simulador!$G$27,Simulador!$V$18:$W$29,2,FALSE)/30),0)","v":"00:00:00"},0,{"$f":"+IF(Simulador!$G$26>='Cronograma Referencial'!B329,'Cronograma Referencial'!E328+VLOOKUP(Simulador!$G$27,Simulador!$V$18:$W$29,2,FALSE),0)","v":"00:00:00"},0,null,326,"00:00:00",{"$f":"+IFERROR(IF(VLOOKUP(I329,'BD Dias No utiles'!$B$9:$H$4077,7,FALSE)=\"X\",IF(VLOOKUP(I329+1,'BD Dias No utiles'!$B$9:$H$4077,7,FALSE)=\"X\",IF(VLOOKUP(I329+2,'BD Dias No utiles'!$B$9:$H$4077,7,FALSE)=\"X\",I329+3,I329+2),I329+1),I329),0)","v":"00:00:00"},0]
[null,327,{"$f":"+IF(Simulador!$G$26>='Cronograma Referencial'!B330,EDATE(C329,(B330-B329)*VLOOKUP(Simulador!$G$27,Simulador!$V$18:$W$29,2,FALSE)/30),0)","v":"00:00:00"},0,{"$f":"+IF(Simulador!$G$26>='Cronograma Referencial'!B330,'Cronograma Referencial'!E329+VLOOKUP(Simulador!$G$27,Simulador!$V$18:$W$29,2,FALSE),0)","v":"00:00:00"},0,null,327,"00:00:00",{"$f":"+IFERROR(IF(VLOOKUP(I330,'BD Dias No utiles'!$B$9:$H$4077,7,FALSE)=\"X\",IF(VLOOKUP(I330+1,'BD Dias No utiles'!$B$9:$H$4077,7,FALSE)=\"X\",IF(VLOOKUP(I330+2,'BD Dias No utiles'!$B$9:$H$4077,7,FALSE)=\"X\",I330+3,I330+2),I330+1),I330),0)","v":"00:00:00"},0]
[null,328,{"$f":"+IF(Simulador!$G$26>='Cronograma Referencial'!B331,EDATE(C330,(B331-B330)*VLOOKUP(Simulador!$G$27,Simulador!$V$18:$W$29,2,FALSE)/30),0)","v":"00:00:00"},0,{"$f":"+IF(Simulador!$G$26>='Cronograma Referencial'!B331,'Cronograma Referencial'!E330+VLOOKUP(Simulador!$G$27,Simulador!$V$18:$W$29,2,FALSE),0)","v":"00:00:00"},0,null,328,"00:00:00",{"$f":"+IFERROR(IF(VLOOKUP(I331,'BD Dias No utiles'!$B$9:$H$4077,7,FALSE)=\"X\",IF(VLOOKUP(I331+1,'BD Dias No utiles'!$B$9:$H$4077,7,FALSE)=\"X\",IF(VLOOKUP(I331+2,'BD Dias No utiles'!$B$9:$H$4077,7,FALSE)=\"X\",I331+3,I331+2),I331+1),I331),0)","v":"00:00:00"},0]
[null,329,{"$f":"+IF(Simulador!$G$26>='Cronograma Referencial'!B332,EDATE(C331,(B332-B331)*VLOOKUP(Simulador!$G$27,Simulador!$V$18:$W$29,2,FALSE)/30),0)","v":"00:00:00"},0,{"$f":"+IF(Simulador!$G$26>='Cronograma Referencial'!B332,'Cronograma Referencial'!E331+VLOOKUP(Simulador!$G$27,Simulador!$V$18:$W$29,2,FALSE),0)","v":"00:00:00"},0,null,329,"00:00:00",{"$f":"+IFERROR(IF(VLOOKUP(I332,'BD Dias No utiles'!$B$9:$H$4077,7,FALSE)=\"X\",IF(VLOOKUP(I332+1,'BD Dias No utiles'!$B$9:$H$4077,7,FALSE)=\"X\",IF(VLOOKUP(I332+2,'BD Dias No utiles'!$B$9:$H$4077,7,FALSE)=\"X\",I332+3,I332+2),I332+1),I332),0)","v":"00:00:00"},0]
[null,330,{"$f":"+IF(Simulador!$G$26>='Cronograma Referencial'!B333,EDATE(C332,(B333-B332)*VLOOKUP(Simulador!$G$27,Simulador!$V$18:$W$29,2,FALSE)/30),0)","v":"00:00:00"},0,{"$f":"+IF(Simulador!$G$26>='Cronograma Referencial'!B333,'Cronograma Referencial'!E332+VLOOKUP(Simulador!$G$27,Simulador!$V$18:$W$29,2,FALSE),0)","v":"00:00:00"},0,null,330,"00:00:00",{"$f":"+IFERROR(IF(VLOOKUP(I333,'BD Dias No utiles'!$B$9:$H$4077,7,FALSE)=\"X\",IF(VLOOKUP(I333+1,'BD Dias No utiles'!$B$9:$H$4077,7,FALSE)=\"X\",IF(VLOOKUP(I333+2,'BD Dias No utiles'!$B$9:$H$4077,7,FALSE)=\"X\",I333+3,I333+2),I333+1),I333),0)","v":"00:00:00"},0]
[null,331,{"$f":"+IF(Simulador!$G$26>='Cronograma Referencial'!B334,EDATE(C333,(B334-B333)*VLOOKUP(Simulador!$G$27,Simulador!$V$18:$W$29,2,FALSE)/30),0)","v":"00:00:00"},0,{"$f":"+IF(Simulador!$G$26>='Cronograma Referencial'!B334,'Cronograma Referencial'!E333+VLOOKUP(Simulador!$G$27,Simulador!$V$18:$W$29,2,FALSE),0)","v":"00:00:00"},0,null,331,"00:00:00",{"$f":"+IFERROR(IF(VLOOKUP(I334,'BD Dias No utiles'!$B$9:$H$4077,7,FALSE)=\"X\",IF(VLOOKUP(I334+1,'BD Dias No utiles'!$B$9:$H$4077,7,FALSE)=\"X\",IF(VLOOKUP(I334+2,'BD Dias No utiles'!$B$9:$H$4077,7,FALSE)=\"X\",I334+3,I334+2),I334+1),I334),0)","v":"00:00:00"},0]
[null,332,{"$f":"+IF(Simulador!$G$26>='Cronograma Referencial'!B335,EDATE(C334,(B335-B334)*VLOOKUP(Simulador!$G$27,Simulador!$V$18:$W$29,2,FALSE)/30),0)","v":"00:00:00"},0,{"$f":"+IF(Simulador!$G$26>='Cronograma Referencial'!B335,'Cronograma Referencial'!E334+VLOOKUP(Simulador!$G$27,Simulador!$V$18:$W$29,2,FALSE),0)","v":"00:00:00"},0,null,332,"00:00:00",{"$f":"+IFERROR(IF(VLOOKUP(I335,'BD Dias No utiles'!$B$9:$H$4077,7,FALSE)=\"X\",IF(VLOOKUP(I335+1,'BD Dias No utiles'!$B$9:$H$4077,7,FALSE)=\"X\",IF(VLOOKUP(I335+2,'BD Dias No utiles'!$B$9:$H$4077,7,FALSE)=\"X\",I335+3,I335+2),I335+1),I335),0)","v":"00:00:00"},0]
[null,333,{"$f":"+IF(Simulador!$G$26>='Cronograma Referencial'!B336,EDATE(C335,(B336-B335)*VLOOKUP(Simulador!$G$27,Simulador!$V$18:$W$29,2,FALSE)/30),0)","v":"00:00:00"},0,{"$f":"+IF(Simulador!$G$26>='Cronograma Referencial'!B336,'Cronograma Referencial'!E335+VLOOKUP(Simulador!$G$27,Simulador!$V$18:$W$29,2,FALSE),0)","v":"00:00:00"},0,null,333,"00:00:00",{"$f":"+IFERROR(IF(VLOOKUP(I336,'BD Dias No utiles'!$B$9:$H$4077,7,FALSE)=\"X\",IF(VLOOKUP(I336+1,'BD Dias No utiles'!$B$9:$H$4077,7,FALSE)=\"X\",IF(VLOOKUP(I336+2,'BD Dias No utiles'!$B$9:$H$4077,7,FALSE)=\"X\",I336+3,I336+2),I336+1),I336),0)","v":"00:00:00"},0]
[null,334,{"$f":"+IF(Simulador!$G$26>='Cronograma Referencial'!B337,EDATE(C336,(B337-B336)*VLOOKUP(Simulador!$G$27,Simulador!$V$18:$W$29,2,FALSE)/30),0)","v":"00:00:00"},0,{"$f":"+IF(Simulador!$G$26>='Cronograma Referencial'!B337,'Cronograma Referencial'!E336+VLOOKUP(Simulador!$G$27,Simulador!$V$18:$W$29,2,FALSE),0)","v":"00:00:00"},0,null,334,"00:00:00",{"$f":"+IFERROR(IF(VLOOKUP(I337,'BD Dias No utiles'!$B$9:$H$4077,7,FALSE)=\"X\",IF(VLOOKUP(I337+1,'BD Dias No utiles'!$B$9:$H$4077,7,FALSE)=\"X\",IF(VLOOKUP(I337+2,'BD Dias No utiles'!$B$9:$H$4077,7,FALSE)=\"X\",I337+3,I337+2),I337+1),I337),0)","v":"00:00:00"},0]
[null,335,{"$f":"+IF(Simulador!$G$26>='Cronograma Referencial'!B338,EDATE(C337,(B338-B337)*VLOOKUP(Simulador!$G$27,Simulador!$V$18:$W$29,2,FALSE)/30),0)","v":"00:00:00"},0,{"$f":"+IF(Simulador!$G$26>='Cronograma Referencial'!B338,'Cronograma Referencial'!E337+VLOOKUP(Simulador!$G$27,Simulador!$V$18:$W$29,2,FALSE),0)","v":"00:00:00"},0,null,335,"00:00:00",{"$f":"+IFERROR(IF(VLOOKUP(I338,'BD Dias No utiles'!$B$9:$H$4077,7,FALSE)=\"X\",IF(VLOOKUP(I338+1,'BD Dias No utiles'!$B$9:$H$4077,7,FALSE)=\"X\",IF(VLOOKUP(I338+2,'BD Dias No utiles'!$B$9:$H$4077,7,FALSE)=\"X\",I338+3,I338+2),I338+1),I338),0)","v":"00:00:00"},0]
[null,336,{"$f":"+IF(Simulador!$G$26>='Cronograma Referencial'!B339,EDATE(C338,(B339-B338)*VLOOKUP(Simulador!$G$27,Simulador!$V$18:$W$29,2,FALSE)/30),0)","v":"00:00:00"},0,{"$f":"+IF(Simulador!$G$26>='Cronograma Referencial'!B339,'Cronograma Referencial'!E338+VLOOKUP(Simulador!$G$27,Simulador!$V$18:$W$29,2,FALSE),0)","v":"00:00:00"},0,null,336,"00:00:00",{"$f":"+IFERROR(IF(VLOOKUP(I339,'BD Dias No utiles'!$B$9:$H$4077,7,FALSE)=\"X\",IF(VLOOKUP(I339+1,'BD Dias No utiles'!$B$9:$H$4077,7,FALSE)=\"X\",IF(VLOOKUP(I339+2,'BD Dias No utiles'!$B$9:$H$4077,7,FALSE)=\"X\",I339+3,I339+2),I339+1),I339),0)","v":"00:00:00"},0]
[null,337,{"$f":"+IF(Simulador!$G$26>='Cronograma Referencial'!B340,EDATE(C339,(B340-B339)*VLOOKUP(Simulador!$G$27,Simulador!$V$18:$W$29,2,FALSE)/30),0)","v":"00:00:00"},0,{"$f":"+IF(Simulador!$G$26>='Cronograma Referencial'!B340,'Cronograma Referencial'!E339+VLOOKUP(Simulador!$G$27,Simulador!$V$18:$W$29,2,FALSE),0)","v":"00:00:00"},0,null,337,"00:00:00",{"$f":"+IFERROR(IF(VLOOKUP(I340,'BD Dias No utiles'!$B$9:$H$4077,7,FALSE)=\"X\",IF(VLOOKUP(I340+1,'BD Dias No utiles'!$B$9:$H$4077,7,FALSE)=\"X\",IF(VLOOKUP(I340+2,'BD Dias No utiles'!$B$9:$H$4077,7,FALSE)=\"X\",I340+3,I340+2),I340+1),I340),0)","v":"00:00:00"},0]
[null,338,{"$f":"+IF(Simulador!$G$26>='Cronograma Referencial'!B341,EDATE(C340,(B341-B340)*VLOOKUP(Simulador!$G$27,Simulador!$V$18:$W$29,2,FALSE)/30),0)","v":"00:00:00"},0,{"$f":"+IF(Simulador!$G$26>='Cronograma Referencial'!B341,'Cronograma Referencial'!E340+VLOOKUP(Simulador!$G$27,Simulador!$V$18:$W$29,2,FALSE),0)","v":"00:00:00"},0,null,338,"00:00:00",{"$f":"+IFERROR(IF(VLOOKUP(I341,'BD Dias No utiles'!$B$9:$H$4077,7,FALSE)=\"X\",IF(VLOOKUP(I341+1,'BD Dias No utiles'!$B$9:$H$4077,7,FALSE)=\"X\",IF(VLOOKUP(I341+2,'BD Dias No utiles'!$B$9:$H$4077,7,FALSE)=\"X\",I341+3,I341+2),I341+1),I341),0)","v":"00:00:00"},0]
[null,339,{"$f":"+IF(Simulador!$G$26>='Cronograma Referencial'!B342,EDATE(C341,(B342-B341)*VLOOKUP(Simulador!$G$27,Simulador!$V$18:$W$29,2,FALSE)/30),0)","v":"00:00:00"},0,{"$f":"+IF(Simulador!$G$26>='Cronograma Referencial'!B342,'Cronograma Referencial'!E341+VLOOKUP(Simulador!$G$27,Simulador!$V$18:$W$29,2,FALSE),0)","v":"00:00:00"},0,null,339,"00:00:00",{"$f":"+IFERROR(IF(VLOOKUP(I342,'BD Dias No utiles'!$B$9:$H$4077,7,FALSE)=\"X\",IF(VLOOKUP(I342+1,'BD Dias No utiles'!$B$9:$H$4077,7,FALSE)=\"X\",IF(VLOOKUP(I342+2,'BD Dias No utiles'!$B$9:$H$4077,7,FALSE)=\"X\",I342+3,I342+2),I342+1),I342),0)","v":"00:00:00"},0]
[null,340,{"$f":"+IF(Simulador!$G$26>='Cronograma Referencial'!B343,EDATE(C342,(B343-B342)*VLOOKUP(Simulador!$G$27,Simulador!$V$18:$W$29,2,FALSE)/30),0)","v":"00:00:00"},0,{"$f":"+IF(Simulador!$G$26>='Cronograma Referencial'!B343,'Cronograma Referencial'!E342+VLOOKUP(Simulador!$G$27,Simulador!$V$18:$W$29,2,FALSE),0)","v":"00:00:00"},0,null,340,"00:00:00",{"$f":"+IFERROR(IF(VLOOKUP(I343,'BD Dias No utiles'!$B$9:$H$4077,7,FALSE)=\"X\",IF(VLOOKUP(I343+1,'BD Dias No utiles'!$B$9:$H$4077,7,FALSE)=\"X\",IF(VLOOKUP(I343+2,'BD Dias No utiles'!$B$9:$H$4077,7,FALSE)=\"X\",I343+3,I343+2),I343+1),I343),0)","v":"00:00:00"},0]
[null,341,{"$f":"+IF(Simulador!$G$26>='Cronograma Referencial'!B344,EDATE(C343,(B344-B343)*VLOOKUP(Simulador!$G$27,Simulador!$V$18:$W$29,2,FALSE)/30),0)","v":"00:00:00"},0,{"$f":"+IF(Simulador!$G$26>='Cronograma Referencial'!B344,'Cronograma Referencial'!E343+VLOOKUP(Simulador!$G$27,Simulador!$V$18:$W$29,2,FALSE),0)","v":"00:00:00"},0,null,341,"00:00:00",{"$f":"+IFERROR(IF(VLOOKUP(I344,'BD Dias No utiles'!$B$9:$H$4077,7,FALSE)=\"X\",IF(VLOOKUP(I344+1,'BD Dias No utiles'!$B$9:$H$4077,7,FALSE)=\"X\",IF(VLOOKUP(I344+2,'BD Dias No utiles'!$B$9:$H$4077,7,FALSE)=\"X\",I344+3,I344+2),I344+1),I344),0)","v":"00:00:00"},0]
[null,342,{"$f":"+IF(Simulador!$G$26>='Cronograma Referencial'!B345,EDATE(C344,(B345-B344)*VLOOKUP(Simulador!$G$27,Simulador!$V$18:$W$29,2,FALSE)/30),0)","v":"00:00:00"},0,{"$f":"+IF(Simulador!$G$26>='Cronograma Referencial'!B345,'Cronograma Referencial'!E344+VLOOKUP(Simulador!$G$27,Simulador!$V$18:$W$29,2,FALSE),0)","v":"00:00:00"},0,null,342,"00:00:00",{"$f":"+IFERROR(IF(VLOOKUP(I345,'BD Dias No utiles'!$B$9:$H$4077,7,FALSE)=\"X\",IF(VLOOKUP(I345+1,'BD Dias No utiles'!$B$9:$H$4077,7,FALSE)=\"X\",IF(VLOOKUP(I345+2,'BD Dias No utiles'!$B$9:$H$4077,7,FALSE)=\"X\",I345+3,I345+2),I345+1),I345),0)","v":"00:00:00"},0]
[null,343,{"$f":"+IF(Simulador!$G$26>='Cronograma Referencial'!B346,EDATE(C345,(B346-B345)*VLOOKUP(Simulador!$G$27,Simulador!$V$18:$W$29,2,FALSE)/30),0)","v":"00:00:00"},0,{"$f":"+IF(Simulador!$G$26>='Cronograma Referencial'!B346,'Cronograma Referencial'!E345+VLOOKUP(Simulador!$G$27,Simulador!$V$18:$W$29,2,FALSE),0)","v":"00:00:00"},0,null,343,"00:00:00",{"$f":"+IFERROR(IF(VLOOKUP(I346,'BD Dias No utiles'!$B$9:$H$4077,7,FALSE)=\"X\",IF(VLOOKUP(I346+1,'BD Dias No utiles'!$B$9:$H$4077,7,FALSE)=\"X\",IF(VLOOKUP(I346+2,'BD Dias No utiles'!$B$9:$H$4077,7,FALSE)=\"X\",I346+3,I346+2),I346+1),I346),0)","v":"00:00:00"},0]
[null,344,{"$f":"+IF(Simulador!$G$26>='Cronograma Referencial'!B347,EDATE(C346,(B347-B346)*VLOOKUP(Simulador!$G$27,Simulador!$V$18:$W$29,2,FALSE)/30),0)","v":"00:00:00"},0,{"$f":"+IF(Simulador!$G$26>='Cronograma Referencial'!B347,'Cronograma Referencial'!E346+VLOOKUP(Simulador!$G$27,Simulador!$V$18:$W$29,2,FALSE),0)","v":"00:00:00"},0,null,344,"00:00:00",{"$f":"+IFERROR(IF(VLOOKUP(I347,'BD Dias No utiles'!$B$9:$H$4077,7,FALSE)=\"X\",IF(VLOOKUP(I347+1,'BD Dias No utiles'!$B$9:$H$4077,7,FALSE)=\"X\",IF(VLOOKUP(I347+2,'BD Dias No utiles'!$B$9:$H$4077,7,FALSE)=\"X\",I347+3,I347+2),I347+1),I347),0)","v":"00:00:00"},0]
[null,345,{"$f":"+IF(Simulador!$G$26>='Cronograma Referencial'!B348,EDATE(C347,(B348-B347)*VLOOKUP(Simulador!$G$27,Simulador!$V$18:$W$29,2,FALSE)/30),0)","v":"00:00:00"},0,{"$f":"+IF(Simulador!$G$26>='Cronograma Referencial'!B348,'Cronograma Referencial'!E347+VLOOKUP(Simulador!$G$27,Simulador!$V$18:$W$29,2,FALSE),0)","v":"00:00:00"},0,null,345,"00:00:00",{"$f":"+IFERROR(IF(VLOOKUP(I348,'BD Dias No utiles'!$B$9:$H$4077,7,FALSE)=\"X\",IF(VLOOKUP(I348+1,'BD Dias No utiles'!$B$9:$H$4077,7,FALSE)=\"X\",IF(VLOOKUP(I348+2,'BD Dias No utiles'!$B$9:$H$4077,7,FALSE)=\"X\",I348+3,I348+2),I348+1),I348),0)","v":"00:00:00"},0]
[null,346,{"$f":"+IF(Simulador!$G$26>='Cronograma Referencial'!B349,EDATE(C348,(B349-B348)*VLOOKUP(Simulador!$G$27,Simulador!$V$18:$W$29,2,FALSE)/30),0)","v":"00:00:00"},0,{"$f":"+IF(Simulador!$G$26>='Cronograma Referencial'!B349,'Cronograma Referencial'!E348+VLOOKUP(Simulador!$G$27,Simulador!$V$18:$W$29,2,FALSE),0)","v":"00:00:00"},0,null,346,"00:00:00",{"$f":"+IFERROR(IF(VLOOKUP(I349,'BD Dias No utiles'!$B$9:$H$4077,7,FALSE)=\"X\",IF(VLOOKUP(I349+1,'BD Dias No utiles'!$B$9:$H$4077,7,FALSE)=\"X\",IF(VLOOKUP(I349+2,'BD Dias No utiles'!$B$9:$H$4077,7,FALSE)=\"X\",I349+3,I349+2),I349+1),I349),0)","v":"00:00:00"},0]
[null,347,{"$f":"+IF(Simulador!$G$26>='Cronograma Referencial'!B350,EDATE(C349,(B350-B349)*VLOOKUP(Simulador!$G$27,Simulador!$V$18:$W$29,2,FALSE)/30),0)","v":"00:00:00"},0,{"$f":"+IF(Simulador!$G$26>='Cronograma Referencial'!B350,'Cronograma Referencial'!E349+VLOOKUP(Simulador!$G$27,Simulador!$V$18:$W$29,2,FALSE),0)","v":"00:00:00"},0,null,347,"00:00:00",{"$f":"+IFERROR(IF(VLOOKUP(I350,'BD Dias No utiles'!$B$9:$H$4077,7,FALSE)=\"X\",IF(VLOOKUP(I350+1,'BD Dias No utiles'!$B$9:$H$4077,7,FALSE)=\"X\",IF(VLOOKUP(I350+2,'BD Dias No utiles'!$B$9:$H$4077,7,FALSE)=\"X\",I350+3,I350+2),I350+1),I350),0)","v":"00:00:00"},0]
[null,348,{"$f":"+IF(Simulador!$G$26>='Cronograma Referencial'!B351,EDATE(C350,(B351-B350)*VLOOKUP(Simulador!$G$27,Simulador!$V$18:$W$29,2,FALSE)/30),0)","v":"00:00:00"},0,{"$f":"+IF(Simulador!$G$26>='Cronograma Referencial'!B351,'Cronograma Referencial'!E350+VLOOKUP(Simulador!$G$27,Simulador!$V$18:$W$29,2,FALSE),0)","v":"00:00:00"},0,null,348,"00:00:00",{"$f":"+IFERROR(IF(VLOOKUP(I351,'BD Dias No utiles'!$B$9:$H$4077,7,FALSE)=\"X\",IF(VLOOKUP(I351+1,'BD Dias No utiles'!$B$9:$H$4077,7,FALSE)=\"X\",IF(VLOOKUP(I351+2,'BD Dias No utiles'!$B$9:$H$4077,7,FALSE)=\"X\",I351+3,I351+2),I351+1),I351),0)","v":"00:00:00"},0]
[null,349,{"$f":"+IF(Simulador!$G$26>='Cronograma Referencial'!B352,EDATE(C351,(B352-B351)*VLOOKUP(Simulador!$G$27,Simulador!$V$18:$W$29,2,FALSE)/30),0)","v":"00:00:00"},0,{"$f":"+IF(Simulador!$G$26>='Cronograma Referencial'!B352,'Cronograma Referencial'!E351+VLOOKUP(Simulador!$G$27,Simulador!$V$18:$W$29,2,FALSE),0)","v":"00:00:00"},0,null,349,"00:00:00",{"$f":"+IFERROR(IF(VLOOKUP(I352,'BD Dias No utiles'!$B$9:$H$4077,7,FALSE)=\"X\",IF(VLOOKUP(I352+1,'BD Dias No utiles'!$B$9:$H$4077,7,FALSE)=\"X\",IF(VLOOKUP(I352+2,'BD Dias No utiles'!$B$9:$H$4077,7,FALSE)=\"X\",I352+3,I352+2),I352+1),I352),0)","v":"00:00:00"},0]
[null,350,{"$f":"+IF(Simulador!$G$26>='Cronograma Referencial'!B353,EDATE(C352,(B353-B352)*VLOOKUP(Simulador!$G$27,Simulador!$V$18:$W$29,2,FALSE)/30),0)","v":"00:00:00"},0,{"$f":"+IF(Simulador!$G$26>='Cronograma Referencial'!B353,'Cronograma Referencial'!E352+VLOOKUP(Simulador!$G$27,Simulador!$V$18:$W$29,2,FALSE),0)","v":"00:00:00"},0,null,350,"00:00:00",{"$f":"+IFERROR(IF(VLOOKUP(I353,'BD Dias No utiles'!$B$9:$H$4077,7,FALSE)=\"X\",IF(VLOOKUP(I353+1,'BD Dias No utiles'!$B$9:$H$4077,7,FALSE)=\"X\",IF(VLOOKUP(I353+2,'BD Dias No utiles'!$B$9:$H$4077,7,FALSE)=\"X\",I353+3,I353+2),I353+1),I353),0)","v":"00:00:00"},0]
[null,351,{"$f":"+IF(Simulador!$G$26>='Cronograma Referencial'!B354,EDATE(C353,(B354-B353)*VLOOKUP(Simulador!$G$27,Simulador!$V$18:$W$29,2,FALSE)/30),0)","v":"00:00:00"},0,{"$f":"+IF(Simulador!$G$26>='Cronograma Referencial'!B354,'Cronograma Referencial'!E353+VLOOKUP(Simulador!$G$27,Simulador!$V$18:$W$29,2,FALSE),0)","v":"00:00:00"},0,null,351,"00:00:00",{"$f":"+IFERROR(IF(VLOOKUP(I354,'BD Dias No utiles'!$B$9:$H$4077,7,FALSE)=\"X\",IF(VLOOKUP(I354+1,'BD Dias No utiles'!$B$9:$H$4077,7,FALSE)=\"X\",IF(VLOOKUP(I354+2,'BD Dias No utiles'!$B$9:$H$4077,7,FALSE)=\"X\",I354+3,I354+2),I354+1),I354),0)","v":"00:00:00"},0]
[null,352,{"$f":"+IF(Simulador!$G$26>='Cronograma Referencial'!B355,EDATE(C354,(B355-B354)*VLOOKUP(Simulador!$G$27,Simulador!$V$18:$W$29,2,FALSE)/30),0)","v":"00:00:00"},0,{"$f":"+IF(Simulador!$G$26>='Cronograma Referencial'!B355,'Cronograma Referencial'!E354+VLOOKUP(Simulador!$G$27,Simulador!$V$18:$W$29,2,FALSE),0)","v":"00:00:00"},0,null,352,"00:00:00",{"$f":"+IFERROR(IF(VLOOKUP(I355,'BD Dias No utiles'!$B$9:$H$4077,7,FALSE)=\"X\",IF(VLOOKUP(I355+1,'BD Dias No utiles'!$B$9:$H$4077,7,FALSE)=\"X\",IF(VLOOKUP(I355+2,'BD Dias No utiles'!$B$9:$H$4077,7,FALSE)=\"X\",I355+3,I355+2),I355+1),I355),0)","v":"00:00:00"},0]
[null,353,{"$f":"+IF(Simulador!$G$26>='Cronograma Referencial'!B356,EDATE(C355,(B356-B355)*VLOOKUP(Simulador!$G$27,Simulador!$V$18:$W$29,2,FALSE)/30),0)","v":"00:00:00"},0,{"$f":"+IF(Simulador!$G$26>='Cronograma Referencial'!B356,'Cronograma Referencial'!E355+VLOOKUP(Simulador!$G$27,Simulador!$V$18:$W$29,2,FALSE),0)","v":"00:00:00"},0,null,353,"00:00:00",{"$f":"+IFERROR(IF(VLOOKUP(I356,'BD Dias No utiles'!$B$9:$H$4077,7,FALSE)=\"X\",IF(VLOOKUP(I356+1,'BD Dias No utiles'!$B$9:$H$4077,7,FALSE)=\"X\",IF(VLOOKUP(I356+2,'BD Dias No utiles'!$B$9:$H$4077,7,FALSE)=\"X\",I356+3,I356+2),I356+1),I356),0)","v":"00:00:00"},0]
[null,354,{"$f":"+IF(Simulador!$G$26>='Cronograma Referencial'!B357,EDATE(C356,(B357-B356)*VLOOKUP(Simulador!$G$27,Simulador!$V$18:$W$29,2,FALSE)/30),0)","v":"00:00:00"},0,{"$f":"+IF(Simulador!$G$26>='Cronograma Referencial'!B357,'Cronograma Referencial'!E356+VLOOKUP(Simulador!$G$27,Simulador!$V$18:$W$29,2,FALSE),0)","v":"00:00:00"},0,null,354,"00:00:00",{"$f":"+IFERROR(IF(VLOOKUP(I357,'BD Dias No utiles'!$B$9:$H$4077,7,FALSE)=\"X\",IF(VLOOKUP(I357+1,'BD Dias No utiles'!$B$9:$H$4077,7,FALSE)=\"X\",IF(VLOOKUP(I357+2,'BD Dias No utiles'!$B$9:$H$4077,7,FALSE)=\"X\",I357+3,I357+2),I357+1),I357),0)","v":"00:00:00"},0]
[null,355,{"$f":"+IF(Simulador!$G$26>='Cronograma Referencial'!B358,EDATE(C357,(B358-B357)*VLOOKUP(Simulador!$G$27,Simulador!$V$18:$W$29,2,FALSE)/30),0)","v":"00:00:00"},0,{"$f":"+IF(Simulador!$G$26>='Cronograma Referencial'!B358,'Cronograma Referencial'!E357+VLOOKUP(Simulador!$G$27,Simulador!$V$18:$W$29,2,FALSE),0)","v":"00:00:00"},0,null,355,"00:00:00",{"$f":"+IFERROR(IF(VLOOKUP(I358,'BD Dias No utiles'!$B$9:$H$4077,7,FALSE)=\"X\",IF(VLOOKUP(I358+1,'BD Dias No utiles'!$B$9:$H$4077,7,FALSE)=\"X\",IF(VLOOKUP(I358+2,'BD Dias No utiles'!$B$9:$H$4077,7,FALSE)=\"X\",I358+3,I358+2),I358+1),I358),0)","v":"00:00:00"},0]
[null,356,{"$f":"+IF(Simulador!$G$26>='Cronograma Referencial'!B359,EDATE(C358,(B359-B358)*VLOOKUP(Simulador!$G$27,Simulador!$V$18:$W$29,2,FALSE)/30),0)","v":"00:00:00"},0,{"$f":"+IF(Simulador!$G$26>='Cronograma Referencial'!B359,'Cronograma Referencial'!E358+VLOOKUP(Simulador!$G$27,Simulador!$V$18:$W$29,2,FALSE),0)","v":"00:00:00"},0,null,356,"00:00:00",{"$f":"+IFERROR(IF(VLOOKUP(I359,'BD Dias No utiles'!$B$9:$H$4077,7,FALSE)=\"X\",IF(VLOOKUP(I359+1,'BD Dias No utiles'!$B$9:$H$4077,7,FALSE)=\"X\",IF(VLOOKUP(I359+2,'BD Dias No utiles'!$B$9:$H$4077,7,FALSE)=\"X\",I359+3,I359+2),I359+1),I359),0)","v":"00:00:00"},0]
[null,357,{"$f":"+IF(Simulador!$G$26>='Cronograma Referencial'!B360,EDATE(C359,(B360-B359)*VLOOKUP(Simulador!$G$27,Simulador!$V$18:$W$29,2,FALSE)/30),0)","v":"00:00:00"},0,{"$f":"+IF(Simulador!$G$26>='Cronograma Referencial'!B360,'Cronograma Referencial'!E359+VLOOKUP(Simulador!$G$27,Simulador!$V$18:$W$29,2,FALSE),0)","v":"00:00:00"},0,null,357,"00:00:00",{"$f":"+IFERROR(IF(VLOOKUP(I360,'BD Dias No utiles'!$B$9:$H$4077,7,FALSE)=\"X\",IF(VLOOKUP(I360+1,'BD Dias No utiles'!$B$9:$H$4077,7,FALSE)=\"X\",IF(VLOOKUP(I360+2,'BD Dias No utiles'!$B$9:$H$4077,7,FALSE)=\"X\",I360+3,I360+2),I360+1),I360),0)","v":"00:00:00"},0]
[null,358,{"$f":"+IF(Simulador!$G$26>='Cronograma Referencial'!B361,EDATE(C360,(B361-B360)*VLOOKUP(Simulador!$G$27,Simulador!$V$18:$W$29,2,FALSE)/30),0)","v":"00:00:00"},0,{"$f":"+IF(Simulador!$G$26>='Cronograma Referencial'!B361,'Cronograma Referencial'!E360+VLOOKUP(Simulador!$G$27,Simulador!$V$18:$W$29,2,FALSE),0)","v":"00:00:00"},0,null,358,"00:00:00",{"$f":"+IFERROR(IF(VLOOKUP(I361,'BD Dias No utiles'!$B$9:$H$4077,7,FALSE)=\"X\",IF(VLOOKUP(I361+1,'BD Dias No utiles'!$B$9:$H$4077,7,FALSE)=\"X\",IF(VLOOKUP(I361+2,'BD Dias No utiles'!$B$9:$H$4077,7,FALSE)=\"X\",I361+3,I361+2),I361+1),I361),0)","v":"00:00:00"},0]
[null,359,{"$f":"+IF(Simulador!$G$26>='Cronograma Referencial'!B362,EDATE(C361,(B362-B361)*VLOOKUP(Simulador!$G$27,Simulador!$V$18:$W$29,2,FALSE)/30),0)","v":"00:00:00"},0,{"$f":"+IF(Simulador!$G$26>='Cronograma Referencial'!B362,'Cronograma Referencial'!E361+VLOOKUP(Simulador!$G$27,Simulador!$V$18:$W$29,2,FALSE),0)","v":"00:00:00"},0,null,359,"00:00:00",{"$f":"+IFERROR(IF(VLOOKUP(I362,'BD Dias No utiles'!$B$9:$H$4077,7,FALSE)=\"X\",IF(VLOOKUP(I362+1,'BD Dias No utiles'!$B$9:$H$4077,7,FALSE)=\"X\",IF(VLOOKUP(I362+2,'BD Dias No utiles'!$B$9:$H$4077,7,FALSE)=\"X\",I362+3,I362+2),I362+1),I362),0)","v":"00:00:00"},0]
[null,360,{"$f":"+IF(Simulador!$G$26>='Cronograma Referencial'!B363,EDATE(C362,(B363-B362)*VLOOKUP(Simulador!$G$27,Simulador!$V$18:$W$29,2,FALSE)/30),0)","v":"00:00:00"},0,{"$f":"+IF(Simulador!$G$26>='Cronograma Referencial'!B363,'Cronograma Referencial'!E362+VLOOKUP(Simulador!$G$27,Simulador!$V$18:$W$29,2,FALSE),0)","v":"00:00:00"},0,null,360,"00:00:00",{"$f":"+IFERROR(IF(VLOOKUP(I363,'BD Dias No utiles'!$B$9:$H$4077,7,FALSE)=\"X\",IF(VLOOKUP(I363+1,'BD Dias No utiles'!$B$9:$H$4077,7,FALSE)=\"X\",IF(VLOOKUP(I363+2,'BD Dias No utiles'!$B$9:$H$4077,7,FALSE)=\"X\",I363+3,I363+2),I363+1),I363),0)","v":"00:00:00"},0]
[null,361,{"$f":"+IF(Simulador!$G$26>='Cronograma Referencial'!B364,EDATE(C363,(B364-B363)*VLOOKUP(Simulador!$G$27,Simulador!$V$18:$W$29,2,FALSE)/30),0)","v":"00:00:00"},0,{"$f":"+IF(Simulador!$G$26>='Cronograma Referencial'!B364,'Cronograma Referencial'!E363+VLOOKUP(Simulador!$G$27,Simulador!$V$18:$W$29,2,FALSE),0)","v":"00:00:00"},0,null,361,"00:00:00",{"$f":"+IFERROR(IF(VLOOKUP(I364,'BD Dias No utiles'!$B$9:$H$4077,7,FALSE)=\"X\",IF(VLOOKUP(I364+1,'BD Dias No utiles'!$B$9:$H$4077,7,FALSE)=\"X\",IF(VLOOKUP(I364+2,'BD Dias No utiles'!$B$9:$H$4077,7,FALSE)=\"X\",I364+3,I364+2),I364+1),I364),0)","v":"00:00:00"},0]
[null,362,{"$f":"+IF(Simulador!$G$26>='Cronograma Referencial'!B365,EDATE(C364,(B365-B364)*VLOOKUP(Simulador!$G$27,Simulador!$V$18:$W$29,2,FALSE)/30),0)","v":"00:00:00"},0,{"$f":"+IF(Simulador!$G$26>='Cronograma Referencial'!B365,'Cronograma Referencial'!E364+VLOOKUP(Simulador!$G$27,Simulador!$V$18:$W$29,2,FALSE),0)","v":"00:00:00"},0,null,362,"00:00:00",{"$f":"+IFERROR(IF(VLOOKUP(I365,'BD Dias No utiles'!$B$9:$H$4077,7,FALSE)=\"X\",IF(VLOOKUP(I365+1,'BD Dias No utiles'!$B$9:$H$4077,7,FALSE)=\"X\",IF(VLOOKUP(I365+2,'BD Dias No utiles'!$B$9:$H$4077,7,FALSE)=\"X\",I365+3,I365+2),I365+1),I365),0)","v":"00:00:00"},0]
[null,363,{"$f":"+IF(Simulador!$G$26>='Cronograma Referencial'!B366,EDATE(C365,(B366-B365)*VLOOKUP(Simulador!$G$27,Simulador!$V$18:$W$29,2,FALSE)/30),0)","v":"00:00:00"},0,{"$f":"+IF(Simulador!$G$26>='Cronograma Referencial'!B366,'Cronograma Referencial'!E365+VLOOKUP(Simulador!$G$27,Simulador!$V$18:$W$29,2,FALSE),0)","v":"00:00:00"},0,null,363,"00:00:00",{"$f":"+IFERROR(IF(VLOOKUP(I366,'BD Dias No utiles'!$B$9:$H$4077,7,FALSE)=\"X\",IF(VLOOKUP(I366+1,'BD Dias No utiles'!$B$9:$H$4077,7,FALSE)=\"X\",IF(VLOOKUP(I366+2,'BD Dias No utiles'!$B$9:$H$4077,7,FALSE)=\"X\",I366+3,I366+2),I366+1),I366),0)","v":"00:00:00"},0]
[null,364,{"$f":"+IF(Simulador!$G$26>='Cronograma Referencial'!B367,EDATE(C366,(B367-B366)*VLOOKUP(Simulador!$G$27,Simulador!$V$18:$W$29,2,FALSE)/30),0)","v":"00:00:00"},0,{"$f":"+IF(Simulador!$G$26>='Cronograma Referencial'!B367,'Cronograma Referencial'!E366+VLOOKUP(Simulador!$G$27,Simulador!$V$18:$W$29,2,FALSE),0)","v":"00:00:00"},0,null,364,"00:00:00",{"$f":"+IFERROR(IF(VLOOKUP(I367,'BD Dias No utiles'!$B$9:$H$4077,7,FALSE)=\"X\",IF(VLOOKUP(I367+1,'BD Dias No utiles'!$B$9:$H$4077,7,FALSE)=\"X\",IF(VLOOKUP(I367+2,'BD Dias No utiles'!$B$9:$H$4077,7,FALSE)=\"X\",I367+3,I367+2),I367+1),I367),0)","v":"00:00:00"},0]
[null,365,{"$f":"+IF(Simulador!$G$26>='Cronograma Referencial'!B368,EDATE(C367,(B368-B367)*VLOOKUP(Simulador!$G$27,Simulador!$V$18:$W$29,2,FALSE)/30),0)","v":"00:00:00"},0,{"$f":"+IF(Simulador!$G$26>='Cronograma Referencial'!B368,'Cronograma Referencial'!E367+VLOOKUP(Simulador!$G$27,Simulador!$V$18:$W$29,2,FALSE),0)","v":"00:00:00"},0,null,365,"00:00:00",{"$f":"+IFERROR(IF(VLOOKUP(I368,'BD Dias No utiles'!$B$9:$H$4077,7,FALSE)=\"X\",IF(VLOOKUP(I368+1,'BD Dias No utiles'!$B$9:$H$4077,7,FALSE)=\"X\",IF(VLOOKUP(I368+2,'BD Dias No utiles'!$B$9:$H$4077,7,FALSE)=\"X\",I368+3,I368+2),I368+1),I368),0)","v":"00:00:00"},0]
[null,366,{"$f":"+IF(Simulador!$G$26>='Cronograma Referencial'!B369,EDATE(C368,(B369-B368)*VLOOKUP(Simulador!$G$27,Simulador!$V$18:$W$29,2,FALSE)/30),0)","v":"00:00:00"},0,{"$f":"+IF(Simulador!$G$26>='Cronograma Referencial'!B369,'Cronograma Referencial'!E368+VLOOKUP(Simulador!$G$27,Simulador!$V$18:$W$29,2,FALSE),0)","v":"00:00:00"},0,null,366,"00:00:00",{"$f":"+IFERROR(IF(VLOOKUP(I369,'BD Dias No utiles'!$B$9:$H$4077,7,FALSE)=\"X\",IF(VLOOKUP(I369+1,'BD Dias No utiles'!$B$9:$H$4077,7,FALSE)=\"X\",IF(VLOOKUP(I369+2,'BD Dias No utiles'!$B$9:$H$4077,7,FALSE)=\"X\",I369+3,I369+2),I369+1),I369),0)","v":"00:00:00"},0]
[null,367,{"$f":"+IF(Simulador!$G$26>='Cronograma Referencial'!B370,EDATE(C369,(B370-B369)*VLOOKUP(Simulador!$G$27,Simulador!$V$18:$W$29,2,FALSE)/30),0)","v":"00:00:00"},0,{"$f":"+IF(Simulador!$G$26>='Cronograma Referencial'!B370,'Cronograma Referencial'!E369+VLOOKUP(Simulador!$G$27,Simulador!$V$18:$W$29,2,FALSE),0)","v":"00:00:00"},0,null,367,"00:00:00",{"$f":"+IFERROR(IF(VLOOKUP(I370,'BD Dias No utiles'!$B$9:$H$4077,7,FALSE)=\"X\",IF(VLOOKUP(I370+1,'BD Dias No utiles'!$B$9:$H$4077,7,FALSE)=\"X\",IF(VLOOKUP(I370+2,'BD Dias No utiles'!$B$9:$H$4077,7,FALSE)=\"X\",I370+3,I370+2),I370+1),I370),0)","v":"00:00:00"},0]
[null,368,{"$f":"+IF(Simulador!$G$26>='Cronograma Referencial'!B371,EDATE(C370,(B371-B370)*VLOOKUP(Simulador!$G$27,Simulador!$V$18:$W$29,2,FALSE)/30),0)","v":"00:00:00"},0,{"$f":"+IF(Simulador!$G$26>='Cronograma Referencial'!B371,'Cronograma Referencial'!E370+VLOOKUP(Simulador!$G$27,Simulador!$V$18:$W$29,2,FALSE),0)","v":"00:00:00"},0,null,368,"00:00:00",{"$f":"+IFERROR(IF(VLOOKUP(I371,'BD Dias No utiles'!$B$9:$H$4077,7,FALSE)=\"X\",IF(VLOOKUP(I371+1,'BD Dias No utiles'!$B$9:$H$4077,7,FALSE)=\"X\",IF(VLOOKUP(I371+2,'BD Dias No utiles'!$B$9:$H$4077,7,FALSE)=\"X\",I371+3,I371+2),I371+1),I371),0)","v":"00:00:00"},0]
[null,369,{"$f":"+IF(Simulador!$G$26>='Cronograma Referencial'!B372,EDATE(C371,(B372-B371)*VLOOKUP(Simulador!$G$27,Simulador!$V$18:$W$29,2,FALSE)/30),0)","v":"00:00:00"},0,{"$f":"+IF(Simulador!$G$26>='Cronograma Referencial'!B372,'Cronograma Referencial'!E371+VLOOKUP(Simulador!$G$27,Simulador!$V$18:$W$29,2,FALSE),0)","v":"00:00:00"},0,null,369,"00:00:00",{"$f":"+IFERROR(IF(VLOOKUP(I372,'BD Dias No utiles'!$B$9:$H$4077,7,FALSE)=\"X\",IF(VLOOKUP(I372+1,'BD Dias No utiles'!$B$9:$H$4077,7,FALSE)=\"X\",IF(VLOOKUP(I372+2,'BD Dias No utiles'!$B$9:$H$4077,7,FALSE)=\"X\",I372+3,I372+2),I372+1),I372),0)","v":"00:00:00"},0]
[null,370,{"$f":"+IF(Simulador!$G$26>='Cronograma Referencial'!B373,EDATE(C372,(B373-B372)*VLOOKUP(Simulador!$G$27,Simulador!$V$18:$W$29,2,FALSE)/30),0)","v":"00:00:00"},0,{"$f":"+IF(Simulador!$G$26>='Cronograma Referencial'!B373,'Cronograma Referencial'!E372+VLOOKUP(Simulador!$G$27,Simulador!$V$18:$W$29,2,FALSE),0)","v":"00:00:00"},0,null,370,"00:00:00",{"$f":"+IFERROR(IF(VLOOKUP(I373,'BD Dias No utiles'!$B$9:$H$4077,7,FALSE)=\"X\",IF(VLOOKUP(I373+1,'BD Dias No utiles'!$B$9:$H$4077,7,FALSE)=\"X\",IF(VLOOKUP(I373+2,'BD Dias No utiles'!$B$9:$H$4077,7,FALSE)=\"X\",I373+3,I373+2),I373+1),I373),0)","v":"00:00:00"},0]
[null,371,{"$f":"+IF(Simulador!$G$26>='Cronograma Referencial'!B374,EDATE(C373,(B374-B373)*VLOOKUP(Simulador!$G$27,Simulador!$V$18:$W$29,2,FALSE)/30),0)","v":"00:00:00"},0,{"$f":"+IF(Simulador!$G$26>='Cronograma Referencial'!B374,'Cronograma Referencial'!E373+VLOOKUP(Simulador!$G$27,Simulador!$V$18:$W$29,2,FALSE),0)","v":"00:00:00"},0,null,371,"00:00:00",{"$f":"+IFERROR(IF(VLOOKUP(I374,'BD Dias No utiles'!$B$9:$H$4077,7,FALSE)=\"X\",IF(VLOOKUP(I374+1,'BD Dias No utiles'!$B$9:$H$4077,7,FALSE)=\"X\",IF(VLOOKUP(I374+2,'BD Dias No utiles'!$B$9:$H$4077,7,FALSE)=\"X\",I374+3,I374+2),I374+1),I374),0)","v":"00:00:00"},0]
[null,372,{"$f":"+IF(Simulador!$G$26>='Cronograma Referencial'!B375,EDATE(C374,(B375-B374)*VLOOKUP(Simulador!$G$27,Simulador!$V$18:$W$29,2,FALSE)/30),0)","v":"00:00:00"},0,{"$f":"+IF(Simulador!$G$26>='Cronograma Referencial'!B375,'Cronograma Referencial'!E374+VLOOKUP(Simulador!$G$27,Simulador!$V$18:$W$29,2,FALSE),0)","v":"00:00:00"},0,null,372,"00:00:00",{"$f":"+IFERROR(IF(VLOOKUP(I375,'BD Dias No utiles'!$B$9:$H$4077,7,FALSE)=\"X\",IF(VLOOKUP(I375+1,'BD Dias No utiles'!$B$9:$H$4077,7,FALSE)=\"X\",IF(VLOOKUP(I375+2,'BD Dias No utiles'!$B$9:$H$4077,7,FALSE)=\"X\",I375+3,I375+2),I375+1),I375),0)","v":"00:00:00"},0]
[null,373,{"$f":"+IF(Simulador!$G$26>='Cronograma Referencial'!B376,EDATE(C375,(B376-B375)*VLOOKUP(Simulador!$G$27,Simulador!$V$18:$W$29,2,FALSE)/30),0)","v":"00:00:00"},0,{"$f":"+IF(Simulador!$G$26>='Cronograma Referencial'!B376,'Cronograma Referencial'!E375+VLOOKUP(Simulador!$G$27,Simulador!$V$18:$W$29,2,FALSE),0)","v":"00:00:00"},0,null,373,"00:00:00",{"$f":"+IFERROR(IF(VLOOKUP(I376,'BD Dias No utiles'!$B$9:$H$4077,7,FALSE)=\"X\",IF(VLOOKUP(I376+1,'BD Dias No utiles'!$B$9:$H$4077,7,FALSE)=\"X\",IF(VLOOKUP(I376+2,'BD Dias No utiles'!$B$9:$H$4077,7,FALSE)=\"X\",I376+3,I376+2),I376+1),I376),0)","v":"00:00:00"},0]
[null,374,{"$f":"+IF(Simulador!$G$26>='Cronograma Referencial'!B377,EDATE(C376,(B377-B376)*VLOOKUP(Simulador!$G$27,Simulador!$V$18:$W$29,2,FALSE)/30),0)","v":"00:00:00"},0,{"$f":"+IF(Simulador!$G$26>='Cronograma Referencial'!B377,'Cronograma Referencial'!E376+VLOOKUP(Simulador!$G$27,Simulador!$V$18:$W$29,2,FALSE),0)","v":"00:00:00"},0,null,374,"00:00:00",{"$f":"+IFERROR(IF(VLOOKUP(I377,'BD Dias No utiles'!$B$9:$H$4077,7,FALSE)=\"X\",IF(VLOOKUP(I377+1,'BD Dias No utiles'!$B$9:$H$4077,7,FALSE)=\"X\",IF(VLOOKUP(I377+2,'BD Dias No utiles'!$B$9:$H$4077,7,FALSE)=\"X\",I377+3,I377+2),I377+1),I377),0)","v":"00:00:00"},0]
[null,375,{"$f":"+IF(Simulador!$G$26>='Cronograma Referencial'!B378,EDATE(C377,(B378-B377)*VLOOKUP(Simulador!$G$27,Simulador!$V$18:$W$29,2,FALSE)/30),0)","v":"00:00:00"},0,{"$f":"+IF(Simulador!$G$26>='Cronograma Referencial'!B378,'Cronograma Referencial'!E377+VLOOKUP(Simulador!$G$27,Simulador!$V$18:$W$29,2,FALSE),0)","v":"00:00:00"},0,null,375,"00:00:00",{"$f":"+IFERROR(IF(VLOOKUP(I378,'BD Dias No utiles'!$B$9:$H$4077,7,FALSE)=\"X\",IF(VLOOKUP(I378+1,'BD Dias No utiles'!$B$9:$H$4077,7,FALSE)=\"X\",IF(VLOOKUP(I378+2,'BD Dias No utiles'!$B$9:$H$4077,7,FALSE)=\"X\",I378+3,I378+2),I378+1),I378),0)","v":"00:00:00"},0]
[null,376,{"$f":"+IF(Simulador!$G$26>='Cronograma Referencial'!B379,EDATE(C378,(B379-B378)*VLOOKUP(Simulador!$G$27,Simulador!$V$18:$W$29,2,FALSE)/30),0)","v":"00:00:00"},0,{"$f":"+IF(Simulador!$G$26>='Cronograma Referencial'!B379,'Cronograma Referencial'!E378+VLOOKUP(Simulador!$G$27,Simulador!$V$18:$W$29,2,FALSE),0)","v":"00:00:00"},0,null,376,"00:00:00",{"$f":"+IFERROR(IF(VLOOKUP(I379,'BD Dias No utiles'!$B$9:$H$4077,7,FALSE)=\"X\",IF(VLOOKUP(I379+1,'BD Dias No utiles'!$B$9:$H$4077,7,FALSE)=\"X\",IF(VLOOKUP(I379+2,'BD Dias No utiles'!$B$9:$H$4077,7,FALSE)=\"X\",I379+3,I379+2),I379+1),I379),0)","v":"00:00:00"},0]
[null,377,{"$f":"+IF(Simulador!$G$26>='Cronograma Referencial'!B380,EDATE(C379,(B380-B379)*VLOOKUP(Simulador!$G$27,Simulador!$V$18:$W$29,2,FALSE)/30),0)","v":"00:00:00"},0,{"$f":"+IF(Simulador!$G$26>='Cronograma Referencial'!B380,'Cronograma Referencial'!E379+VLOOKUP(Simulador!$G$27,Simulador!$V$18:$W$29,2,FALSE),0)","v":"00:00:00"},0,null,377,"00:00:00",{"$f":"+IFERROR(IF(VLOOKUP(I380,'BD Dias No utiles'!$B$9:$H$4077,7,FALSE)=\"X\",IF(VLOOKUP(I380+1,'BD Dias No utiles'!$B$9:$H$4077,7,FALSE)=\"X\",IF(VLOOKUP(I380+2,'BD Dias No utiles'!$B$9:$H$4077,7,FALSE)=\"X\",I380+3,I380+2),I380+1),I380),0)","v":"00:00:00"},0]
[null,378,{"$f":"+IF(Simulador!$G$26>='Cronograma Referencial'!B381,EDATE(C380,(B381-B380)*VLOOKUP(Simulador!$G$27,Simulador!$V$18:$W$29,2,FALSE)/30),0)","v":"00:00:00"},0,{"$f":"+IF(Simulador!$G$26>='Cronograma Referencial'!B381,'Cronograma Referencial'!E380+VLOOKUP(Simulador!$G$27,Simulador!$V$18:$W$29,2,FALSE),0)","v":"00:00:00"},0,null,378,"00:00:00",{"$f":"+IFERROR(IF(VLOOKUP(I381,'BD Dias No utiles'!$B$9:$H$4077,7,FALSE)=\"X\",IF(VLOOKUP(I381+1,'BD Dias No utiles'!$B$9:$H$4077,7,FALSE)=\"X\",IF(VLOOKUP(I381+2,'BD Dias No utiles'!$B$9:$H$4077,7,FALSE)=\"X\",I381+3,I381+2),I381+1),I381),0)","v":"00:00:00"},0]
[null,379,{"$f":"+IF(Simulador!$G$26>='Cronograma Referencial'!B382,EDATE(C381,(B382-B381)*VLOOKUP(Simulador!$G$27,Simulador!$V$18:$W$29,2,FALSE)/30),0)","v":"00:00:00"},0,{"$f":"+IF(Simulador!$G$26>='Cronograma Referencial'!B382,'Cronograma Referencial'!E381+VLOOKUP(Simulador!$G$27,Simulador!$V$18:$W$29,2,FALSE),0)","v":"00:00:00"},0,null,379,"00:00:00",{"$f":"+IFERROR(IF(VLOOKUP(I382,'BD Dias No utiles'!$B$9:$H$4077,7,FALSE)=\"X\",IF(VLOOKUP(I382+1,'BD Dias No utiles'!$B$9:$H$4077,7,FALSE)=\"X\",IF(VLOOKUP(I382+2,'BD Dias No utiles'!$B$9:$H$4077,7,FALSE)=\"X\",I382+3,I382+2),I382+1),I382),0)","v":"00:00:00"},0]
[null,380,{"$f":"+IF(Simulador!$G$26>='Cronograma Referencial'!B383,EDATE(C382,(B383-B382)*VLOOKUP(Simulador!$G$27,Simulador!$V$18:$W$29,2,FALSE)/30),0)","v":"00:00:00"},0,{"$f":"+IF(Simulador!$G$26>='Cronograma Referencial'!B383,'Cronograma Referencial'!E382+VLOOKUP(Simulador!$G$27,Simulador!$V$18:$W$29,2,FALSE),0)","v":"00:00:00"},0,null,380,"00:00:00",{"$f":"+IFERROR(IF(VLOOKUP(I383,'BD Dias No utiles'!$B$9:$H$4077,7,FALSE)=\"X\",IF(VLOOKUP(I383+1,'BD Dias No utiles'!$B$9:$H$4077,7,FALSE)=\"X\",IF(VLOOKUP(I383+2,'BD Dias No utiles'!$B$9:$H$4077,7,FALSE)=\"X\",I383+3,I383+2),I383+1),I383),0)","v":"00:00:00"},0]
[null,381,{"$f":"+IF(Simulador!$G$26>='Cronograma Referencial'!B384,EDATE(C383,(B384-B383)*VLOOKUP(Simulador!$G$27,Simulador!$V$18:$W$29,2,FALSE)/30),0)","v":"00:00:00"},0,{"$f":"+IF(Simulador!$G$26>='Cronograma Referencial'!B384,'Cronograma Referencial'!E383+VLOOKUP(Simulador!$G$27,Simulador!$V$18:$W$29,2,FALSE),0)","v":"00:00:00"},0,null,381,"00:00:00",{"$f":"+IFERROR(IF(VLOOKUP(I384,'BD Dias No utiles'!$B$9:$H$4077,7,FALSE)=\"X\",IF(VLOOKUP(I384+1,'BD Dias No utiles'!$B$9:$H$4077,7,FALSE)=\"X\",IF(VLOOKUP(I384+2,'BD Dias No utiles'!$B$9:$H$4077,7,FALSE)=\"X\",I384+3,I384+2),I384+1),I384),0)","v":"00:00:00"},0]
[null,382,{"$f":"+IF(Simulador!$G$26>='Cronograma Referencial'!B385,EDATE(C384,(B385-B384)*VLOOKUP(Simulador!$G$27,Simulador!$V$18:$W$29,2,FALSE)/30),0)","v":"00:00:00"},0,{"$f":"+IF(Simulador!$G$26>='Cronograma Referencial'!B385,'Cronograma Referencial'!E384+VLOOKUP(Simulador!$G$27,Simulador!$V$18:$W$29,2,FALSE),0)","v":"00:00:00"},0,null,382,"00:00:00",{"$f":"+IFERROR(IF(VLOOKUP(I385,'BD Dias No utiles'!$B$9:$H$4077,7,FALSE)=\"X\",IF(VLOOKUP(I385+1,'BD Dias No utiles'!$B$9:$H$4077,7,FALSE)=\"X\",IF(VLOOKUP(I385+2,'BD Dias No utiles'!$B$9:$H$4077,7,FALSE)=\"X\",I385+3,I385+2),I385+1),I385),0)","v":"00:00:00"},0]
[null,383,{"$f":"+IF(Simulador!$G$26>='Cronograma Referencial'!B386,EDATE(C385,(B386-B385)*VLOOKUP(Simulador!$G$27,Simulador!$V$18:$W$29,2,FALSE)/30),0)","v":"00:00:00"},0,{"$f":"+IF(Simulador!$G$26>='Cronograma Referencial'!B386,'Cronograma Referencial'!E385+VLOOKUP(Simulador!$G$27,Simulador!$V$18:$W$29,2,FALSE),0)","v":"00:00:00"},0,null,383,"00:00:00",{"$f":"+IFERROR(IF(VLOOKUP(I386,'BD Dias No utiles'!$B$9:$H$4077,7,FALSE)=\"X\",IF(VLOOKUP(I386+1,'BD Dias No utiles'!$B$9:$H$4077,7,FALSE)=\"X\",IF(VLOOKUP(I386+2,'BD Dias No utiles'!$B$9:$H$4077,7,FALSE)=\"X\",I386+3,I386+2),I386+1),I386),0)","v":"00:00:00"},0]
[null,384,{"$f":"+IF(Simulador!$G$26>='Cronograma Referencial'!B387,EDATE(C386,(B387-B386)*VLOOKUP(Simulador!$G$27,Simulador!$V$18:$W$29,2,FALSE)/30),0)","v":"00:00:00"},0,{"$f":"+IF(Simulador!$G$26>='Cronograma Referencial'!B387,'Cronograma Referencial'!E386+VLOOKUP(Simulador!$G$27,Simulador!$V$18:$W$29,2,FALSE),0)","v":"00:00:00"},0,null,384,"00:00:00",{"$f":"+IFERROR(IF(VLOOKUP(I387,'BD Dias No utiles'!$B$9:$H$4077,7,FALSE)=\"X\",IF(VLOOKUP(I387+1,'BD Dias No utiles'!$B$9:$H$4077,7,FALSE)=\"X\",IF(VLOOKUP(I387+2,'BD Dias No utiles'!$B$9:$H$4077,7,FALSE)=\"X\",I387+3,I387+2),I387+1),I387),0)","v":"00:00:00"},0]
[null,385,{"$f":"+IF(Simulador!$G$26>='Cronograma Referencial'!B388,EDATE(C387,(B388-B387)*VLOOKUP(Simulador!$G$27,Simulador!$V$18:$W$29,2,FALSE)/30),0)","v":"00:00:00"},0,{"$f":"+IF(Simulador!$G$26>='Cronograma Referencial'!B388,'Cronograma Referencial'!E387+VLOOKUP(Simulador!$G$27,Simulador!$V$18:$W$29,2,FALSE),0)","v":"00:00:00"},0,null,{"$f":"+B388","v":385},"00:00:00",{"$f":"+IFERROR(IF(VLOOKUP(I388,'BD Dias No utiles'!$B$9:$H$4077,7,FALSE)=\"X\",IF(VLOOKUP(I388+1,'BD Dias No utiles'!$B$9:$H$4077,7,FALSE)=\"X\",IF(VLOOKUP(I388+2,'BD Dias No utiles'!$B$9:$H$4077,7,FALSE)=\"X\",I388+3,I388+2),I388+1),I388),0)","v":"00:00:00"},0]
[null,386,{"$f":"+IF(Simulador!$G$26>='Cronograma Referencial'!B389,EDATE(C388,(B389-B388)*VLOOKUP(Simulador!$G$27,Simulador!$V$18:$W$29,2,FALSE)/30),0)","v":"00:00:00"},{"$f":"+C389-C388","v":0},{"$f":"+IF(Simulador!$G$26>='Cronograma Referencial'!B389,'Cronograma Referencial'!E388+VLOOKUP(Simulador!$G$27,Simulador!$V$18:$W$29,2,FALSE),0)","v":"00:00:00"},0,null,386,{"$f":"+HLOOKUP($I$2,$C$2:$E$418,H389+2)","v":"00:00:00"},{"$f":"+IFERROR(IF(VLOOKUP(I389,'BD Dias No utiles'!$B$9:$H$4077,7,FALSE)=\"X\",IF(VLOOKUP(I389+1,'BD Dias No utiles'!$B$9:$H$4077,7,FALSE)=\"X\",IF(VLOOKUP(I389+2,'BD Dias No utiles'!$B$9:$H$4077,7,FALSE)=\"X\",I389+3,I389+2),I389+1),I389),0)","v":"00:00:00"},{"$f":"+I389-I388","v":0}]
[null,{"$f":"+B389+1","v":387},{"$f":"+IF(Simulador!$G$26>='Cronograma Referencial'!B390,EDATE(C389,(B390-B389)*VLOOKUP(Simulador!$G$27,Simulador!$V$18:$W$29,2,FALSE)/30),0)","v":"00:00:00"},0,{"$f":"+IF(Simulador!$G$26>='Cronograma Referencial'!B390,'Cronograma Referencial'!E389+VLOOKUP(Simulador!$G$27,Simulador!$V$18:$W$29,2,FALSE),0)","v":"00:00:00"},{"$f":"+E390-E389","v":0},null,387,"00:00:00",{"$f":"+IFERROR(IF(VLOOKUP(I390,'BD Dias No utiles'!$B$9:$H$4077,7,FALSE)=\"X\",IF(VLOOKUP(I390+1,'BD Dias No utiles'!$B$9:$H$4077,7,FALSE)=\"X\",IF(VLOOKUP(I390+2,'BD Dias No utiles'!$B$9:$H$4077,7,FALSE)=\"X\",I390+3,I390+2),I390+1),I390),0)","v":"00:00:00"},0]
[null,388,{"$f":"+IF(Simulador!$G$26>='Cronograma Referencial'!B391,EDATE(C390,(B391-B390)*VLOOKUP(Simulador!$G$27,Simulador!$V$18:$W$29,2,FALSE)/30),0)","v":"00:00:00"},0,{"$f":"+IF(Simulador!$G$26>='Cronograma Referencial'!B391,'Cronograma Referencial'!E390+VLOOKUP(Simulador!$G$27,Simulador!$V$18:$W$29,2,FALSE),0)","v":"00:00:00"},0,null,388,"00:00:00",{"$f":"+IFERROR(IF(VLOOKUP(I391,'BD Dias No utiles'!$B$9:$H$4077,7,FALSE)=\"X\",IF(VLOOKUP(I391+1,'BD Dias No utiles'!$B$9:$H$4077,7,FALSE)=\"X\",IF(VLOOKUP(I391+2,'BD Dias No utiles'!$B$9:$H$4077,7,FALSE)=\"X\",I391+3,I391+2),I391+1),I391),0)","v":"00:00:00"},0]
[null,389,{"$f":"+IF(Simulador!$G$26>='Cronograma Referencial'!B392,EDATE(C391,(B392-B391)*VLOOKUP(Simulador!$G$27,Simulador!$V$18:$W$29,2,FALSE)/30),0)","v":"00:00:00"},0,{"$f":"+IF(Simulador!$G$26>='Cronograma Referencial'!B392,'Cronograma Referencial'!E391+VLOOKUP(Simulador!$G$27,Simulador!$V$18:$W$29,2,FALSE),0)","v":"00:00:00"},0,null,389,"00:00:00",{"$f":"+IFERROR(IF(VLOOKUP(I392,'BD Dias No utiles'!$B$9:$H$4077,7,FALSE)=\"X\",IF(VLOOKUP(I392+1,'BD Dias No utiles'!$B$9:$H$4077,7,FALSE)=\"X\",IF(VLOOKUP(I392+2,'BD Dias No utiles'!$B$9:$H$4077,7,FALSE)=\"X\",I392+3,I392+2),I392+1),I392),0)","v":"00:00:00"},0]
[null,390,{"$f":"+IF(Simulador!$G$26>='Cronograma Referencial'!B393,EDATE(C392,(B393-B392)*VLOOKUP(Simulador!$G$27,Simulador!$V$18:$W$29,2,FALSE)/30),0)","v":"00:00:00"},0,{"$f":"+IF(Simulador!$G$26>='Cronograma Referencial'!B393,'Cronograma Referencial'!E392+VLOOKUP(Simulador!$G$27,Simulador!$V$18:$W$29,2,FALSE),0)","v":"00:00:00"},0,null,390,"00:00:00",{"$f":"+IFERROR(IF(VLOOKUP(I393,'BD Dias No utiles'!$B$9:$H$4077,7,FALSE)=\"X\",IF(VLOOKUP(I393+1,'BD Dias No utiles'!$B$9:$H$4077,7,FALSE)=\"X\",IF(VLOOKUP(I393+2,'BD Dias No utiles'!$B$9:$H$4077,7,FALSE)=\"X\",I393+3,I393+2),I393+1),I393),0)","v":"00:00:00"},0]
[null,391,{"$f":"+IF(Simulador!$G$26>='Cronograma Referencial'!B394,EDATE(C393,(B394-B393)*VLOOKUP(Simulador!$G$27,Simulador!$V$18:$W$29,2,FALSE)/30),0)","v":"00:00:00"},0,{"$f":"+IF(Simulador!$G$26>='Cronograma Referencial'!B394,'Cronograma Referencial'!E393+VLOOKUP(Simulador!$G$27,Simulador!$V$18:$W$29,2,FALSE),0)","v":"00:00:00"},0,null,391,"00:00:00",{"$f":"+IFERROR(IF(VLOOKUP(I394,'BD Dias No utiles'!$B$9:$H$4077,7,FALSE)=\"X\",IF(VLOOKUP(I394+1,'BD Dias No utiles'!$B$9:$H$4077,7,FALSE)=\"X\",IF(VLOOKUP(I394+2,'BD Dias No utiles'!$B$9:$H$4077,7,FALSE)=\"X\",I394+3,I394+2),I394+1),I394),0)","v":"00:00:00"},0]
[null,392,{"$f":"+IF(Simulador!$G$26>='Cronograma Referencial'!B395,EDATE(C394,(B395-B394)*VLOOKUP(Simulador!$G$27,Simulador!$V$18:$W$29,2,FALSE)/30),0)","v":"00:00:00"},0,{"$f":"+IF(Simulador!$G$26>='Cronograma Referencial'!B395,'Cronograma Referencial'!E394+VLOOKUP(Simulador!$G$27,Simulador!$V$18:$W$29,2,FALSE),0)","v":"00:00:00"},0,null,392,"00:00:00",{"$f":"+IFERROR(IF(VLOOKUP(I395,'BD Dias No utiles'!$B$9:$H$4077,7,FALSE)=\"X\",IF(VLOOKUP(I395+1,'BD Dias No utiles'!$B$9:$H$4077,7,FALSE)=\"X\",IF(VLOOKUP(I395+2,'BD Dias No utiles'!$B$9:$H$4077,7,FALSE)=\"X\",I395+3,I395+2),I395+1),I395),0)","v":"00:00:00"},0]
[null,393,{"$f":"+IF(Simulador!$G$26>='Cronograma Referencial'!B396,EDATE(C395,(B396-B395)*VLOOKUP(Simulador!$G$27,Simulador!$V$18:$W$29,2,FALSE)/30),0)","v":"00:00:00"},0,{"$f":"+IF(Simulador!$G$26>='Cronograma Referencial'!B396,'Cronograma Referencial'!E395+VLOOKUP(Simulador!$G$27,Simulador!$V$18:$W$29,2,FALSE),0)","v":"00:00:00"},0,null,393,"00:00:00",{"$f":"+IFERROR(IF(VLOOKUP(I396,'BD Dias No utiles'!$B$9:$H$4077,7,FALSE)=\"X\",IF(VLOOKUP(I396+1,'BD Dias No utiles'!$B$9:$H$4077,7,FALSE)=\"X\",IF(VLOOKUP(I396+2,'BD Dias No utiles'!$B$9:$H$4077,7,FALSE)=\"X\",I396+3,I396+2),I396+1),I396),0)","v":"00:00:00"},0]
[null,394,{"$f":"+IF(Simulador!$G$26>='Cronograma Referencial'!B397,EDATE(C396,(B397-B396)*VLOOKUP(Simulador!$G$27,Simulador!$V$18:$W$29,2,FALSE)/30),0)","v":"00:00:00"},0,{"$f":"+IF(Simulador!$G$26>='Cronograma Referencial'!B397,'Cronograma Referencial'!E396+VLOOKUP(Simulador!$G$27,Simulador!$V$18:$W$29,2,FALSE),0)","v":"00:00:00"},0,null,394,"00:00:00",{"$f":"+IFERROR(IF(VLOOKUP(I397,'BD Dias No utiles'!$B$9:$H$4077,7,FALSE)=\"X\",IF(VLOOKUP(I397+1,'BD Dias No utiles'!$B$9:$H$4077,7,FALSE)=\"X\",IF(VLOOKUP(I397+2,'BD Dias No utiles'!$B$9:$H$4077,7,FALSE)=\"X\",I397+3,I397+2),I397+1),I397),0)","v":"00:00:00"},0]
[null,395,{"$f":"+IF(Simulador!$G$26>='Cronograma Referencial'!B398,EDATE(C397,(B398-B397)*VLOOKUP(Simulador!$G$27,Simulador!$V$18:$W$29,2,FALSE)/30),0)","v":"00:00:00"},0,{"$f":"+IF(Simulador!$G$26>='Cronograma Referencial'!B398,'Cronograma Referencial'!E397+VLOOKUP(Simulador!$G$27,Simulador!$V$18:$W$29,2,FALSE),0)","v":"00:00:00"},0,null,395,"00:00:00",{"$f":"+IFERROR(IF(VLOOKUP(I398,'BD Dias No utiles'!$B$9:$H$4077,7,FALSE)=\"X\",IF(VLOOKUP(I398+1,'BD Dias No utiles'!$B$9:$H$4077,7,FALSE)=\"X\",IF(VLOOKUP(I398+2,'BD Dias No utiles'!$B$9:$H$4077,7,FALSE)=\"X\",I398+3,I398+2),I398+1),I398),0)","v":"00:00:00"},0]
[null,396,{"$f":"+IF(Simulador!$G$26>='Cronograma Referencial'!B399,EDATE(C398,(B399-B398)*VLOOKUP(Simulador!$G$27,Simulador!$V$18:$W$29,2,FALSE)/30),0)","v":"00:00:00"},0,{"$f":"+IF(Simulador!$G$26>='Cronograma Referencial'!B399,'Cronograma Referencial'!E398+VLOOKUP(Simulador!$G$27,Simulador!$V$18:$W$29,2,FALSE),0)","v":"00:00:00"},0,null,396,"00:00:00",{"$f":"+IFERROR(IF(VLOOKUP(I399,'BD Dias No utiles'!$B$9:$H$4077,7,FALSE)=\"X\",IF(VLOOKUP(I399+1,'BD Dias No utiles'!$B$9:$H$4077,7,FALSE)=\"X\",IF(VLOOKUP(I399+2,'BD Dias No utiles'!$B$9:$H$4077,7,FALSE)=\"X\",I399+3,I399+2),I399+1),I399),0)","v":"00:00:00"},0]
[null,397,{"$f":"+IF(Simulador!$G$26>='Cronograma Referencial'!B400,EDATE(C399,(B400-B399)*VLOOKUP(Simulador!$G$27,Simulador!$V$18:$W$29,2,FALSE)/30),0)","v":"00:00:00"},0,{"$f":"+IF(Simulador!$G$26>='Cronograma Referencial'!B400,'Cronograma Referencial'!E399+VLOOKUP(Simulador!$G$27,Simulador!$V$18:$W$29,2,FALSE),0)","v":"00:00:00"},0,null,397,"00:00:00",{"$f":"+IFERROR(IF(VLOOKUP(I400,'BD Dias No utiles'!$B$9:$H$4077,7,FALSE)=\"X\",IF(VLOOKUP(I400+1,'BD Dias No utiles'!$B$9:$H$4077,7,FALSE)=\"X\",IF(VLOOKUP(I400+2,'BD Dias No utiles'!$B$9:$H$4077,7,FALSE)=\"X\",I400+3,I400+2),I400+1),I400),0)","v":"00:00:00"},0]
[null,398,{"$f":"+IF(Simulador!$G$26>='Cronograma Referencial'!B401,EDATE(C400,(B401-B400)*VLOOKUP(Simulador!$G$27,Simulador!$V$18:$W$29,2,FALSE)/30),0)","v":"00:00:00"},0,{"$f":"+IF(Simulador!$G$26>='Cronograma Referencial'!B401,'Cronograma Referencial'!E400+VLOOKUP(Simulador!$G$27,Simulador!$V$18:$W$29,2,FALSE),0)","v":"00:00:00"},0,null,398,"00:00:00",{"$f":"+IFERROR(IF(VLOOKUP(I401,'BD Dias No utiles'!$B$9:$H$4077,7,FALSE)=\"X\",IF(VLOOKUP(I401+1,'BD Dias No utiles'!$B$9:$H$4077,7,FALSE)=\"X\",IF(VLOOKUP(I401+2,'BD Dias No utiles'!$B$9:$H$4077,7,FALSE)=\"X\",I401+3,I401+2),I401+1),I401),0)","v":"00:00:00"},0]
[null,399,{"$f":"+IF(Simulador!$G$26>='Cronograma Referencial'!B402,EDATE(C401,(B402-B401)*VLOOKUP(Simulador!$G$27,Simulador!$V$18:$W$29,2,FALSE)/30),0)","v":"00:00:00"},0,{"$f":"+IF(Simulador!$G$26>='Cronograma Referencial'!B402,'Cronograma Referencial'!E401+VLOOKUP(Simulador!$G$27,Simulador!$V$18:$W$29,2,FALSE),0)","v":"00:00:00"},0,null,399,"00:00:00",{"$f":"+IFERROR(IF(VLOOKUP(I402,'BD Dias No utiles'!$B$9:$H$4077,7,FALSE)=\"X\",IF(VLOOKUP(I402+1,'BD Dias No utiles'!$B$9:$H$4077,7,FALSE)=\"X\",IF(VLOOKUP(I402+2,'BD Dias No utiles'!$B$9:$H$4077,7,FALSE)=\"X\",I402+3,I402+2),I402+1),I402),0)","v":"00:00:00"},0]
[null,400,{"$f":"+IF(Simulador!$G$26>='Cronograma Referencial'!B403,EDATE(C402,(B403-B402)*VLOOKUP(Simulador!$G$27,Simulador!$V$18:$W$29,2,FALSE)/30),0)","v":"00:00:00"},0,{"$f":"+IF(Simulador!$G$26>='Cronograma Referencial'!B403,'Cronograma Referencial'!E402+VLOOKUP(Simulador!$G$27,Simulador!$V$18:$W$29,2,FALSE),0)","v":"00:00:00"},0,null,400,"00:00:00",{"$f":"+IFERROR(IF(VLOOKUP(I403,'BD Dias No utiles'!$B$9:$H$4077,7,FALSE)=\"X\",IF(VLOOKUP(I403+1,'BD Dias No utiles'!$B$9:$H$4077,7,FALSE)=\"X\",IF(VLOOKUP(I403+2,'BD Dias No utiles'!$B$9:$H$4077,7,FALSE)=\"X\",I403+3,I403+2),I403+1),I403),0)","v":"00:00:00"},0]
[null,401,{"$f":"+IF(Simulador!$G$26>='Cronograma Referencial'!B404,EDATE(C403,(B404-B403)*VLOOKUP(Simulador!$G$27,Simulador!$V$18:$W$29,2,FALSE)/30),0)","v":"00:00:00"},0,{"$f":"+IF(Simulador!$G$26>='Cronograma Referencial'!B404,'Cronograma Referencial'!E403+VLOOKUP(Simulador!$G$27,Simulador!$V$18:$W$29,2,FALSE),0)","v":"00:00:00"},0,null,401,"00:00:00",{"$f":"+IFERROR(IF(VLOOKUP(I404,'BD Dias No utiles'!$B$9:$H$4077,7,FALSE)=\"X\",IF(VLOOKUP(I404+1,'BD Dias No utiles'!$B$9:$H$4077,7,FALSE)=\"X\",IF(VLOOKUP(I404+2,'BD Dias No utiles'!$B$9:$H$4077,7,FALSE)=\"X\",I404+3,I404+2),I404+1),I404),0)","v":"00:00:00"},0]
[null,402,{"$f":"+IF(Simulador!$G$26>='Cronograma Referencial'!B405,EDATE(C404,(B405-B404)*VLOOKUP(Simulador!$G$27,Simulador!$V$18:$W$29,2,FALSE)/30),0)","v":"00:00:00"},0,{"$f":"+IF(Simulador!$G$26>='Cronograma Referencial'!B405,'Cronograma Referencial'!E404+VLOOKUP(Simulador!$G$27,Simulador!$V$18:$W$29,2,FALSE),0)","v":"00:00:00"},0,null,402,"00:00:00",{"$f":"+IFERROR(IF(VLOOKUP(I405,'BD Dias No utiles'!$B$9:$H$4077,7,FALSE)=\"X\",IF(VLOOKUP(I405+1,'BD Dias No utiles'!$B$9:$H$4077,7,FALSE)=\"X\",IF(VLOOKUP(I405+2,'BD Dias No utiles'!$B$9:$H$4077,7,FALSE)=\"X\",I405+3,I405+2),I405+1),I405),0)","v":"00:00:00"},0]
[null,403,{"$f":"+IF(Simulador!$G$26>='Cronograma Referencial'!B406,EDATE(C405,(B406-B405)*VLOOKUP(Simulador!$G$27,Simulador!$V$18:$W$29,2,FALSE)/30),0)","v":"00:00:00"},0,{"$f":"+IF(Simulador!$G$26>='Cronograma Referencial'!B406,'Cronograma Referencial'!E405+VLOOKUP(Simulador!$G$27,Simulador!$V$18:$W$29,2,FALSE),0)","v":"00:00:00"},0,null,403,"00:00:00",{"$f":"+IFERROR(IF(VLOOKUP(I406,'BD Dias No utiles'!$B$9:$H$4077,7,FALSE)=\"X\",IF(VLOOKUP(I406+1,'BD Dias No utiles'!$B$9:$H$4077,7,FALSE)=\"X\",IF(VLOOKUP(I406+2,'BD Dias No utiles'!$B$9:$H$4077,7,FALSE)=\"X\",I406+3,I406+2),I406+1),I406),0)","v":"00:00:00"},0]
[null,404,{"$f":"+IF(Simulador!$G$26>='Cronograma Referencial'!B407,EDATE(C406,(B407-B406)*VLOOKUP(Simulador!$G$27,Simulador!$V$18:$W$29,2,FALSE)/30),0)","v":"00:00:00"},0,{"$f":"+IF(Simulador!$G$26>='Cronograma Referencial'!B407,'Cronograma Referencial'!E406+VLOOKUP(Simulador!$G$27,Simulador!$V$18:$W$29,2,FALSE),0)","v":"00:00:00"},0,null,404,"00:00:00",{"$f":"+IFERROR(IF(VLOOKUP(I407,'BD Dias No utiles'!$B$9:$H$4077,7,FALSE)=\"X\",IF(VLOOKUP(I407+1,'BD Dias No utiles'!$B$9:$H$4077,7,FALSE)=\"X\",IF(VLOOKUP(I407+2,'BD Dias No utiles'!$B$9:$H$4077,7,FALSE)=\"X\",I407+3,I407+2),I407+1),I407),0)","v":"00:00:00"},0]
[null,405,{"$f":"+IF(Simulador!$G$26>='Cronograma Referencial'!B408,EDATE(C407,(B408-B407)*VLOOKUP(Simulador!$G$27,Simulador!$V$18:$W$29,2,FALSE)/30),0)","v":"00:00:00"},0,{"$f":"+IF(Simulador!$G$26>='Cronograma Referencial'!B408,'Cronograma Referencial'!E407+VLOOKUP(Simulador!$G$27,Simulador!$V$18:$W$29,2,FALSE),0)","v":"00:00:00"},0,null,405,"00:00:00",{"$f":"+IFERROR(IF(VLOOKUP(I408,'BD Dias No utiles'!$B$9:$H$4077,7,FALSE)=\"X\",IF(VLOOKUP(I408+1,'BD Dias No utiles'!$B$9:$H$4077,7,FALSE)=\"X\",IF(VLOOKUP(I408+2,'BD Dias No utiles'!$B$9:$H$4077,7,FALSE)=\"X\",I408+3,I408+2),I408+1),I408),0)","v":"00:00:00"},0]
[null,406,{"$f":"+IF(Simulador!$G$26>='Cronograma Referencial'!B409,EDATE(C408,(B409-B408)*VLOOKUP(Simulador!$G$27,Simulador!$V$18:$W$29,2,FALSE)/30),0)","v":"00:00:00"},0,{"$f":"+IF(Simulador!$G$26>='Cronograma Referencial'!B409,'Cronograma Referencial'!E408+VLOOKUP(Simulador!$G$27,Simulador!$V$18:$W$29,2,FALSE),0)","v":"00:00:00"},0,null,406,"00:00:00",{"$f":"+IFERROR(IF(VLOOKUP(I409,'BD Dias No utiles'!$B$9:$H$4077,7,FALSE)=\"X\",IF(VLOOKUP(I409+1,'BD Dias No utiles'!$B$9:$H$4077,7,FALSE)=\"X\",IF(VLOOKUP(I409+2,'BD Dias No utiles'!$B$9:$H$4077,7,FALSE)=\"X\",I409+3,I409+2),I409+1),I409),0)","v":"00:00:00"},0]
[null,407,{"$f":"+IF(Simulador!$G$26>='Cronograma Referencial'!B410,EDATE(C409,(B410-B409)*VLOOKUP(Simulador!$G$27,Simulador!$V$18:$W$29,2,FALSE)/30),0)","v":"00:00:00"},0,{"$f":"+IF(Simulador!$G$26>='Cronograma Referencial'!B410,'Cronograma Referencial'!E409+VLOOKUP(Simulador!$G$27,Simulador!$V$18:$W$29,2,FALSE),0)","v":"00:00:00"},0,null,407,"00:00:00",{"$f":"+IFERROR(IF(VLOOKUP(I410,'BD Dias No utiles'!$B$9:$H$4077,7,FALSE)=\"X\",IF(VLOOKUP(I410+1,'BD Dias No utiles'!$B$9:$H$4077,7,FALSE)=\"X\",IF(VLOOKUP(I410+2,'BD Dias No utiles'!$B$9:$H$4077,7,FALSE)=\"X\",I410+3,I410+2),I410+1),I410),0)","v":"00:00:00"},0]
[null,408,{"$f":"+IF(Simulador!$G$26>='Cronograma Referencial'!B411,EDATE(C410,(B411-B410)*VLOOKUP(Simulador!$G$27,Simulador!$V$18:$W$29,2,FALSE)/30),0)","v":"00:00:00"},0,{"$f":"+IF(Simulador!$G$26>='Cronograma Referencial'!B411,'Cronograma Referencial'!E410+VLOOKUP(Simulador!$G$27,Simulador!$V$18:$W$29,2,FALSE),0)","v":"00:00:00"},0,null,408,"00:00:00",{"$f":"+IFERROR(IF(VLOOKUP(I411,'BD Dias No utiles'!$B$9:$H$4077,7,FALSE)=\"X\",IF(VLOOKUP(I411+1,'BD Dias No utiles'!$B$9:$H$4077,7,FALSE)=\"X\",IF(VLOOKUP(I411+2,'BD Dias No utiles'!$B$9:$H$4077,7,FALSE)=\"X\",I411+3,I411+2),I411+1),I411),0)","v":"00:00:00"},0]
[null,409,{"$f":"+IF(Simulador!$G$26>='Cronograma Referencial'!B412,EDATE(C411,(B412-B411)*VLOOKUP(Simulador!$G$27,Simulador!$V$18:$W$29,2,FALSE)/30),0)","v":"00:00:00"},0,{"$f":"+IF(Simulador!$G$26>='Cronograma Referencial'!B412,'Cronograma Referencial'!E411+VLOOKUP(Simulador!$G$27,Simulador!$V$18:$W$29,2,FALSE),0)","v":"00:00:00"},0,null,409,"00:00:00",{"$f":"+IFERROR(IF(VLOOKUP(I412,'BD Dias No utiles'!$B$9:$H$4077,7,FALSE)=\"X\",IF(VLOOKUP(I412+1,'BD Dias No utiles'!$B$9:$H$4077,7,FALSE)=\"X\",IF(VLOOKUP(I412+2,'BD Dias No utiles'!$B$9:$H$4077,7,FALSE)=\"X\",I412+3,I412+2),I412+1),I412),0)","v":"00:00:00"},0]
[null,410,{"$f":"+IF(Simulador!$G$26>='Cronograma Referencial'!B413,EDATE(C412,(B413-B412)*VLOOKUP(Simulador!$G$27,Simulador!$V$18:$W$29,2,FALSE)/30),0)","v":"00:00:00"},0,{"$f":"+IF(Simulador!$G$26>='Cronograma Referencial'!B413,'Cronograma Referencial'!E412+VLOOKUP(Simulador!$G$27,Simulador!$V$18:$W$29,2,FALSE),0)","v":"00:00:00"},0,null,410,"00:00:00",{"$f":"+IFERROR(IF(VLOOKUP(I413,'BD Dias No utiles'!$B$9:$H$4077,7,FALSE)=\"X\",IF(VLOOKUP(I413+1,'BD Dias No utiles'!$B$9:$H$4077,7,FALSE)=\"X\",IF(VLOOKUP(I413+2,'BD Dias No utiles'!$B$9:$H$4077,7,FALSE)=\"X\",I413+3,I413+2),I413+1),I413),0)","v":"00:00:00"},0]
[null,411,{"$f":"+IF(Simulador!$G$26>='Cronograma Referencial'!B414,EDATE(C413,(B414-B413)*VLOOKUP(Simulador!$G$27,Simulador!$V$18:$W$29,2,FALSE)/30),0)","v":"00:00:00"},0,{"$f":"+IF(Simulador!$G$26>='Cronograma Referencial'!B414,'Cronograma Referencial'!E413+VLOOKUP(Simulador!$G$27,Simulador!$V$18:$W$29,2,FALSE),0)","v":"00:00:00"},0,null,411,"00:00:00",{"$f":"+IFERROR(IF(VLOOKUP(I414,'BD Dias No utiles'!$B$9:$H$4077,7,FALSE)=\"X\",IF(VLOOKUP(I414+1,'BD Dias No utiles'!$B$9:$H$4077,7,FALSE)=\"X\",IF(VLOOKUP(I414+2,'BD Dias No utiles'!$B$9:$H$4077,7,FALSE)=\"X\",I414+3,I414+2),I414+1),I414),0)","v":"00:00:00"},0]
[null,412,{"$f":"+IF(Simulador!$G$26>='Cronograma Referencial'!B415,EDATE(C414,(B415-B414)*VLOOKUP(Simulador!$G$27,Simulador!$V$18:$W$29,2,FALSE)/30),0)","v":"00:00:00"},0,{"$f":"+IF(Simulador!$G$26>='Cronograma Referencial'!B415,'Cronograma Referencial'!E414+VLOOKUP(Simulador!$G$27,Simulador!$V$18:$W$29,2,FALSE),0)","v":"00:00:00"},0,null,412,"00:00:00",{"$f":"+IFERROR(IF(VLOOKUP(I415,'BD Dias No utiles'!$B$9:$H$4077,7,FALSE)=\"X\",IF(VLOOKUP(I415+1,'BD Dias No utiles'!$B$9:$H$4077,7,FALSE)=\"X\",IF(VLOOKUP(I415+2,'BD Dias No utiles'!$B$9:$H$4077,7,FALSE)=\"X\",I415+3,I415+2),I415+1),I415),0)","v":"00:00:00"},0]
[null,413,{"$f":"+IF(Simulador!$G$26>='Cronograma Referencial'!B416,EDATE(C415,(B416-B415)*VLOOKUP(Simulador!$G$27,Simulador!$V$18:$W$29,2,FALSE)/30),0)","v":"00:00:00"},0,{"$f":"+IF(Simulador!$G$26>='Cronograma Referencial'!B416,'Cronograma Referencial'!E415+VLOOKUP(Simulador!$G$27,Simulador!$V$18:$W$29,2,FALSE),0)","v":"00:00:00"},0,null,413,"00:00:00",{"$f":"+IFERROR(IF(VLOOKUP(I416,'BD Dias No utiles'!$B$9:$H$4077,7,FALSE)=\"X\",IF(VLOOKUP(I416+1,'BD Dias No utiles'!$B$9:$H$4077,7,FALSE)=\"X\",IF(VLOOKUP(I416+2,'BD Dias No utiles'!$B$9:$H$4077,7,FALSE)=\"X\",I416+3,I416+2),I416+1),I416),0)","v":"00:00:00"},0]
[null,414,{"$f":"+IF(Simulador!$G$26>='Cronograma Referencial'!B417,EDATE(C416,(B417-B416)*VLOOKUP(Simulador!$G$27,Simulador!$V$18:$W$29,2,FALSE)/30),0)","v":"00:00:00"},0,{"$f":"+IF(Simulador!$G$26>='Cronograma Referencial'!B417,'Cronograma Referencial'!E416+VLOOKUP(Simulador!$G$27,Simulador!$V$18:$W$29,2,FALSE),0)","v":"00:00:00"},0,null,414,"00:00:00",{"$f":"+IFERROR(IF(VLOOKUP(I417,'BD Dias No utiles'!$B$9:$H$4077,7,FALSE)=\"X\",IF(VLOOKUP(I417+1,'BD Dias No utiles'!$B$9:$H$4077,7,FALSE)=\"X\",IF(VLOOKUP(I417+2,'BD Dias No utiles'!$B$9:$H$4077,7,FALSE)=\"X\",I417+3,I417+2),I417+1),I417),0)","v":"00:00:00"},0]
[null,415,{"$f":"+IF(Simulador!$G$26>='Cronograma Referencial'!B418,EDATE(C417,(B418-B417)*VLOOKUP(Simulador!$G$27,Simulador!$V$18:$W$29,2,FALSE)/30),0)","v":"00:00:00"},0,{"$f":"+IF(Simulador!$G$26>='Cronograma Referencial'!B418,'Cronograma Referencial'!E417+VLOOKUP(Simulador!$G$27,Simulador!$V$18:$W$29,2,FALSE),0)","v":"00:00:00"},0,null,415,"00:00:00",{"$f":"+IFERROR(IF(VLOOKUP(I418,'BD Dias No utiles'!$B$9:$H$4077,7,FALSE)=\"X\",IF(VLOOKUP(I418+1,'BD Dias No utiles'!$B$9:$H$4077,7,FALSE)=\"X\",IF(VLOOKUP(I418+2,'BD Dias No utiles'!$B$9:$H$4077,7,FALSE)=\"X\",I418+3,I418+2),I418+1),I418),0)","v":"00:00:00"},0]

{"sheet":"BD Dias No utiles","index":4,"n_rows":4077,"n_cols":23,"rows_kept":4077,"cut":false,"hidden":true,"merged":[]}
[null,"Dias fines semana",null,null,null,null,null,null,null,null,11,{"$f":"+K1-1","v":10},{"$f":"+L1-1","v":9},8,7,6,5,4,3,2,1]
[null,"Fecha","Fecha completa",null,null,null,null,null,null,null,12,12,12,12,12,12,12,12,12,12]
[null,"FS","Fin Semana",null,null,null,null,null,null,null,"2012-12-08","2012-12-25","2013-01-01","2013-05-01","2013-06-29","2013-07-28","2013-07-29","2013-08-30","2013-10-08","2013-11-01","FE"]
[null,"FE","Festivo",null,null,null,null,null,null,null,{"$f":"+EDATE(K3,K$2)","v":"2013-12-08"},{"$f":"+EDATE(L3,L$2)","v":"2013-12-25"},"2014-01-01","2014-05-01","2014-06-29","2014-07-28","2014-07-29","2014-08-30","2014-10-08","2014-11-01","FE"]
[null,"SS","Semana Santa",null,null,null,null,null,null,null,{"$f":"+EDATE(K4,K$2)","v":"2014-12-08"},"2014-12-25","2015-01-01","2015-05-01","2015-06-29","2015-07-28","2015-07-29","2015-08-30","2015-10-08","2015-11-01","FE"]
[null,"FM","Fin Mes",null,null,null,null,null,null,null,"2015-12-08","2015-12-25","2016-01-01","2016-05-01","2016-06-29","2016-07-28","2016-07-29","2016-08-30","2016-10-08","2016-11-01","FE"]
[]
[null,"Dia","Fecha","FS","FE","SS","FM","Dia No util","X",null,{"$f":"+EDATE(K6,K$2)","v":"2016-12-08"},"2016-12-25","2017-01-01","2017-05-01","2017-06-29","2017-07-28","2017-07-29","2017-08-30","2017-10-08","2017-11-01","FE"]
[0,"2012-12-01","2012-12-01","X",null,null,null,"X",{"$f":"+A9","v":0},null,"2017-12-08","2017-12-25","2018-01-01","2018-05-01","2018-06-29","2018-07-28","2018-07-29","2018-08-30","2018-10-08","2018-11-01","FE"]
[{"$f":"+A9+1","v":1},{"$f":"+B9+1","v":"2012-12-02"},"2012-12-02","X",null,null,null,"X",{"$f":"+A10","v":1},null,"2018-12-08","2018-12-25","2019-01-01","2019-05-01","2019-06-29","2019-07-28","2019-07-29","2019-08-30","2019-10-08","2019-11-01","FE",null,{"$f":"+I10-I9","v":1}]
[{"$f":"+A10+1","v":2},"2012-12-03","2012-12-03",null,null,null,null,null,{"$f":"+IF(H11<>\"X\",A11,0)","v":2},null,"2019-12-08","2019-12-25","2020-01-01","2020-05-01","2020-06-29","2020-07-28","2020-07-29","2020-08-30","2020-10-08","2020-11-01","FE"]
[3,"2012-12-04","2012-12-04",null,null,null,null,null,3,null,"2020-12-08","2020-12-25","2021-01-01","2021-05-01","2021-06-29","2021-07-28","2021-07-29","2021-08-30","2021-10-08","2021-11-01","FE"]
[4,"2012-12-05","2012-12-05",null,null,null,null,null,4,null,"2021-12-08","2021-12-25","2022-01-01","2022-05-01","2022-06-29","2022-07-28","2022-07-29","2022-08-30","2022-10-08","2022-11-01","FE"]
[5,"2012-12-06","2012-12-06",null,null,null,null,null,5,null,"2022-12-08","2022-12-25","2023-01-01","2023-05-01","2023-06-29","2023-07-28","2023-07-29","2023-08-30","2023-10-08","2023-11-01","FE"]
[6,"2012-12-07","2012-12-07",null,null,null,null,null,6,null,"2023-12-08","2023-12-25","2024-01-01","2024-05-01","2024-06-29","2024-07-28","2024-07-29","2024-08-30","2024-10-08","2024-11-01","FE"]
[7,"2012-12-08","2012-12-08","X","X",null,null,"X",{"$f":"+A16","v":7}]
[8,"2012-12-09","2012-12-09","X",null,null,null,"X",8,null,"Semana Santa"]
[9,"2012-12-10","2012-12-10",null,null,null,null,null,9,null,2013,{"$f":"+K18+1","v":2014},{"$f":"+L18+1","v":2015},2016,2017,2018,2019,2020,2021,2022,2023,2024]
[10,"2012-12-11","2012-12-11",null,null,null,null,null,10,null,"2013-03-28","2014-04-17","2015-04-02","2016-03-24","2017-04-13","2018-03-29","2019-04-18","2020-04-09","2021-04-01","2022-04-14","2023-04-06","2024-03-28"]
[11,"2012-12-12","2012-12-12",null,null,null,null,null,11,null,{"$f":"+K19+1","v":"2013-03-29"},{"$f":"+L19+1","v":"2014-04-18"},"2015-04-03","2016-03-25","2017-04-14","2018-03-30","2019-04-19","2020-04-10","2021-04-02","2022-04-15","2023-04-07","2024-03-29"]
[12,"2012-12-13","2012-12-13",null,null,null,null,null,12]
[13,"2012-12-14","2012-12-14",null,null,null,null,null,13,null,"Fin mes"]
[14,"2012-12-15","2012-12-15","X",null,null,null,"X",{"$f":"+A23","v":14},null,{"$f":"+TODAY()","v":"2017-12-19"}]
[15,"2012-12-16","2012-12-16","X",null,null,null,"X",15,1,{"$f":"+EOMONTH(K23,J24)","v":"2018-01-31"}]
[16,"2012-12-17","2012-12-17",null,null,null,null,null,16,2,"2018-03-31"]
[17,"2012-12-18","2012-12-18",null,null,null,null,null,17,3,"2018-06-30"]
[{"$f":"+A26+1","v":18},"2012-12-19","2012-12-19",null,null,null,null,null,18,4,"2018-10-31"]
[19,"2012-12-20","2012-12-20",null,null,null,null,null,19,5,"2019-03-31"]
[20,"2012-12-21","2012-12-21",null,null,null,null,null,20,6,"2019-09-30"]
[21,"2012-12-22","2012-12-22","X",null,null,null,"X",{"$f":"+A30","v":21},7,"2020-04-30"]
[22,"2012-12-23","2012-12-23","X",null,null,null,"X",22,8,"2020-12-31"]
[23,"2012-12-24","2012-12-24",null,null,null,null,null,23,9,"2021-09-30"]
[24,"2012-12-25","2012-12-25",null,"X",null,null,"X",{"$f":"+A33","v":24},10,"2022-07-31"]
[25,"2012-12-26","2012-12-26",null,null,null,null,null,25,11,"2023-06-30"]
[26,"2012-12-27","2012-12-27",null,null,null,null,null,26,12,"2024-06-30"]
[27,"2012-12-28","2012-12-28",null,null,null,null,null,27,13,"2025-07-31"]
[28,"2012-12-29","2012-12-29","X",null,null,null,"X",{"$f":"+A37","v":28},14,"2026-09-30"]
[29,"2012-12-30","2012-12-30","X",null,null,null,"X",29,15,"2027-12-31"]
[30,"2012-12-31","2012-12-31",null,null,null,null,"X",0,16,"2029-04-30"]
[31,"2013-01-01","2013-01-01",null,"X",null,null,"X",{"$f":"+A40","v":31},17,"2030-09-30"]
[32,"2013-01-02","2013-01-02",null,null,null,null,null,32,18,"2032-03-31"]
[33,"2013-01-03","2013-01-03",null,null,null,null,null,33,19,"2033-10-31"]
[{"$f":"+A42+1","v":34},"2013-01-04","2013-01-04",null,null,null,null,null,34,20,"2035-06-30"]
[35,"2013-01-05","2013-01-05","X",null,null,null,"X",{"$f":"+A44","v":35},21,"2037-03-31"]
[36,"2013-01-06","2013-01-06","X",null,null,null,"X",36,22,"2039-01-31"]
[37,{"$f":"+B45+1","v":"2013-01-07"},"2013-01-07",null,null,null,null,null,37,23,"2040-12-31"]
[38,"2013-01-08","2013-01-08",null,null,null,null,null,38,24,"2042-12-31"]
[39,"2013-01-09","2013-01-09",null,null,null,null,null,39,25,"2045-01-31"]
[40,"2013-01-10","2013-01-10",null,null,null,null,null,40,26,"2047-03-31"]
[41,"2013-01-11","2013-01-11",null,null,null,null,null,41,27,"2049-06-30"]
[42,"2013-01-12","2013-01-12","X",null,null,null,"X",{"$f":"+A51","v":42},28,"2051-10-31"]
[43,"2013-01-13","2013-01-13","X",null,null,null,"X",43,29,"2054-03-31"]
[44,"2013-01-14","2013-01-14",null,null,null,null,null,44,30,"2056-09-30"]
[45,"2013-01-15","2013-01-15",null,null,null,null,null,45,31,"2059-04-30"]
[46,"2013-01-16","2013-01-16",null,null,null,null,null,46,32,"2061-12-31"]
[47,"2013-01-17","2013-01-17",null,null,null,null,null,47,33,"2064-09-30"]
[48,"2013-01-18","2013-01-18",null,null,null,null,null,48,34,"2067-07-31"]
[49,"2013-01-19","2013-01-19","X",null,null,null,"X",{"$f":"+A58","v":49},35,"2070-06-30"]
[{"$f":"+A58+1","v":50},"2013-01-20","2013-01-20","X",null,null,null,"X",50,36,"2073-06-30"]
[51,"2013-01-21","2013-01-21",null,null,null,null,null,51,37,"2076-07-31"]
[52,"2013-01-22","2013-01-22",null,null,null,null,null,52,38,"2079-09-30"]
[53,"2013-01-23","2013-01-23",null,null,null,null,null,53,39,"2082-12-31"]
[54,"2013-01-24","2013-01-24",null,null,null,null,null,54,40,"2086-04-30"]
[55,"2013-01-25","2013-01-25",null,null,null,null,null,55,41,"2089-09-30"]
[56,"2013-01-26","2013-01-26","X",null,null,null,"X",{"$f":"+A65","v":56},42,"2093-03-31"]
[57,"2013-01-27","2013-01-27","X",null,null,null,"X",57,43,"2096-10-31"]
[58,"2013-01-28","2013-01-28",null,null,null,null,null,58,44,"2100-06-30"]
[59,"2013-01-29","2013-01-29",null,null,null,null,null,59,45,"2104-03-31"]
[60,"2013-01-30","2013-01-30",null,null,null,null,null,60,46,"2108-01-31"]
[61,"2013-01-31","2013-01-31",null,null,null,null,null,61,47,"2111-12-31"]
[62,"2013-02-01","2013-02-01",null,null,null,null,null,62,48,"2115-12-31"]
[63,"2013-02-02","2013-02-02","X",null,null,null,"X",{"$f":"+A72","v":63},49,"2120-01-31"]
[64,"2013-02-03","2013-02-03","X",null,null,null,"X",64,50,"2124-03-31"]
[65,"2013-02-04","2013-02-04",null,null,null,null,null,{"$f":"+IF(H74<>\"X\",A74,0)","v":65},51,"2128-06-30"]
[{"$f":"+A74+1","v":66},"2013-02-05","2013-02-05",null,null,null,null,null,66,52,"2132-10-31"]
[67,"2013-02-06","2013-02-06",null,null,null,null,null,67,53,"2137-03-31"]
[68,"2013-02-07","2013-02-07",null,null,null,null,null,68,54,"2141-09-30"]
[69,"2013-02-08","2013-02-08",null,null,null,null,null,69,55,"2146-04-30"]
[70,"2013-02-09","2013-02-09","X",null,null,null,"X",{"$f":"+A79","v":70},56,"2150-12-31"]
[71,"2013-02-10","2013-02-10","X",null,null,null,"X",71,57,"2155-09-30"]
[72,"2013-02-11","2013-02-11",null,null,null,null,null,72,58,"2160-07-31"]
[73,"2013-02-12","2013-02-12",null,null,null,null,null,73,59,"2165-06-30"]
[74,"2013-02-13","2013-02-13",null,null,null,null,null,74,60,"2170-06-30"]
[75,"2013-02-14","2013-02-14",null,null,null,null,null,75,61,"2175-07-31"]
[76,"2013-02-15","2013-02-15",null,null,null,null,null,76,62,"2180-09-30"]
[77,"2013-02-16","2013-02-16","X",null,null,null,"X",{"$f":"+A86","v":77},63,"2185-12-31"]
[78,"2013-02-17","2013-02-17","X",null,null,null,"X",78,64,"2191-04-30"]
[79,"2013-02-18","2013-02-18",null,null,null,null,null,79,65,{"$f":"+EOMONTH(K87,J88)","v":"2196-09-30"}]
[80,"2013-02-19","2013-02-19",null,null,null,null,null,80,66,"2202-03-31"]
[81,"2013-02-20","2013-02-20",null,null,null,null,null,81,67,"2207-10-31"]
[{"$f":"+A90+1","v":82},"2013-02-21","2013-02-21",null,null,null,null,null,82,68,"2213-06-30"]
[83,"2013-02-22","2013-02-22",null,null,null,null,null,83,69,"2219-03-31"]
[84,"2013-02-23","2013-02-23","X",null,null,null,"X",{"$f":"+A93","v":84},70,"2225-01-31"]
[85,"2013-02-24","2013-02-24","X",null,null,null,"X",85,71,"2230-12-31"]
[86,"2013-02-25","2013-02-25",null,null,null,null,null,86,72,"2236-12-31"]
[87,"2013-02-26","2013-02-26",null,null,null,null,null,87,73,"2243-01-31"]
[88,"2013-02-27","2013-02-27",null,null,null,null,null,88,74,"2249-03-31"]
[89,"2013-02-28","2013-02-28",null,null,null,null,null,89,75,"2255-06-30"]
[90,"2013-03-01","2013-03-01",null,null,null,null,null,90,76,"2261-10-31"]
[91,"2013-03-02","2013-03-02","X",null,null,null,"X",{"$f":"+A100","v":91},77,"2268-03-31"]
[92,"2013-03-03","2013-03-03","X",null,null,null,"X",92,78,"2274-09-30"]
[93,"2013-03-04","2013-03-04",null,null,null,null,null,93,79,"2281-04-30"]
[94,"2013-03-05","2013-03-05",null,null,null,null,null,94,80,"2287-12-31"]
[95,"2013-03-06","2013-03-06",null,null,null,null,null,95,81,"2294-09-30"]
[96,"2013-03-07","2013-03-07",null,null,null,null,null,96,82,"2301-07-31"]
[97,"2013-03-08","2013-03-08",null,null,null,null,null,97,83,"2308-06-30"]
[{"$f":"+A106+1","v":98},"2013-03-09","2013-03-09","X",null,null,null,"X",{"$f":"+A107","v":98},84,"2315-06-30"]
[99,"2013-03-10","2013-03-10","X",null,null,null,"X",99,85,"2322-07-31"]
[100,"2013-03-11","2013-03-11",null,null,null,null,null,100,86,"2329-09-30"]
[101,"2013-03-12","2013-03-12",null,null,null,null,null,101,87,"2336-12-31"]
[102,"2013-03-13","2013-03-13",null,null,null,null,null,102,88,"2344-04-30"]
[103,"2013-03-14","2013-03-14",null,null,null,null,null,103,89,"2351-09-30"]
[104,"2013-03-15","2013-03-15",null,null,null,null,null,104,90,"2359-03-31"]
[105,"2013-03-16","2013-03-16","X",null,null,null,"X",{"$f":"+A114","v":105},91,"2366-10-31"]
[106,"2013-03-17","2013-03-17","X",null,null,null,"X",106,92,"2374-06-30"]
[107,"2013-03-18","2013-03-18",null,null,null,null,null,107,93,"2382-03-31"]
[108,"2013-03-19","2013-03-19",null,null,null,null,null,108,94,"2390-01-31"]
[109,"2013-03-20","2013-03-20",null,null,null,null,null,109,95,"2397-12-31"]
[110,"2013-03-21","2013-03-21",null,null,null,null,null,110,96,"2405-12-31"]
[111,"2013-03-22","2013-03-22",null,null,null,null,null,111,97,"2414-01-31"]
[112,"2013-03-23","2013-03-23","X",null,null,null,"X",{"$f":"+A121","v":112},98,"2422-03-31"]
[113,"2013-03-24","2013-03-24","X",null,null,null,"X",113,99,"2430-06-30"]
[{"$f":"+A122+1","v":114},"2013-03-25","2013-03-25",null,null,null,null,null,114,100,"2438-10-31"]
[115,"2013-03-26","2013-03-26",null,null,null,null,null,115,101,"2447-03-31"]
[116,"2013-03-27","2013-03-27",null,null,null,null,null,116,102,"2455-09-30"]
[117,"2013-03-28","2013-03-28",null,null,"X",null,"X",{"$f":"+A126","v":117},103,"2464-04-30"]
[118,"2013-03-29","2013-03-29",null,null,"X",null,"X",118,104,"2472-12-31"]
[119,"2013-03-30","2013-03-30","X",null,null,null,"X",119,105,"2481-09-30"]
[120,"2013-03-31","2013-03-31","X",null,null,null,"X",120,106,"2490-07-31"]
[121,"2013-04-01","2013-04-01",null,null,null,null,null,121,107,"2499-06-30"]
[122,"2013-04-02","2013-04-02",null,null,null,null,null,122,108,"2508-06-30"]
[123,"2013-04-03","2013-04-03",null,null,null,null,null,123,109,"2517-07-31"]
[124,"2013-04-04","2013-04-04",null,null,null,null,null,124,110,"2526-09-30"]
[125,"2013-04-05","2013-04-05",null,null,null,null,null,125,111,"2535-12-31"]
[126,"2013-04-06","2013-04-06","X",null,null,null,"X",{"$f":"+A135","v":126},112,"2545-04-30"]
[127,"2013-04-07","2013-04-07","X",null,null,null,"X",127,113,"2554-09-30"]
[128,"2013-04-08","2013-04-08",null,null,null,null,null,128,114,"2564-03-31"]
[129,"2013-04-09","2013-04-09",null,null,null,null,null,{"$f":"+IF(H138<>\"X\",A138,0)","v":129},115,"2573-10-31"]
[{"$f":"+A138+1","v":130},"2013-04-10","2013-04-10",null,null,null,null,null,130,116,"2583-06-30"]
[131,"2013-04-11","2013-04-11",null,null,null,null,null,131,117,"2593-03-31"]
[132,"2013-04-12","2013-04-12",null,null,null,null,null,132,118,"2603-01-31"]
[133,"2013-04-13","2013-04-13","X",null,null,null,"X",{"$f":"+A142","v":133},119,"2612-12-31"]
[134,"2013-04-14","2013-04-14","X",null,null,null,"X",134,120,"2622-12-31"]
[135,"2013-04-15","2013-04-15",null,null,null,null,null,135,121,"2633-01-31"]
[136,"2013-04-16","2013-04-16",null,null,null,null,null,136,122,"2643-03-31"]
[137,"2013-04-17","2013-04-17",null,null,null,null,null,137,123,"2653-06-30"]
[138,"2013-04-18","2013-04-18",null,null,null,null,null,138,124,"2663-10-31"]
[139,"2013-04-19","2013-04-19",null,null,null,null,null,139,125,"2674-03-31"]
[140,"2013-04-20","2013-04-20","X",null,null,null,"X",{"$f":"+A149","v":140},126,"2684-09-30"]
[141,"2013-04-21","2013-04-21","X",null,null,null,"X",141,127,"2695-04-30"]
[142,"2013-04-22","2013-04-22",null,null,null,null,null,142,128,"2705-12-31"]
[143,"2013-04-23","2013-04-23",null,null,null,null,null,143,129,{"$f":"+EOMONTH(K151,J152)","v":"2716-09-30"}]
[144,"2013-04-24","2013-04-24",null,null,null,null,null,144,130,"2727-07-31"]
[145,"2013-04-25","2013-04-25",null,null,null,null,null,145,131,"2738-06-30"]
[{"$f":"+A154+1","v":146},"2013-04-26","2013-04-26",null,null,null,null,null,146,132,"2749-06-30"]
[147,"2013-04-27","2013-04-27","X",null,null,null,"X",{"$f":"+A156","v":147},133,"2760-07-31"]
[148,"2013-04-28","2013-04-28","X",null,null,null,"X",148,134,"2771-09-30"]
[149,"2013-04-29","2013-04-29",null,null,null,null,null,149,135,"2782-12-31"]
[150,"2013-04-30","2013-04-30",null,null,null,null,null,150,136,"2794-04-30"]
[151,"2013-05-01","2013-05-01",null,"X",null,null,"X",{"$f":"+A160","v":151},137,"2805-09-30"]
[152,"2013-05-02","2013-05-02",null,null,null,null,null,152,138,"2817-03-31"]
[153,"2013-05-03","2013-05-03",null,null,null,null,null,153,139,"2828-10-31"]
[154,"2013-05-04","2013-05-04","X",null,null,null,"X",{"$f":"+A163","v":154},140,"2840-06-30"]
[155,"2013-05-05","2013-05-05","X",null,null,null,"X",155,141,"2852-03-31"]
[156,"2013-05-06","2013-05-06",null,null,null,null,null,156,142,"2864-01-31"]
[157,"2013-05-07","2013-05-07",null,null,null,null,null,157,143,"2875-12-31"]
[158,"2013-05-08","2013-05-08",null,null,null,null,null,158,144,"2887-12-31"]
[159,"2013-05-09","2013-05-09",null,null,null,null,null,159,145,"2900-01-31"]
[160,"2013-05-10","2013-05-10",null,null,null,null,null,160,146,"2912-03-31"]
[161,"2013-05-11","2013-05-11","X",null,null,null,"X",{"$f":"+A170","v":161},147,"2924-06-30"]
[{"$f":"+A170+1","v":162},"2013-05-12","2013-05-12","X",null,null,null,"X",162,148,"2936-10-31"]
[163,"2013-05-13","2013-05-13",null,null,null,null,null,163,149,"2949-03-31"]
[164,"2013-05-14","2013-05-14",null,null,null,null,null,164,150,"2961-09-30"]
[165,"2013-05-15","2013-05-15",null,null,null,null,null,165,151,"2974-04-30"]
[166,"2013-05-16","2013-05-16",null,null,null,null,null,166,152,"2986-12-31"]
[167,"2013-05-17","2013-05-17",null,null,null,null,null,167,153,"2999-09-30"]
[168,"2013-05-18","2013-05-18","X",null,null,null,"X",{"$f":"+A177","v":168},154,"3012-07-31"]
[169,"2013-05-19","2013-05-19","X",null,null,null,"X",169]
[170,"2013-05-20","2013-05-20",null,null,null,null,null,170]
[171,"2013-05-21","2013-05-21",null,null,null,null,null,171]
[172,"2013-05-22","2013-05-22",null,null,null,null,null,172]
[173,"2013-05-23","2013-05-23",null,null,null,null,null,173]
[174,"2013-05-24","2013-05-24",null,null,null,null,null,174]
[175,"2013-05-25","2013-05-25","X",null,null,null,"X",{"$f":"+A184","v":175}]
[176,"2013-05-26","2013-05-26","X",null,null,null,"X",176]
[177,"2013-05-27","2013-05-27",null,null,null,null,null,177]
[{"$f":"+A186+1","v":178},"2013-05-28","2013-05-28",null,null,null,null,null,178]
[179,"2013-05-29","2013-05-29",null,null,null,null,null,179]
[180,"2013-05-30","2013-05-30",null,null,null,null,null,180]
[181,"2013-05-31","2013-05-31",null,null,null,"X","X",{"$f":"+A190","v":181}]
[182,"2013-06-01","2013-06-01","X",null,null,null,"X",182]
[183,"2013-06-02","2013-06-02","X",null,null,null,"X",183]
[184,"2013-06-03","2013-06-03",null,null,null,null,null,184]
[185,"2013-06-04","2013-06-04",null,null,null,null,null,185]
[186,"2013-06-05","2013-06-05",null,null,null,null,null,186]
[187,"2013-06-06","2013-06-06",null,null,null,null,null,187]
[188,"2013-06-07","2013-06-07",null,null,null,null,null,188]
[189,"2013-06-08","2013-06-08","X",null,null,null,"X",{"$f":"+A198","v":189}]
[190,"2013-06-09","2013-06-09","X",null,null,null,"X",190]
[191,"2013-06-10","2013-06-10",null,null,null,null,null,191]
[192,"2013-06-11","2013-06-11",null,null,null,null,null,192]
[193,"2013-06-12","2013-06-12",null,null,null,null,null,{"$f":"+IF(H202<>\"X\",A202,0)","v":193}]
[{"$f":"+A202+1","v":194},"2013-06-13","2013-06-13",null,null,null,null,null,194]
[195,"2013-06-14","2013-06-14",null,null,null,null,null,195]
[196,"2013-06-15","2013-06-15","X",null,null,null,"X",{"$f":"+A205","v":196}]
[197,"2013-06-16","2013-06-16","X",null,null,null,"X",197]
[198,"2013-06-17","2013-06-17",null,null,null,null,null,198]
[199,"2013-06-18","2013-06-18",null,null,null,null,null,199]
[200,"2013-06-19","2013-06-19",null,null,null,null,null,200]
[201,"2013-06-20","2013-06-20",null,null,null,null,null,201]
[202,"2013-06-21","2013-06-21",null,null,null,null,null,202]
[203,"2013-06-22","2013-06-22","X",null,null,null,"X",{"$f":"+A212","v":203}]
[204,"2013-06-23","2013-06-23","X",null,null,null,"X",204]
[205,"2013-06-24","2013-06-24",null,null,null,null,null,205]
[206,"2013-06-25","2013-06-25",null,null,null,null,null,206]
[207,"2013-06-26","2013-06-26",null,null,null,null,null,207]
[208,"2013-06-27","2013-06-27",null,null,null,null,null,208]
[209,"2013-06-28","2013-06-28",null,null,null,null,null,209]
[{"$f":"+A218+1","v":210},"2013-06-29","2013-06-29","X","X",null,null,"X",{"$f":"+A219","v":210}]
[211,"2013-06-30","2013-06-30","X",null,null,null,"X",211]
[212,"2013-07-01","2013-07-01",null,null,null,null,null,212]
[213,"2013-07-02","2013-07-02",null,null,null,null,null,213]
[214,"2013-07-03","2013-07-03",null,null,null,null,null,214]
[215,"2013-07-04","2013-07-04",null,null,null,null,null,215]
[216,"2013-07-05","2013-07-05",null,null,null,null,null,216]
[217,"2013-07-06","2013-07-06","X",null,null,null,"X",{"$f":"+A226","v":217}]
[218,"2013-07-07","2013-07-07","X",null,null,null,"X",218]
[219,"2013-07-08","2013-07-08",null,null,null,null,null,219]
[220,"2013-07-09","2013-07-09",null,null,null,null,null,220]
[221,"2013-07-10","2013-07-10",null,null,null,null,null,221]
[222,"2013-07-11","2013-07-11",null,null,null,null,null,222]
[223,"2013-07-12","2013-07-12",null,null,null,null,null,223]
[224,"2013-07-13","2013-07-13","X",null,null,null,"X",{"$f":"+A233","v":224}]
[225,"2013-07-14","2013-07-14","X",null,null,null,"X",225]
[{"$f":"+A234+1","v":226},"2013-07-15","2013-07-15",null,null,null,null,null,226]
[227,"2013-07-16","2013-07-16",null,null,null,null,null,227]
[228,"2013-07-17","2013-07-17",null,null,null,null,null,228]
[229,"2013-07-18","2013-07-18",null,null,null,null,null,229]
[230,"2013-07-19","2013-07-19",null,null,null,null,null,230]
[231,"2013-07-20","2013-07-20","X",null,null,null,"X",{"$f":"+A240","v":231}]
[232,"2013-07-21","2013-07-21","X",null,null,null,"X",232]
[233,"2013-07-22","2013-07-22",null,null,null,null,null,233]
[234,"2013-07-23","2013-07-23",null,null,null,null,null,234]
[235,"2013-07-24","2013-07-24",null,null,null,null,null,235]
[236,"2013-07-25","2013-07-25",null,null,null,null,null,236]
[237,"2013-07-26","2013-07-26",null,null,null,null,null,237]
[238,"2013-07-27","2013-07-27","X",null,null,null,"X",{"$f":"+A247","v":238}]
[239,"2013-07-28","2013-07-28","X","X",null,null,"X",239]
[240,"2013-07-29","2013-07-29",null,"X",null,null,"X",240]
[241,"2013-07-30","2013-07-30",null,null,null,null,null,241]
[{"$f":"+A250+1","v":242},"2013-07-31","2013-07-31",null,null,null,null,null,242]
[243,"2013-08-01","2013-08-01",null,null,null,null,null,243]
[244,"2013-08-02","2013-08-02",null,null,null,null,null,244]
[245,"2013-08-03","2013-08-03","X",null,null,null,"X",{"$f":"+A254","v":245}]
[246,"2013-08-04","2013-08-04","X",null,null,null,"X",246]
[247,"2013-08-05","2013-08-05",null,null,null,null,null,247]
[248,"2013-08-06","2013-08-06",null,null,null,null,null,248]
[249,"2013-08-07","2013-08-07",null,null,null,null,null,249]
[250,"2013-08-08","2013-08-08",null,null,null,null,null,250]
[251,"2013-08-09","2013-08-09",null,null,null,null,null,251]
[252,"2013-08-10","2013-08-10","X",null,null,null,"X",{"$f":"+A261","v":252}]
[253,"2013-08-11","2013-08-11","X",null,null,null,"X",253]
[254,"2013-08-12","2013-08-12",null,null,null,null,null,254]
[255,"2013-08-13","2013-08-13",null,null,null,null,null,255]
[256,"2013-08-14","2013-08-14",null,null,null,null,null,256]
[257,"2013-08-15","2013-08-15",null,null,null,null,null,{"$f":"+IF(H266<>\"X\",A266,0)","v":257}]
[{"$f":"+A266+1","v":258},"2013-08-16","2013-08-16",null,null,null,null,null,258]
[259,"2013-08-17","2013-08-17","X",null,null,null,"X",{"$f":"+A268","v":259}]
[260,"2013-08-18","2013-08-18","X",null,null,null,"X",260]
[261,"2013-08-19","2013-08-19",null,null,null,null,null,261]
[262,"2013-08-20","2013-08-20",null,null,null,null,null,262]
[263,"2013-08-21","2013-08-21",null,null,null,null,null,263]
[264,"2013-08-22","2013-08-22",null,null,null,null,null,264]
[265,"2013-08-23","2013-08-23",null,null,null,null,null,265]
[266,"2013-08-24","2013-08-24","X",null,null,null,"X",{"$f":"+A275","v":266}]
[267,"2013-08-25","2013-08-25","X",null,null,null,"X",267]
[268,"2013-08-26","2013-08-26",null,null,null,null,null,268]
[269,"2013-08-27","2013-08-27",null,null,null,null,null,269]
[270,"2013-08-28","2013-08-28",null,null,null,null,null,270]
[271,"2013-08-29","2013-08-29",null,null,null,null,null,271]
[272,"2013-08-30","2013-08-30",null,null,null,null,null,272]
[273,"2013-08-31","2013-08-31","X",null,null,null,"X",{"$f":"+A282","v":273}]
[{"$f":"+A282+1","v":274},"2013-09-01","2013-09-01","X",null,null,null,"X",274]
[275,"2013-09-02","2013-09-02",null,null,null,null,null,275]
[276,"2013-09-03","2013-09-03",null,null,null,null,null,276]
[277,"2013-09-04","2013-09-04",null,null,null,null,null,277]
[278,"2013-09-05","2013-09-05",null,null,null,null,null,278]
[279,"2013-09-06","2013-09-06",null,null,null,null,null,279]
[280,"2013-09-07","2013-09-07","X",null,null,null,"X",{"$f":"+A289","v":280}]
[281,"2013-09-08","2013-09-08","X",null,null,null,"X",281]
[282,"2013-09-09","2013-09-09",null,null,null,null,null,282]
[283,"2013-09-10","2013-09-10",null,null,null,null,null,283]
[284,"2013-09-11","2013-09-11",null,null,null,null,null,284]
[285,"2013-09-12","2013-09-12",null,null,null,null,null,285]
[286,"2013-09-13","2013-09-13",null,null,null,null,null,286]
[287,"2013-09-14","2013-09-14","X",null,null,null,"X",{"$f":"+A296","v":287}]
[288,"2013-09-15","2013-09-15","X",null,null,null,"X",288]
[289,"2013-09-16","2013-09-16",null,null,null,null,null,289]
[{"$f":"+A298+1","v":290},"2013-09-17","2013-09-17",null,null,null,null,null,290]
[291,"2013-09-18","2013-09-18",null,null,null,null,null,291]
[292,"2013-09-19","2013-09-19",null,null,null,null,null,292]
[293,"2013-09-20","2013-09-20",null,null,null,null,null,293]
[294,"2013-09-21","2013-09-21","X",null,null,null,"X",{"$f":"+A303","v":294}]
[295,"2013-09-22","2013-09-22","X",null,null,null,"X",295]
[296,"2013-09-23","2013-09-23",null,null,null,null,null,296]
[297,"2013-09-24","2013-09-24",null,null,null,null,null,297]
[298,"2013-09-25","2013-09-25",null,null,null,null,null,298]
[299,"2013-09-26","2013-09-26",null,null,null,null,null,299]
[300,"2013-09-27","2013-09-27",null,null,null,null,null,300]
[301,"2013-09-28","2013-09-28","X",null,null,null,"X",{"$f":"+A310","v":301}]
[302,"2013-09-29","2013-09-29","X",null,null,null,"X",302]
[303,"2013-09-30","2013-09-30",null,null,null,null,null,303]
[304,"2013-10-01","2013-10-01",null,null,null,null,null,304]
[305,"2013-10-02","2013-10-02",null,null,null,null,null,305]
[{"$f":"+A314+1","v":306},"2013-10-03","2013-10-03",null,null,null,null,null,306]
[307,"2013-10-04","2013-10-04",null,null,null,null,null,307]
[308,"2013-10-05","2013-10-05","X",null,null,null,"X",{"$f":"+A317","v":308}]
[309,"2013-10-06","2013-10-06","X",null,null,null,"X",309]
[310,"2013-10-07","2013-10-07",null,null,null,null,null,310]
[311,"2013-10-08","2013-10-08",null,"X",null,null,"X",{"$f":"+A320","v":311}]
[312,"2013-10-09","2013-10-09",null,null,null,null,null,312]
[313,"2013-10-10","2013-10-10",null,null,null,null,null,313]
[314,"2013-10-11","2013-10-11",null,null,null,null,null,314]
[315,"2013-10-12","2013-10-12","X",null,null,null,"X",{"$f":"+A324","v":315}]
[316,"2013-10-13","2013-10-13","X",null,null,null,"X",316]
[317,"2013-10-14","2013-10-14",null,null,null,null,null,317]
[318,"2013-10-15","2013-10-15",null,null,null,null,null,318]
[319,"2013-10-16","2013-10-16",null,null,null,null,null,319]
[320,"2013-10-17","2013-10-17",null,null,null,null,null,320]
[321,"2013-10-18","2013-10-18",null,null,null,null,null,{"$f":"+IF(H330<>\"X\",A330,0)","v":321}]
[{"$f":"+A330+1","v":322},"2013-10-19","2013-10-19","X",null,null,null,"X",{"$f":"+A331","v":322}]
[323,"2013-10-20","2013-10-20","X",null,null,null,"X",323]
[324,"2013-10-21","2013-10-21",null,null,null,null,null,324]
[325,"2013-10-22","2013-10-22",null,null,null,null,null,325]
[326,"2013-10-23","2013-10-23",null,null,null,null,null,326]
[327,"2013-10-24","2013-10-24",null,null,null,null,null,327]
[328,"2013-10-25","2013-10-25",null,null,null,null,null,328]
[329,"2013-10-26","2013-10-26","X",null,null,null,"X",{"$f":"+A338","v":329}]
[330,"2013-10-27","2013-10-27","X",null,null,null,"X",330]
[331,"2013-10-28","2013-10-28",null,null,null,null,null,331]
[332,"2013-10-29","2013-10-29",null,null,null,null,null,332]
[333,"2013-10-30","2013-10-30",null,null,null,null,null,333]
[334,"2013-10-31","2013-10-31",null,null,null,null,null,334]
[335,"2013-11-01","2013-11-01",null,"X",null,null,"X",{"$f":"+A344","v":335}]
[336,"2013-11-02","2013-11-02","X",null,null,null,"X",336]
[337,"2013-11-03","2013-11-03","X",null,null,null,"X",337]
[{"$f":"+A346+1","v":338},"2013-11-04","2013-11-04",null,null,null,null,null,338]
[339,"2013-11-05","2013-11-05",null,null,null,null,null,339]
[340,"2013-11-06","2013-11-06",null,null,null,null,null,340]
[341,"2013-11-07","2013-11-07",null,null,null,null,null,341]
[342,"2013-11-08","2013-11-08",null,null,null,null,null,342]
[343,"2013-11-09","2013-11-09","X",null,null,null,"X",{"$f":"+A352","v":343}]
[344,"2013-11-10","2013-11-10","X",null,null,null,"X",344]
[345,"2013-11-11","2013-11-11",null,null,null,null,null,345]
[346,"2013-11-12","2013-11-12",null,null,null,null,null,346]
[347,"2013-11-13","2013-11-13",null,null,null,null,null,347]
[348,"2013-11-14","2013-11-14",null,null,null,null,null,348]
[349,"2013-11-15","2013-11-15",null,null,null,null,null,349]
[350,"2013-11-16","2013-11-16","X",null,null,null,"X",{"$f":"+A359","v":350}]
[351,"2013-11-17","2013-11-17","X",null,null,null,"X",351]
[352,"2013-11-18","2013-11-18",null,null,null,null,null,352]
[353,"2013-11-19","2013-11-19",null,null,null,null,null,353]
[{"$f":"+A362+1","v":354},"2013-11-20","2013-11-20",null,null,null,null,null,354]
[355,"2013-11-21","2013-11-21",null,null,null,null,null,355]
[356,"2013-11-22","2013-11-22",null,null,null,null,null,356]
[357,"2013-11-23","2013-11-23","X",null,null,null,"X",{"$f":"+A366","v":357}]
[358,"2013-11-24","2013-11-24","X",null,null,null,"X",358]
[359,"2013-11-25","2013-11-25",null,null,null,null,null,359]
[360,"2013-11-26","2013-11-26",null,null,null,null,null,360]
[361,"2013-11-27","2013-11-27",null,null,null,null,null,361]
[362,"2013-11-28","2013-11-28",null,null,null,null,null,362]
[363,"2013-11-29","2013-11-29",null,null,null,null,null,363]
[364,"2013-11-30","2013-11-30","X",null,null,null,"X",{"$f":"+A373","v":364}]
[365,"2013-12-01","2013-12-01","X",null,null,null,"X",365]
[366,"2013-12-02","2013-12-02",null,null,null,null,null,366]
[367,"2013-12-03","2013-12-03",null,null,null,null,null,367]
[368,"2013-12-04","2013-12-04",null,null,null,null,null,368]
[369,"2013-12-05","2013-12-05",null,null,null,null,null,369]
[{"$f":"+A378+1","v":370},"2013-12-06","2013-12-06",null,null,null,null,null,370]
[371,"2013-12-07","2013-12-07","X",null,null,null,"X",{"$f":"+A380","v":371}]
[372,"2013-12-08","2013-12-08","X","X",null,null,"X",372]
[373,"2013-12-09","2013-12-09",null,null,null,null,null,373]
[374,"2013-12-10","2013-12-10",null,null,null,null,null,374]
[375,"2013-12-11","2013-12-11",null,null,null,null,null,375]
[376,"2013-12-12","2013-12-12",null,null,null,null,null,376]
[377,"2013-12-13","2013-12-13",null,null,null,null,null,377]
[378,"2013-12-14","2013-12-14","X",null,null,null,"X",{"$f":"+A387","v":378}]
[379,"2013-12-15","2013-12-15","X",null,null,null,"X",379]
[380,"2013-12-16","2013-12-16",null,null,null,null,null,380]
[381,"2013-12-17","2013-12-17",null,null,null,null,null,381]
[382,"2013-12-18","2013-12-18",null,null,null,null,null,382]
[383,"2013-12-19","2013-12-19",null,null,null,null,null,383]
[384,"2013-12-20","2013-12-20",null,null,null,null,null,384]
[385,"2013-12-21","2013-12-21","X",null,null,null,"X",{"$f":"+A394","v":385}]
[{"$f":"+A394+1","v":386},"2013-12-22","2013-12-22","X",null,null,null,"X",386]
[387,"2013-12-23","2013-12-23",null,null,null,null,null,{"$f":"+IF(H396<>\"X\",A396,0)","v":387}]
[388,"2013-12-24","2013-12-24",null,null,null,null,null,388]
[389,"2013-12-25","2013-12-25",null,"X",null,null,"X",{"$f":"+A398","v":389}]
[390,"2013-12-26","2013-12-26",null,null,null,null,null,390]
[391,"2013-12-27","2013-12-27",null,null,null,null,null,391]
[392,"2013-12-28","2013-12-28","X",null,null,null,"X",{"$f":"+A401","v":392}]
[393,"2013-12-29","2013-12-29","X",null,null,null,"X",393]
[394,"2013-12-30","2013-12-30",null,null,null,null,null,394]
[395,"2013-12-31","2013-12-31",null,null,null,null,null,395]
[396,"2014-01-01","2014-01-01",null,"X",null,null,"X",{"$f":"+A405","v":396}]
[397,"2014-01-02","2014-01-02",null,null,null,null,null,397]
[398,"2014-01-03","2014-01-03",null,null,null,null,null,398]
[399,"2014-01-04","2014-01-04","X",null,null,null,"X",{"$f":"+A408","v":399}]
[400,"2014-01-05","2014-01-05","X",null,null,null,"X",400]
[401,"2014-01-06","2014-01-06",null,null,null,null,null,401]
[{"$f":"+A410+1","v":402},"2014-01-07","2014-01-07",null,null,null,null,null,402]
[403,"2014-01-08","2014-01-08",null,null,null,null,null,403]
[404,"2014-01-09","2014-01-09",null,null,null,null,null,404]
[405,"2014-01-10","2014-01-10",null,null,null,null,null,405]
[406,"2014-01-11","2014-01-11","X",null,null,null,"X",{"$f":"+A415","v":406}]
[407,"2014-01-12","2014-01-12","X",null,null,null,"X",407]
[408,"2014-01-13","2014-01-13",null,null,null,null,null,408]
[409,"2014-01-14","2014-01-14",null,null,null,null,null,409]
[410,"2014-01-15","2014-01-15",null,null,null,null,null,410]
[411,"2014-01-16","2014-01-16",null,null,null,null,null,411]
[412,"2014-01-17","2014-01-17",null,null,null,null,null,412]
[413,"2014-01-18","2014-01-18","X",null,null,null,"X",{"$f":"+A422","v":413}]
[414,"2014-01-19","2014-01-19","X",null,null,null,"X",414]
[415,"2014-01-20","2014-01-20",null,null,null,null,null,415]
[416,"2014-01-21","2014-01-21",null,null,null,null,null,416]
[417,"2014-01-22","2014-01-22",null,null,null,null,null,417]
[{"$f":"+A426+1","v":418},"2014-01-23","2014-01-23",null,null,null,null,null,418]
[419,"2014-01-24","2014-01-24",null,null,null,null,null,419]
[420,"2014-01-25","2014-01-25","X",null,null,null,"X",{"$f":"+A429","v":420}]
[421,"2014-01-26","2014-01-26","X",null,null,null,"X",421]
[422,"2014-01-27","2014-01-27",null,null,null,null,null,422]
[423,"2014-01-28","2014-01-28",null,null,null,null,null,423]
[424,"2014-01-29","2014-01-29",null,null,null,null,null,424]
[425,"2014-01-30","2014-01-30",null,null,null,null,null,425]
[426,"2014-01-31","2014-01-31",null,null,null,null,null,426]
[427,"2014-02-01","2014-02-01","X",null,null,null,"X",{"$f":"+A436","v":427}]
[428,"2014-02-02","2014-02-02","X",null,null,null,"X",428]
[429,"2014-02-03","2014-02-03",null,null,null,null,null,429]
[430,"2014-02-04","2014-02-04",null,null,null,null,null,430]
[431,"2014-02-05","2014-02-05",null,null,null,null,null,431]
[432,"2014-02-06","2014-02-06",null,null,null,null,null,432]
[433,"2014-02-07","2014-02-07",null,null,null,null,null,433]
[{"$f":"+A442+1","v":434},"2014-02-08","2014-02-08","X",null,null,null,"X",{"$f":"+A443","v":434}]
[435,"2014-02-09","2014-02-09","X",null,null,null,"X",435]
[436,"2014-02-10","2014-02-10",null,null,null,null,null,436]
[437,"2014-02-11","2014-02-11",null,null,null,null,null,437]
[438,"2014-02-12","2014-02-12",null,null,null,null,null,438]
[439,"2014-02-13","2014-02-13",null,null,null,null,null,439]
[440,"2014-02-14","2014-02-14",null,null,null,null,null,440]
[441,"2014-02-15","2014-02-15","X",null,null,null,"X",{"$f":"+A450","v":441}]
[442,"2014-02-16","2014-02-16","X",null,null,null,"X",442]
[443,"2014-02-17","2014-02-17",null,null,null,null,null,443]
[444,"2014-02-18","2014-02-18",null,null,null,null,null,444]
[445,"2014-02-19","2014-02-19",null,null,null,null,null,445]
[446,"2014-02-20","2014-02-20",null,null,null,null,null,446]
[447,"2014-02-21","2014-02-21",null,null,null,null,null,447]
[448,"2014-02-22","2014-02-22","X",null,null,null,"X",{"$f":"+A457","v":448}]
[449,"2014-02-23","2014-02-23","X",null,null,null,"X",449]
[{"$f":"+A458+1","v":450},"2014-02-24","2014-02-24",null,null,null,null,null,{"$f":"+IF(H459<>\"X\",A459,0)","v":450}]
[451,"2014-02-25","2014-02-25",null,null,null,null,null,451]
[452,"2014-02-26","2014-02-26",null,null,null,null,null,452]
[453,"2014-02-27","2014-02-27",null,null,null,null,null,453]
[454,"2014-02-28","2014-02-28",null,null,null,"X","X",{"$f":"+A463","v":454}]
[455,"2014-03-01","2014-03-01","X",null,null,null,"X",455]
[456,"2014-03-02","2014-03-02","X",null,null,null,"X",456]
[457,"2014-03-03","2014-03-03",null,null,null,null,null,457]
[458,"2014-03-04","2014-03-04",null,null,null,null,null,458]
[459,"2014-03-05","2014-03-05",null,null,null,null,null,459]
[460,"2014-03-06","2014-03-06",null,null,null,null,null,460]
[461,"2014-03-07","2014-03-07",null,null,null,null,null,461]
[462,"2014-03-08","2014-03-08","X",null,null,null,"X",{"$f":"+A471","v":462}]
[463,"2014-03-09","2014-03-09","X",null,null,null,"X",463]
[464,"2014-03-10","2014-03-10",null,null,null,null,null,464]
[465,"2014-03-11","2014-03-11",null,null,null,null,null,465]
[{"$f":"+A474+1","v":466},"2014-03-12","2014-03-12",null,null,null,null,null,466]
[467,"2014-03-13","2014-03-13",null,null,null,null,null,467]
[468,"2014-03-14","2014-03-14",null,null,null,null,null,468]
[469,"2014-03-15","2014-03-15","X",null,null,null,"X",{"$f":"+A478","v":469}]
[470,"2014-03-16","2014-03-16","X",null,null,null,"X",470]
[471,"2014-03-17","2014-03-17",null,null,null,null,null,471]
[472,"2014-03-18","2014-03-18",null,null,null,null,null,472]
[473,"2014-03-19","2014-03-19",null,null,null,null,null,473]
[474,"2014-03-20","2014-03-20",null,null,null,null,null,474]
[475,"2014-03-21","2014-03-21",null,null,null,null,null,475]
[476,"2014-03-22","2014-03-22","X",null,null,null,"X",{"$f":"+A485","v":476}]
[477,"2014-03-23","2014-03-23","X",null,null,null,"X",477]
[478,"2014-03-24","2014-03-24",null,null,null,null,null,478]
[479,"2014-03-25","2014-03-25",null,null,null,null,null,479]
[480,"2014-03-26","2014-03-26",null,null,null,null,null,480]
[481,"2014-03-27","2014-03-27",null,null,null,null,null,481]
[{"$f":"+A490+1","v":482},"2014-03-28","2014-03-28",null,null,null,null,null,482]
[483,"2014-03-29","2014-03-29","X",null,null,null,"X",{"$f":"+A492","v":483}]
[484,"2014-03-30","2014-03-30","X",null,null,null,"X",484]
[485,"2014-03-31","2014-03-31",null,null,null,null,null,485]
[486,"2014-04-01","2014-04-01",null,null,null,null,null,486]
[487,"2014-04-02","2014-04-02",null,null,null,null,null,487]
[488,"2014-04-03","2014-04-03",null,null,null,null,null,488]
[489,"2014-04-04","2014-04-04",null,null,null,null,null,489]
[490,"2014-04-05","2014-04-05","X",null,null,null,"X",{"$f":"+A499","v":490}]
[491,"2014-04-06","2014-04-06","X",null,null,null,"X",491]
[492,"2014-04-07","2014-04-07",null,null,null,null,null,492]
[493,"2014-04-08","2014-04-08",null,null,null,null,null,493]
[494,"2014-04-09","2014-04-09",null,null,null,null,null,494]
[495,"2014-04-10","2014-04-10",null,null,null,null,null,495]
[496,"2014-04-11","2014-04-11",null,null,null,null,null,496]
[497,"2014-04-12","2014-04-12","X",null,null,null,"X",{"$f":"+A506","v":497}]
[{"$f":"+A506+1","v":498},"2014-04-13","2014-04-13","X",null,null,null,"X",498]
[499,"2014-04-14","2014-04-14",null,null,null,null,null,499]
[500,"2014-04-15","2014-04-15",null,null,null,null,null,500]
[501,"2014-04-16","2014-04-16",null,null,null,null,null,501]
[502,"2014-04-17","2014-04-17",null,null,"X",null,"X",{"$f":"+A511","v":502}]
[503,"2014-04-18","2014-04-18",null,null,"X",null,"X",503]
[504,"2014-04-19","2014-04-19","X",null,null,null,"X",504]
[505,"2014-04-20","2014-04-20","X",null,null,null,"X",505]
[506,"2014-04-21","2014-04-21",null,null,null,null,null,506]
[507,"2014-04-22","2014-04-22",null,null,null,null,null,507]
[508,"2014-04-23","2014-04-23",null,null,null,null,null,508]
[509,"2014-04-24","2014-04-24",null,null,null,null,null,509]
[510,"2014-04-25","2014-04-25",null,null,null,null,null,510]
[511,"2014-04-26","2014-04-26","X",null,null,null,"X",{"$f":"+A520","v":511}]
[512,"2014-04-27","2014-04-27","X",null,null,null,"X",512]
[513,"2014-04-28","2014-04-28",null,null,null,null,null,{"$f":"+IF(H522<>\"X\",A522,0)","v":513}]
[{"$f":"+A522+1","v":514},"2014-04-29","2014-04-29",null,null,null,null,null,514]
[515,"2014-04-30","2014-04-30",null,null,null,null,null,515]
[516,"2014-05-01","2014-05-01",null,"X",null,null,"X",{"$f":"+A525","v":516}]
[517,"2014-05-02","2014-05-02",null,null,null,null,null,517]
[518,"2014-05-03","2014-05-03","X",null,null,null,"X",{"$f":"+A527","v":518}]
[519,"2014-05-04","2014-05-04","X",null,null,null,"X",519]
[520,"2014-05-05","2014-05-05",null,null,null,null,null,520]
[521,"2014-05-06","2014-05-06",null,null,null,null,null,521]
[522,"2014-05-07","2014-05-07",null,null,null,null,null,522]
[523,"2014-05-08","2014-05-08",null,null,null,null,null,523]
[524,"2014-05-09","2014-05-09",null,null,null,null,null,524]
[525,"2014-05-10","2014-05-10","X",null,null,null,"X",{"$f":"+A534","v":525}]
[526,"2014-05-11","2014-05-11","X",null,null,null,"X",526]
[527,"2014-05-12","2014-05-12",null,null,null,null,null,527]
[528,"2014-05-13","2014-05-13",null,null,null,null,null,528]
[529,"2014-05-14","2014-05-14",null,null,null,null,null,529]
[{"$f":"+A538+1","v":530},"2014-05-15","2014-05-15",null,null,null,null,null,530]
[531,"2014-05-16","2014-05-16",null,null,null,null,null,531]
[532,"2014-05-17","2014-05-17","X",null,null,null,"X",{"$f":"+A541","v":532}]
[533,"2014-05-18","2014-05-18","X",null,null,null,"X",533]
[534,"2014-05-19","2014-05-19",null,null,null,null,null,534]
[535,"2014-05-20","2014-05-20",null,null,null,null,null,535]
[536,"2014-05-21","2014-05-21",null,null,null,null,null,536]
[537,"2014-05-22","2014-05-22",null,null,null,null,null,537]
[538,"2014-05-23","2014-05-23",null,null,null,null,null,538]
[539,"2014-05-24","2014-05-24","X",null,null,null,"X",{"$f":"+A548","v":539}]
[540,"2014-05-25","2014-05-25","X",null,null,null,"X",540]
[541,"2014-05-26","2014-05-26",null,null,null,null,null,541]
[542,"2014-05-27","2014-05-27",null,null,null,null,null,542]
[543,"2014-05-28","2014-05-28",null,null,null,null,null,543]
[544,"2014-05-29","2014-05-29",null,null,null,null,null,544]
[545,"2014-05-30","2014-05-30",null,null,null,null,null,545]
[{"$f":"+A554+1","v":546},"2014-05-31","2014-05-31","X",null,null,null,"X",{"$f":"+A555","v":546}]
[547,"2014-06-01","2014-06-01","X",null,null,null,"X",547]
[548,"2014-06-02","2014-06-02",null,null,null,null,null,548]
[549,"2014-06-03","2014-06-03",null,null,null,null,null,549]
[550,"2014-06-04","2014-06-04",null,null,null,null,null,550]
[551,"2014-06-05","2014-06-05",null,null,null,null,null,551]
[552,"2014-06-06","2014-06-06",null,null,null,null,null,552]
[553,"2014-06-07","2014-06-07","X",null,null,null,"X",{"$f":"+A562","v":553}]
[554,"2014-06-08","2014-06-08","X",null,null,null,"X",554]
[555,"2014-06-09","2014-06-09",null,null,null,null,null,555]
[556,"2014-06-10","2014-06-10",null,null,null,null,null,556]
[557,"2014-06-11","2014-06-11",null,null,null,null,null,557]
[558,"2014-06-12","2014-06-12",null,null,null,null,null,558]
[559,"2014-06-13","2014-06-13",null,null,null,null,null,559]
[560,"2014-06-14","2014-06-14","X",null,null,null,"X",{"$f":"+A569","v":560}]
[561,"2014-06-15","2014-06-15","X",null,null,null,"X",561]
[{"$f":"+A570+1","v":562},"2014-06-16","2014-06-16",null,null,null,null,null,562]
[563,"2014-06-17","2014-06-17",null,null,null,null,null,563]
[564,"2014-06-18","2014-06-18",null,null,null,null,null,564]
[565,"2014-06-19","2014-06-19",null,null,null,null,null,565]
[566,"2014-06-20","2014-06-20",null,null,null,null,null,566]
[567,"2014-06-21","2014-06-21","X",null,null,null,"X",{"$f":"+A576","v":567}]
[568,"2014-06-22","2014-06-22","X",null,null,null,"X",568]
[569,"2014-06-23","2014-06-23",null,null,null,null,null,569]
[570,"2014-06-24","2014-06-24",null,null,null,null,null,570]
[571,"2014-06-25","2014-06-25",null,null,null,null,null,571]
[572,"2014-06-26","2014-06-26",null,null,null,null,null,572]
[573,"2014-06-27","2014-06-27",null,null,null,null,null,573]
[574,"2014-06-28","2014-06-28","X",null,null,null,"X",{"$f":"+A583","v":574}]
[575,"2014-06-29","2014-06-29","X","X",null,null,"X",575]
[576,"2014-06-30","2014-06-30",null,null,null,null,null,576]
[577,"2014-07-01","2014-07-01",null,null,null,null,null,{"$f":"+IF(H586<>\"X\",A586,0)","v":577}]
[{"$f":"+A586+1","v":578},"2014-07-02","2014-07-02",null,null,null,null,null,578]
[579,"2014-07-03","2014-07-03",null,null,null,null,null,579]
[580,"2014-07-04","2014-07-04",null,null,null,null,null,580]
[581,"2014-07-05","2014-07-05","X",null,null,null,"X",{"$f":"+A590","v":581}]
[582,"2014-07-06","2014-07-06","X",null,null,null,"X",582]
[583,"2014-07-07","2014-07-07",null,null,null,null,null,583]
[584,"2014-07-08","2014-07-08",null,null,null,null,null,584]
[585,"2014-07-09","2014-07-09",null,null,null,null,null,585]
[586,"2014-07-10","2014-07-10",null,null,null,null,null,586]
[587,"2014-07-11","2014-07-11",null,null,null,null,null,587]
[588,"2014-07-12","2014-07-12","X",null,null,null,"X",{"$f":"+A597","v":588}]
[589,"2014-07-13","2014-07-13","X",null,null,null,"X",589]
[590,"2014-07-14","2014-07-14",null,null,null,null,null,590]
[591,"2014-07-15","2014-07-15",null,null,null,null,null,591]
[592,"2014-07-16","2014-07-16",null,null,null,null,null,592]
[593,"2014-07-17","2014-07-17",null,null,null,null,null,593]
[{"$f":"+A602+1","v":594},"2014-07-18","2014-07-18",null,null,null,null,null,594]
[595,"2014-07-19","2014-07-19","X",null,null,null,"X",{"$f":"+A604","v":595}]
[596,"2014-07-20","2014-07-20","X",null,null,null,"X",596]
[597,"2014-07-21","2014-07-21",null,null,null,null,null,597]
[598,"2014-07-22","2014-07-22",null,null,null,null,null,598]
[599,"2014-07-23","2014-07-23",null,null,null,null,null,599]
[600,"2014-07-24","2014-07-24",null,null,null,null,null,600]
[601,"2014-07-25","2014-07-25",null,null,null,null,null,601]
[602,"2014-07-26","2014-07-26","X",null,null,null,"X",{"$f":"+A611","v":602}]
[603,"2014-07-27","2014-07-27","X",null,null,null,"X",603]
[604,"2014-07-28","2014-07-28",null,"X",null,null,"X",604]
[605,"2014-07-29","2014-07-29",null,"X",null,null,"X",605]
[606,"2014-07-30","2014-07-30",null,null,null,null,null,606]
[607,"2014-07-31","2014-07-31",null,null,null,null,null,607]
[608,"2014-08-01","2014-08-01",null,null,null,null,null,608]
[609,"2014-08-02","2014-08-02","X",null,null,null,"X",{"$f":"+A618","v":609}]
[{"$f":"+A618+1","v":610},"2014-08-03","2014-08-03","X",null,null,null,"X",610]
[611,"2014-08-04","2014-08-04",null,null,null,null,null,611]
[612,"2014-08-05","2014-08-05",null,null,null,null,null,612]
[613,"2014-08-06","2014-08-06",null,null,null,null,null,613]
[614,"2014-08-07","2014-08-07",null,null,null,null,null,614]
[615,"2014-08-08","2014-08-08",null,null,null,null,null,615]
[616,"2014-08-09","2014-08-09","X",null,null,null,"X",{"$f":"+A625","v":616}]
[617,"2014-08-10","2014-08-10","X",null,null,null,"X",617]
[618,"2014-08-11","2014-08-11",null,null,null,null,null,618]
[619,"2014-08-12","2014-08-12",null,null,null,null,null,619]
[620,"2014-08-13","2014-08-13",null,null,null,null,null,620]
[621,"2014-08-14","2014-08-14",null,null,null,null,null,621]
[622,"2014-08-15","2014-08-15",null,null,null,null,null,622]
[623,"2014-08-16","2014-08-16","X",null,null,null,"X",{"$f":"+A632","v":623}]
[624,"2014-08-17","2014-08-17","X",null,null,null,"X",624]
[625,"2014-08-18","2014-08-18",null,null,null,null,null,625]
[{"$f":"+A634+1","v":626},"2014-08-19","2014-08-19",null,null,null,null,null,626]
[627,"2014-08-20","2014-08-20",null,null,null,null,null,627]
[628,"2014-08-21","2014-08-21",null,null,null,null,null,628]
[629,"2014-08-22","2014-08-22",null,null,null,null,null,629]
[630,"2014-08-23","2014-08-23","X",null,null,null,"X",{"$f":"+A639","v":630}]
[631,"2014-08-24","2014-08-24","X",null,null,null,"X",631]
[632,"2014-08-25","2014-08-25",null,null,null,null,null,632]
[633,"2014-08-26","2014-08-26",null,null,null,null,null,633]
[634,"2014-08-27","2014-08-27",null,null,null,null,null,634]
[635,"2014-08-28","2014-08-28",null,null,null,null,null,635]
[636,"2014-08-29","2014-08-29",null,null,null,null,null,636]
[637,"2014-08-30","2014-08-30","X",null,null,null,"X",{"$f":"+A646","v":637}]
[638,"2014-08-31","2014-08-31","X",null,null,null,"X",638]
[639,"2014-09-01","2014-09-01",null,null,null,null,null,639]
[640,"2014-09-02","2014-09-02",null,null,null,null,null,640]
[641,"2014-09-03","2014-09-03",null,null,null,null,null,{"$f":"+IF(H650<>\"X\",A650,0)","v":641}]
[{"$f":"+A650+1","v":642},"2014-09-04","2014-09-04",null,null,null,null,null,642]
[643,"2014-09-05","2014-09-05",null,null,null,null,null,643]
[644,"2014-09-06","2014-09-06","X",null,null,null,"X",{"$f":"+A653","v":644}]
[645,"2014-09-07","2014-09-07","X",null,null,null,"X",645]
[646,"2014-09-08","2014-09-08",null,null,null,null,null,646]
[647,"2014-09-09","2014-09-09",null,null,null,null,null,647]
[648,"2014-09-10","2014-09-10",null,null,null,null,null,648]
[649,"2014-09-11","2014-09-11",null,null,null,null,null,649]
[650,"2014-09-12","2014-09-12",null,null,null,null,null,650]
[651,"2014-09-13","2014-09-13","X",null,null,null,"X",{"$f":"+A660","v":651}]
[652,"2014-09-14","2014-09-14","X",null,null,null,"X",652]
[653,"2014-09-15","2014-09-15",null,null,null,null,null,653]
[654,"2014-09-16","2014-09-16",null,null,null,null,null,654]
[655,"2014-09-17","2014-09-17",null,null,null,null,null,655]
[656,"2014-09-18","2014-09-18",null,null,null,null,null,656]
[657,"2014-09-19","2014-09-19",null,null,null,null,null,657]
[{"$f":"+A666+1","v":658},"2014-09-20","2014-09-20","X",null,null,null,"X",{"$f":"+A667","v":658}]
[659,"2014-09-21","2014-09-21","X",null,null,null,"X",659]
[660,"2014-09-22","2014-09-22",null,null,null,null,null,660]
[661,"2014-09-23","2014-09-23",null,null,null,null,null,661]
[662,"2014-09-24","2014-09-24",null,null,null,null,null,662]
[663,"2014-09-25","2014-09-25",null,null,null,null,null,663]
[664,"2014-09-26","2014-09-26",null,null,null,null,null,664]
[665,"2014-09-27","2014-09-27","X",null,null,null,"X",{"$f":"+A674","v":665}]
[666,"2014-09-28","2014-09-28","X",null,null,null,"X",666]
[667,"2014-09-29","2014-09-29",null,null,null,null,null,667]
[668,"2014-09-30","2014-09-30",null,null,null,null,null,668]
[669,"2014-10-01","2014-10-01",null,null,null,null,null,669]
[670,"2014-10-02","2014-10-02",null,null,null,null,null,670]
[671,"2014-10-03","2014-10-03",null,null,null,null,null,671]
[672,"2014-10-04","2014-10-04","X",null,null,null,"X",{"$f":"+A681","v":672}]
[673,"2014-10-05","2014-10-05","X",null,null,null,"X",673]
[{"$f":"+A682+1","v":674},"2014-10-06","2014-10-06",null,null,null,null,null,674]
[675,"2014-10-07","2014-10-07",null,null,null,null,null,675]
[676,"2014-10-08","2014-10-08",null,"X",null,null,"X",{"$f":"+A685","v":676}]
[677,"2014-10-09","2014-10-09",null,null,null,null,null,677]
[678,"2014-10-10","2014-10-10",null,null,null,null,null,678]
[679,"2014-10-11","2014-10-11","X",null,null,null,"X",{"$f":"+A688","v":679}]
[680,"2014-10-12","2014-10-12","X",null,null,null,"X",680]
[681,"2014-10-13","2014-10-13",null,null,null,null,null,681]
[682,"2014-10-14","2014-10-14",null,null,null,null,null,682]
[683,"2014-10-15","2014-10-15",null,null,null,null,null,683]
[684,"2014-10-16","2014-10-16",null,null,null,null,null,684]
[685,"2014-10-17","2014-10-17",null,null,null,null,null,685]
[686,"2014-10-18","2014-10-18","X",null,null,null,"X",{"$f":"+A695","v":686}]
[687,"2014-10-19","2014-10-19","X",null,null,null,"X",687]
[688,"2014-10-20","2014-10-20",null,null,null,null,null,688]
[689,"2014-10-21","2014-10-21",null,null,null,null,null,689]
[{"$f":"+A698+1","v":690},"2014-10-22","2014-10-22",null,null,null,null,null,690]
[691,"2014-10-23","2014-10-23",null,null,null,null,null,691]
[692,"2014-10-24","2014-10-24",null,null,null,null,null,692]
[693,"2014-10-25","2014-10-25","X",null,null,null,"X",{"$f":"+A702","v":693}]
[694,"2014-10-26","2014-10-26","X",null,null,null,"X",694]
[695,"2014-10-27","2014-10-27",null,null,null,null,null,695]
[696,"2014-10-28","2014-10-28",null,null,null,null,null,696]
[697,"2014-10-29","2014-10-29",null,null,null,null,null,697]
[698,"2014-10-30","2014-10-30",null,null,null,null,null,698]
[699,"2014-10-31","2014-10-31",null,null,null,null,null,699]
[700,"2014-11-01","2014-11-01","X","X",null,null,"X",{"$f":"+A709","v":700}]
[701,"2014-11-02","2014-11-02","X",null,null,null,"X",701]
[702,"2014-11-03","2014-11-03",null,null,null,null,null,702]
[703,"2014-11-04","2014-11-04",null,null,null,null,null,703]
[704,"2014-11-05","2014-11-05",null,null,null,null,null,704]
[705,"2014-11-06","2014-11-06",null,null,null,null,null,{"$f":"+IF(H714<>\"X\",A714,0)","v":705}]
[{"$f":"+A714+1","v":706},"2014-11-07","2014-11-07",null,null,null,null,null,706]
[707,"2014-11-08","2014-11-08","X",null,null,null,"X",{"$f":"+A716","v":707}]
[708,"2014-11-09","2014-11-09","X",null,null,null,"X",708]
[709,"2014-11-10","2014-11-10",null,null,null,null,null,709]
[710,"2014-11-11","2014-11-11",null,null,null,null,null,710]
[711,"2014-11-12","2014-11-12",null,null,null,null,null,711]
[712,"2014-11-13","2014-11-13",null,null,null,null,null,712]
[713,"2014-11-14","2014-11-14",null,null,null,null,null,713]
[714,"2014-11-15","2014-11-15","X",null,null,null,"X",{"$f":"+A723","v":714}]
[715,"2014-11-16","2014-11-16","X",null,null,null,"X",715]
[716,"2014-11-17","2014-11-17",null,null,null,null,null,716]
[717,"2014-11-18","2014-11-18",null,null,null,null,null,717]
[718,"2014-11-19","2014-11-19",null,null,null,null,null,718]
[719,"2014-11-20","2014-11-20",null,null,null,null,null,719]
[720,"2014-11-21","2014-11-21",null,null,null,null,null,720]
[721,"2014-11-22","2014-11-22","X",null,null,null,"X",{"$f":"+A730","v":721}]
[{"$f":"+A730+1","v":722},"2014-11-23","2014-11-23","X",null,null,null,"X",722]
[723,"2014-11-24","2014-11-24",null,null,null,null,null,723]
[724,"2014-11-25","2014-11-25",null,null,null,null,null,724]
[725,"2014-11-26","2014-11-26",null,null,null,null,null,725]
[726,"2014-11-27","2014-11-27",null,null,null,null,null,726]
[727,"2014-11-28","2014-11-28",null,null,null,null,null,727]
[728,"2014-11-29","2014-11-29","X",null,null,null,"X",{"$f":"+A737","v":728}]
[729,"2014-11-30","2014-11-30","X",null,null,null,"X",729]
[730,"2014-12-01","2014-12-01",null,null,null,null,null,730]
[731,"2014-12-02","2014-12-02",null,null,null,null,null,731]
[732,"2014-12-03","2014-12-03",null,null,null,null,null,732]
[733,"2014-12-04","2014-12-04",null,null,null,null,null,733]
[734,"2014-12-05","2014-12-05",null,null,null,null,null,734]
[735,"2014-12-06","2014-12-06","X",null,null,null,"X",{"$f":"+A744","v":735}]
[736,"2014-12-07","2014-12-07","X",null,null,null,"X",736]
[737,"2014-12-08","2014-12-08",null,"X",null,null,"X",737]
[{"$f":"+A746+1","v":738},"2014-12-09","2014-12-09",null,null,null,null,null,738]
[739,"2014-12-10","2014-12-10",null,null,null,null,null,739]
[740,"2014-12-11","2014-12-11",null,null,null,null,null,740]
[741,"2014-12-12","2014-12-12",null,null,null,null,null,741]
[742,"2014-12-13","2014-12-13","X",null,null,null,"X",{"$f":"+A751","v":742}]
[743,"2014-12-14","2014-12-14","X",null,null,null,"X",743]
[744,"2014-12-15","2014-12-15",null,null,null,null,null,744]
[745,"2014-12-16","2014-12-16",null,null,null,null,null,745]
[746,"2014-12-17","2014-12-17",null,null,null,null,null,746]
[747,"2014-12-18","2014-12-18",null,null,null,null,null,747]
[748,"2014-12-19","2014-12-19",null,null,null,null,null,748]
[749,"2014-12-20","2014-12-20","X",null,null,null,"X",{"$f":"+A758","v":749}]
[750,"2014-12-21","2014-12-21","X",null,null,null,"X",750]
[751,"2014-12-22","2014-12-22",null,null,null,null,null,751]
[752,"2014-12-23","2014-12-23",null,null,null,null,null,752]
[753,"2014-12-24","2014-12-24",null,null,null,null,null,753]
[{"$f":"+A762+1","v":754},"2014-12-25","2014-12-25",null,"X",null,null,"X",{"$f":"+A763","v":754}]
[755,"2014-12-26","2014-12-26",null,null,null,null,null,755]
[756,"2014-12-27","2014-12-27","X",null,null,null,"X",{"$f":"+A765","v":756}]
[757,"2014-12-28","2014-12-28","X",null,null,null,"X",757]
[758,"2014-12-29","2014-12-29",null,null,null,null,null,758]
[759,"2014-12-30","2014-12-30",null,null,null,null,null,759]
[760,"2014-12-31","2014-12-31",null,null,null,null,"X",0]
[761,"2015-01-01","2015-01-01",null,"X",null,null,"X",{"$f":"+A770","v":761}]
[762,"2015-01-02","2015-01-02",null,null,null,null,null,762]
[763,"2015-01-03","2015-01-03","X",null,null,null,"X",{"$f":"+A772","v":763}]
[764,"2015-01-04","2015-01-04","X",null,null,null,"X",764]
[765,"2015-01-05","2015-01-05",null,null,null,null,null,765]
[766,"2015-01-06","2015-01-06",null,null,null,null,null,766]
[767,"2015-01-07","2015-01-07",null,null,null,null,null,767]
[768,"2015-01-08","2015-01-08",null,null,null,null,null,768]
[769,"2015-01-09","2015-01-09",null,null,null,null,null,{"$f":"+IF(H778<>\"X\",A778,0)","v":769}]
[{"$f":"+A778+1","v":770},"2015-01-10","2015-01-10","X",null,null,null,"X",{"$f":"+A779","v":770}]
[771,"2015-01-11","2015-01-11","X",null,null,null,"X",771]
[772,"2015-01-12","2015-01-12",null,null,null,null,null,772]
[773,"2015-01-13","2015-01-13",null,null,null,null,null,773]
[774,"2015-01-14","2015-01-14",null,null,null,null,null,774]
[775,"2015-01-15","2015-01-15",null,null,null,null,null,775]
[776,"2015-01-16","2015-01-16",null,null,null,null,null,776]
[777,"2015-01-17","2015-01-17","X",null,null,null,"X",{"$f":"+A786","v":777}]
[778,"2015-01-18","2015-01-18","X",null,null,null,"X",778]
[779,"2015-01-19","2015-01-19",null,null,null,null,null,779]
[780,"2015-01-20","2015-01-20",null,null,null,null,null,780]
[781,"2015-01-21","2015-01-21",null,null,null,null,null,781]
[782,"2015-01-22","2015-01-22",null,null,null,null,null,782]
[783,"2015-01-23","2015-01-23",null,null,null,null,null,783]
[784,"2015-01-24","2015-01-24","X",null,null,null,"X",{"$f":"+A793","v":784}]
[785,"2015-01-25","2015-01-25","X",null,null,null,"X",785]
[{"$f":"+A794+1","v":786},"2015-01-26","2015-01-26",null,null,null,null,null,786]
[787,"2015-01-27","2015-01-27",null,null,null,null,null,787]
[788,"2015-01-28","2015-01-28",null,null,null,null,null,788]
[789,"2015-01-29","2015-01-29",null,null,null,null,null,789]
[790,"2015-01-30","2015-01-30",null,null,null,null,null,790]
[791,"2015-01-31","2015-01-31","X",null,null,null,"X",{"$f":"+A800","v":791}]
[792,"2015-02-01","2015-02-01","X",null,null,null,"X",792]
[793,"2015-02-02","2015-02-02",null,null,null,null,null,793]
[794,"2015-02-03","2015-02-03",null,null,null,null,null,794]
[795,"2015-02-04","2015-02-04",null,null,null,null,null,795]
[796,"2015-02-05","2015-02-05",null,null,null,null,null,796]
[797,"2015-02-06","2015-02-06",null,null,null,null,null,797]
[798,"2015-02-07","2015-02-07","X",null,null,null,"X",{"$f":"+A807","v":798}]
[799,"2015-02-08","2015-02-08","X",null,null,null,"X",799]
[800,"2015-02-09","2015-02-09",null,null,null,null,null,800]
[801,"2015-02-10","2015-02-10",null,null,null,null,null,801]
[{"$f":"+A810+1","v":802},"2015-02-11","2015-02-11",null,null,null,null,null,802]
[803,"2015-02-12","2015-02-12",null,null,null,null,null,803]
[804,"2015-02-13","2015-02-13",null,null,null,null,null,804]
[805,"2015-02-14","2015-02-14","X",null,null,null,"X",{"$f":"+A814","v":805}]
[806,"2015-02-15","2015-02-15","X",null,null,null,"X",806]
[807,"2015-02-16","2015-02-16",null,null,null,null,null,807]
[808,"2015-02-17","2015-02-17",null,null,null,null,null,808]
[809,"2015-02-18","2015-02-18",null,null,null,null,null,809]
[810,"2015-02-19","2015-02-19",null,null,null,null,null,810]
[811,"2015-02-20","2015-02-20",null,null,null,null,null,811]
[812,"2015-02-21","2015-02-21","X",null,null,null,"X",{"$f":"+A821","v":812}]
[813,"2015-02-22","2015-02-22","X",null,null,null,"X",813]
[814,"2015-02-23","2015-02-23",null,null,null,null,null,814]
[815,"2015-02-24","2015-02-24",null,null,null,null,null,815]
[816,"2015-02-25","2015-02-25",null,null,null,null,null,816]
[817,"2015-02-26","2015-02-26",null,null,null,null,null,817]
[{"$f":"+A826+1","v":818},"2015-02-27","2015-02-27",null,null,null,null,null,818]
[819,"2015-02-28","2015-02-28","X",null,null,null,"X",{"$f":"+A828","v":819}]
[820,"2015-03-01","2015-03-01","X",null,null,null,"X",820]
[821,"2015-03-02","2015-03-02",null,null,null,null,null,821]
[822,"2015-03-03","2015-03-03",null,null,null,null,null,822]
[823,"2015-03-04","2015-03-04",null,null,null,null,null,823]
[824,"2015-03-05","2015-03-05",null,null,null,null,null,824]
[825,"2015-03-06","2015-03-06",null,null,null,null,null,825]
[826,"2015-03-07","2015-03-07","X",null,null,null,"X",{"$f":"+A835","v":826}]
[827,"2015-03-08","2015-03-08","X",null,null,null,"X",827]
[828,"2015-03-09","2015-03-09",null,null,null,null,null,828]
[829,"2015-03-10","2015-03-10",null,null,null,null,null,829]
[830,"2015-03-11","2015-03-11",null,null,null,null,null,830]
[831,"2015-03-12","2015-03-12",null,null,null,null,null,831]
[832,"2015-03-13","2015-03-13",null,null,null,null,null,832]
[833,"2015-03-14","2015-03-14","X",null,null,null,"X",{"$f":"+A842","v":833}]
[{"$f":"+A842+1","v":834},"2015-03-15","2015-03-15","X",null,null,null,"X",834]
[835,"2015-03-16","2015-03-16",null,null,null,null,null,{"$f":"+IF(H844<>\"X\",A844,0)","v":835}]
[836,"2015-03-17","2015-03-17",null,null,null,null,null,836]
[837,"2015-03-18","2015-03-18",null,null,null,null,null,837]
[838,"2015-03-19","2015-03-19",null,null,null,null,null,838]
[839,"2015-03-20","2015-03-20",null,null,null,null,null,839]
[840,"2015-03-21","2015-03-21","X",null,null,null,"X",{"$f":"+A849","v":840}]
[841,"2015-03-22","2015-03-22","X",null,null,null,"X",841]
[842,"2015-03-23","2015-03-23",null,null,null,null,null,842]
[843,"2015-03-24","2015-03-24",null,null,null,null,null,843]
[844,"2015-03-25","2015-03-25",null,null,null,null,null,844]
[845,"2015-03-26","2015-03-26",null,null,null,null,null,845]
[846,"2015-03-27","2015-03-27",null,null,null,null,null,846]
[847,"2015-03-28","2015-03-28","X",null,null,null,"X",{"$f":"+A856","v":847}]
[848,"2015-03-29","2015-03-29","X",null,null,null,"X",848]
[849,"2015-03-30","2015-03-30",null,null,null,null,null,849]
[{"$f":"+A858+1","v":850},"2015-03-31","2015-03-31",null,null,null,null,null,850]
[851,"2015-04-01","2015-04-01",null,null,null,null,null,851]
[852,"2015-04-02","2015-04-02",null,null,"X",null,"X",{"$f":"+A861","v":852}]
[853,"2015-04-03","2015-04-03",null,null,"X",null,"X",853]
[854,"2015-04-04","2015-04-04","X",null,null,null,"X",854]
[855,"2015-04-05","2015-04-05","X",null,null,null,"X",855]
[856,"2015-04-06","2015-04-06",null,null,null,null,null,856]
[857,"2015-04-07","2015-04-07",null,null,null,null,null,857]
[858,"2015-04-08","2015-04-08",null,null,null,null,null,858]
[859,"2015-04-09","2015-04-09",null,null,null,null,null,859]
[860,"2015-04-10","2015-04-10",null,null,null,null,null,860]
[861,"2015-04-11","2015-04-11","X",null,null,null,"X",{"$f":"+A870","v":861}]
[862,"2015-04-12","2015-04-12","X",null,null,null,"X",862]
[863,"2015-04-13","2015-04-13",null,null,null,null,null,863]
[864,"2015-04-14","2015-04-14",null,null,null,null,null,864]
[865,"2015-04-15","2015-04-15",null,null,null,null,null,865]
[{"$f":"+A874+1","v":866},"2015-04-16","2015-04-16",null,null,null,null,null,866]
[867,"2015-04-17","2015-04-17",null,null,null,null,null,867]
[868,"2015-04-18","2015-04-18","X",null,null,null,"X",{"$f":"+A877","v":868}]
[869,"2015-04-19","2015-04-19","X",null,null,null,"X",869]
[870,"2015-04-20","2015-04-20",null,null,null,null,null,870]
[871,"2015-04-21","2015-04-21",null,null,null,null,null,871]
[872,"2015-04-22","2015-04-22",null,null,null,null,null,872]
[873,"2015-04-23","2015-04-23",null,null,null,null,null,873]
[874,"2015-04-24","2015-04-24",null,null,null,null,null,874]
[875,"2015-04-25","2015-04-25","X",null,null,null,"X",{"$f":"+A884","v":875}]
[876,"2015-04-26","2015-04-26","X",null,null,null,"X",876]
[877,"2015-04-27","2015-04-27",null,null,null,null,null,877]
[878,"2015-04-28","2015-04-28",null,null,null,null,null,878]
[879,"2015-04-29","2015-04-29",null,null,null,null,null,879]
[880,"2015-04-30","2015-04-30",null,null,null,null,null,880]
[881,"2015-05-01","2015-05-01",null,"X",null,null,"X",{"$f":"+A890","v":881}]
[{"$f":"+A890+1","v":882},"2015-05-02","2015-05-02","X",null,null,null,"X",882]
[883,"2015-05-03","2015-05-03","X",null,null,null,"X",883]
[884,"2015-05-04","2015-05-04",null,null,null,null,null,884]
[885,"2015-05-05","2015-05-05",null,null,null,null,null,885]
[886,"2015-05-06","2015-05-06",null,null,null,null,null,886]
[887,"2015-05-07","2015-05-07",null,null,null,null,null,887]
[888,"2015-05-08","2015-05-08",null,null,null,null,null,888]
[889,"2015-05-09","2015-05-09","X",null,null,null,"X",{"$f":"+A898","v":889}]
[890,"2015-05-10","2015-05-10","X",null,null,null,"X",890]
[891,"2015-05-11","2015-05-11",null,null,null,null,null,891]
[892,"2015-05-12","2015-05-12",null,null,null,null,null,892]
[893,"2015-05-13","2015-05-13",null,null,null,null,null,893]
[894,"2015-05-14","2015-05-14",null,null,null,null,null,894]
[895,"2015-05-15","2015-05-15",null,null,null,null,null,895]
[896,"2015-05-16","2015-05-16","X",null,null,null,"X",{"$f":"+A905","v":896}]
[897,"2015-05-17","2015-05-17","X",null,null,null,"X",897]
[{"$f":"+A906+1","v":898},"2015-05-18","2015-05-18",null,null,null,null,null,{"$f":"+IF(H907<>\"X\",A907,0)","v":898}]
[899,"2015-05-19","2015-05-19",null,null,null,null,null,899]
[900,"2015-05-20","2015-05-20",null,null,null,null,null,900]
[901,"2015-05-21","2015-05-21",null,null,null,null,null,901]
[902,"2015-05-22","2015-05-22",null,null,null,null,null,902]
[903,"2015-05-23","2015-05-23","X",null,null,null,"X",{"$f":"+A912","v":903}]
[904,"2015-05-24","2015-05-24","X",null,null,null,"X",904]
[905,"2015-05-25","2015-05-25",null,null,null,null,null,905]
[906,"2015-05-26","2015-05-26",null,null,null,null,null,906]
[907,"2015-05-27","2015-05-27",null,null,null,null,null,907]
[908,"2015-05-28","2015-05-28",null,null,null,null,null,908]
[909,"2015-05-29","2015-05-29",null,null,null,null,null,909]
[910,"2015-05-30","2015-05-30","X",null,null,null,"X",{"$f":"+A919","v":910}]
[911,"2015-05-31","2015-05-31","X",null,null,null,"X",911]
[912,"2015-06-01","2015-06-01",null,null,null,null,null,912]
[913,"2015-06-02","2015-06-02",null,null,null,null,null,913]
[{"$f":"+A922+1","v":914},"2015-06-03","2015-06-03",null,null,null,null,null,914]
[915,"2015-06-04","2015-06-04",null,null,null,null,null,915]
[916,"2015-06-05","2015-06-05",null,null,null,null,null,916]
[917,"2015-06-06","2015-06-06","X",null,null,null,"X",{"$f":"+A926","v":917}]
[918,"2015-06-07","2015-06-07","X",null,null,null,"X",918]
[919,"2015-06-08","2015-06-08",null,null,null,null,null,919]
[920,"2015-06-09","2015-06-09",null,null,null,null,null,920]
[921,"2015-06-10","2015-06-10",null,null,null,null,null,921]
[922,"2015-06-11","2015-06-11",null,null,null,null,null,922]
[923,"2015-06-12","2015-06-12",null,null,null,null,null,923]
[924,"2015-06-13","2015-06-13","X",null,null,null,"X",{"$f":"+A933","v":924}]
[925,"2015-06-14","2015-06-14","X",null,null,null,"X",925]
[926,"2015-06-15","2015-06-15",null,null,null,null,null,926]
[927,"2015-06-16","2015-06-16",null,null,null,null,null,927]
[928,"2015-06-17","2015-06-17",null,null,null,null,null,928]
[929,"2015-06-18","2015-06-18",null,null,null,null,null,929]
[{"$f":"+A938+1","v":930},"2015-06-19","2015-06-19",null,null,null,null,null,930]
[931,"2015-06-20","2015-06-20","X",null,null,null,"X",{"$f":"+A940","v":931}]
[932,"2015-06-21","2015-06-21","X",null,null,null,"X",932]
[933,"2015-06-22","2015-06-22",null,null,null,null,null,933]
[934,"2015-06-23","2015-06-23",null,null,null,null,null,934]
[935,"2015-06-24","2015-06-24",null,null,null,null,null,935]
[936,"2015-06-25","2015-06-25",null,null,null,null,null,936]
[937,"2015-06-26","2015-06-26",null,null,null,null,null,937]
[938,"2015-06-27","2015-06-27","X",null,null,null,"X",{"$f":"+A947","v":938}]
[939,"2015-06-28","2015-06-28","X",null,null,null,"X",939]
[940,"2015-06-29","2015-06-29",null,"X",null,null,"X",940]
[941,"2015-06-30","2015-06-30",null,null,null,null,null,941]
[942,"2015-07-01","2015-07-01",null,null,null,null,null,942]
[943,"2015-07-02","2015-07-02",null,null,null,null,null,943]
[944,"2015-07-03","2015-07-03",null,null,null,null,null,944]
[945,"2015-07-04","2015-07-04","X",null,null,null,"X",{"$f":"+A954","v":945}]
[{"$f":"+A954+1","v":946},"2015-07-05","2015-07-05","X",null,null,null,"X",946]
[947,"2015-07-06","2015-07-06",null,null,null,null,null,947]
[948,"2015-07-07","2015-07-07",null,null,null,null,null,948]
[949,"2015-07-08","2015-07-08",null,null,null,null,null,949]
[950,"2015-07-09","2015-07-09",null,null,null,null,null,950]
[951,"2015-07-10","2015-07-10",null,null,null,null,null,951]
[952,"2015-07-11","2015-07-11","X",null,null,null,"X",{"$f":"+A961","v":952}]
[953,"2015-07-12","2015-07-12","X",null,null,null,"X",953]
[954,"2015-07-13","2015-07-13",null,null,null,null,null,954]
[955,"2015-07-14","2015-07-14",null,null,null,null,null,955]
[956,"2015-07-15","2015-07-15",null,null,null,null,null,956]
[957,"2015-07-16","2015-07-16",null,null,null,null,null,957]
[958,"2015-07-17","2015-07-17",null,null,null,null,null,958]
[959,"2015-07-18","2015-07-18","X",null,null,null,"X",{"$f":"+A968","v":959}]
[960,"2015-07-19","2015-07-19","X",null,null,null,"X",960]
[961,"2015-07-20","2015-07-20",null,null,null,null,null,{"$f":"+IF(H970<>\"X\",A970,0)","v":961}]
[{"$f":"+A970+1","v":962},"2015-07-21","2015-07-21",null,null,null,null,null,962]
[963,"2015-07-22","2015-07-22",null,null,null,null,null,963]
[964,"2015-07-23","2015-07-23",null,null,null,null,null,964]
[965,"2015-07-24","2015-07-24",null,null,null,null,null,965]
[966,"2015-07-25","2015-07-25","X",null,null,null,"X",{"$f":"+A975","v":966}]
[967,"2015-07-26","2015-07-26","X",null,null,null,"X",967]
[968,"2015-07-27","2015-07-27",null,null,null,null,null,968]
[969,"2015-07-28","2015-07-28",null,"X",null,null,"X",{"$f":"+A978","v":969}]
[970,"2015-07-29","2015-07-29",null,"X",null,null,"X",970]
[971,"2015-07-30","2015-07-30",null,null,null,null,null,971]
[972,"2015-07-31","2015-07-31",null,null,null,null,null,972]
[973,"2015-08-01","2015-08-01","X",null,null,null,"X",{"$f":"+A982","v":973}]
[974,"2015-08-02","2015-08-02","X",null,null,null,"X",974]
[975,"2015-08-03","2015-08-03",null,null,null,null,null,975]
[976,"2015-08-04","2015-08-04",null,null,null,null,null,976]
[977,"2015-08-05","2015-08-05",null,null,null,null,null,977]
[{"$f":"+A986+1","v":978},"2015-08-06","2015-08-06",null,null,null,null,null,978]
[979,"2015-08-07","2015-08-07",null,null,null,null,null,979]
[980,"2015-08-08","2015-08-08","X",null,null,null,"X",{"$f":"+A989","v":980}]
[981,"2015-08-09","2015-08-09","X",null,null,null,"X",981]
[982,"2015-08-10","2015-08-10",null,null,null,null,null,982]
[983,"2015-08-11","2015-08-11",null,null,null,null,null,983]
[984,"2015-08-12","2015-08-12",null,null,null,null,null,984]
[985,"2015-08-13","2015-08-13",null,null,null,null,null,985]
[986,"2015-08-14","2015-08-14",null,null,null,null,null,986]
[987,"2015-08-15","2015-08-15","X",null,null,null,"X",{"$f":"+A996","v":987}]
[988,"2015-08-16","2015-08-16","X",null,null,null,"X",988]
[989,"2015-08-17","2015-08-17",null,null,null,null,null,989]
[990,"2015-08-18","2015-08-18",null,null,null,null,null,990]
[991,"2015-08-19","2015-08-19",null,null,null,null,null,991]
[992,"2015-08-20","2015-08-20",null,null,null,null,null,992]
[993,"2015-08-21","2015-08-21",null,null,null,null,null,993]
[{"$f":"+A1002+1","v":994},"2015-08-22","2015-08-22","X",null,null,null,"X",{"$f":"+A1003","v":994}]
[995,"2015-08-23","2015-08-23","X",null,null,null,"X",995]
[996,"2015-08-24","2015-08-24",null,null,null,null,null,996]
[997,"2015-08-25","2015-08-25",null,null,null,null,null,997]
[998,"2015-08-26","2015-08-26",null,null,null,null,null,998]
[999,"2015-08-27","2015-08-27",null,null,null,null,null,999]
[1000,"2015-08-28","2015-08-28",null,null,null,null,null,1000]
[1001,"2015-08-29","2015-08-29","X",null,null,null,"X",{"$f":"+A1010","v":1001}]
[1002,"2015-08-30","2015-08-30","X",null,null,null,"X",1002]
[1003,"2015-08-31","2015-08-31",null,null,null,null,null,1003]
[1004,"2015-09-01","2015-09-01",null,null,null,null,null,1004]
[1005,"2015-09-02","2015-09-02",null,null,null,null,null,1005]
[1006,"2015-09-03","2015-09-03",null,null,null,null,null,1006]
[1007,"2015-09-04","2015-09-04",null,null,null,null,null,1007]
[1008,"2015-09-05","2015-09-05","X",null,null,null,"X",{"$f":"+A1017","v":1008}]
[1009,"2015-09-06","2015-09-06","X",null,null,null,"X",1009]
[{"$f":"+A1018+1","v":1010},"2015-09-07","2015-09-07",null,null,null,null,null,1010]
[1011,"2015-09-08","2015-09-08",null,null,null,null,null,1011]
[1012,"2015-09-09","2015-09-09",null,null,null,null,null,1012]
[1013,"2015-09-10","2015-09-10",null,null,null,null,null,1013]
[1014,"2015-09-11","2015-09-11",null,null,null,null,null,1014]
[1015,"2015-09-12","2015-09-12","X",null,null,null,"X",{"$f":"+A1024","v":1015}]
[1016,"2015-09-13","2015-09-13","X",null,null,null,"X",1016]
[1017,"2015-09-14","2015-09-14",null,null,null,null,null,1017]
[1018,"2015-09-15","2015-09-15",null,null,null,null,null,1018]
[1019,"2015-09-16","2015-09-16",null,null,null,null,null,1019]
[1020,"2015-09-17","2015-09-17",null,null,null,null,null,1020]
[1021,"2015-09-18","2015-09-18",null,null,null,null,null,1021]
[1022,"2015-09-19","2015-09-19","X",null,null,null,"X",{"$f":"+A1031","v":1022}]
[1023,"2015-09-20","2015-09-20","X",null,null,null,"X",1023]
[1024,"2015-09-21","2015-09-21",null,null,null,null,null,1024]
[1025,"2015-09-22","2015-09-22",null,null,null,null,null,{"$f":"+IF(H1034<>\"X\",A1034,0)","v":1025}]
[{"$f":"+A1034+1","v":1026},"2015-09-23","2015-09-23",null,null,null,null,null,1026]
[1027,"2015-09-24","2015-09-24",null,null,null,null,null,1027]
[1028,"2015-09-25","2015-09-25",null,null,null,null,null,1028]
[1029,"2015-09-26","2015-09-26","X",null,null,null,"X",{"$f":"+A1038","v":1029}]
[1030,"2015-09-27","2015-09-27","X",null,null,null,"X",1030]
[1031,"2015-09-28","2015-09-28",null,null,null,null,null,1031]
[1032,"2015-09-29","2015-09-29",null,null,null,null,null,1032]
[1033,"2015-09-30","2015-09-30",null,null,null,null,null,1033]
[1034,"2015-10-01","2015-10-01",null,null,null,null,null,1034]
[1035,"2015-10-02","2015-10-02",null,null,null,null,null,1035]
[1036,"2015-10-03","2015-10-03","X",null,null,null,"X",{"$f":"+A1045","v":1036}]
[1037,"2015-10-04","2015-10-04","X",null,null,null,"X",1037]
[1038,"2015-10-05","2015-10-05",null,null,null,null,null,1038]
[1039,"2015-10-06","2015-10-06",null,null,null,null,null,1039]
[1040,"2015-10-07","2015-10-07",null,null,null,null,null,1040]
[1041,"2015-10-08","2015-10-08",null,"X",null,null,"X",{"$f":"+A1050","v":1041}]
[{"$f":"+A1050+1","v":1042},"2015-10-09","2015-10-09",null,null,null,null,null,1042]
[1043,"2015-10-10","2015-10-10","X",null,null,null,"X",{"$f":"+A1052","v":1043}]
[1044,"2015-10-11","2015-10-11","X",null,null,null,"X",1044]
[1045,"2015-10-12","2015-10-12",null,null,null,null,null,1045]
[1046,"2015-10-13","2015-10-13",null,null,null,null,null,1046]
[1047,"2015-10-14","2015-10-14",null,null,null,null,null,1047]
[1048,"2015-10-15","2015-10-15",null,null,null,null,null,1048]
[1049,"2015-10-16","2015-10-16",null,null,null,null,null,1049]
[1050,"2015-10-17","2015-10-17","X",null,null,null,"X",{"$f":"+A1059","v":1050}]
[1051,"2015-10-18","2015-10-18","X",null,null,null,"X",1051]
[1052,"2015-10-19","2015-10-19",null,null,null,null,null,1052]
[1053,"2015-10-20","2015-10-20",null,null,null,null,null,1053]
[1054,"2015-10-21","2015-10-21",null,null,null,null,null,1054]
[1055,"2015-10-22","2015-10-22",null,null,null,null,null,1055]
[1056,"2015-10-23","2015-10-23",null,null,null,null,null,1056]
[1057,"2015-10-24","2015-10-24","X",null,null,null,"X",{"$f":"+A1066","v":1057}]
[{"$f":"+A1066+1","v":1058},"2015-10-25","2015-10-25","X",null,null,null,"X",1058]
[1059,"2015-10-26","2015-10-26",null,null,null,null,null,1059]
[1060,"2015-10-27","2015-10-27",null,null,null,null,null,1060]
[1061,"2015-10-28","2015-10-28",null,null,null,null,null,1061]
[1062,"2015-10-29","2015-10-29",null,null,null,null,null,1062]
[1063,"2015-10-30","2015-10-30",null,null,null,null,null,1063]
[1064,"2015-10-31","2015-10-31","X",null,null,null,"X",{"$f":"+A1073","v":1064}]
[1065,"2015-11-01","2015-11-01","X","X",null,null,"X",1065]
[1066,"2015-11-02","2015-11-02",null,null,null,null,null,1066]
[1067,"2015-11-03","2015-11-03",null,null,null,null,null,1067]
[1068,"2015-11-04","2015-11-04",null,null,null,null,null,1068]
[1069,"2015-11-05","2015-11-05",null,null,null,null,null,1069]
[1070,"2015-11-06","2015-11-06",null,null,null,null,null,1070]
[1071,"2015-11-07","2015-11-07","X",null,null,null,"X",{"$f":"+A1080","v":1071}]
[1072,"2015-11-08","2015-11-08","X",null,null,null,"X",1072]
[1073,"2015-11-09","2015-11-09",null,null,null,null,null,1073]
[{"$f":"+A1082+1","v":1074},"2015-11-10","2015-11-10",null,null,null,null,null,1074]
[1075,"2015-11-11","2015-11-11",null,null,null,null,null,1075]
[1076,"2015-11-12","2015-11-12",null,null,null,null,null,1076]
[1077,"2015-11-13","2015-11-13",null,null,null,null,null,1077]
[1078,"2015-11-14","2015-11-14","X",null,null,null,"X",{"$f":"+A1087","v":1078}]
[1079,"2015-11-15","2015-11-15","X",null,null,null,"X",1079]
[1080,"2015-11-16","2015-11-16",null,null,null,null,null,1080]
[1081,"2015-11-17","2015-11-17",null,null,null,null,null,1081]
[1082,"2015-11-18","2015-11-18",null,null,null,null,null,1082]
[1083,"2015-11-19","2015-11-19",null,null,null,null,null,1083]
[1084,"2015-11-20","2015-11-20",null,null,null,null,null,1084]
[1085,"2015-11-21","2015-11-21","X",null,null,null,"X",{"$f":"+A1094","v":1085}]
[1086,"2015-11-22","2015-11-22","X",null,null,null,"X",1086]
[1087,"2015-11-23","2015-11-23",null,null,null,null,null,1087]
[1088,"2015-11-24","2015-11-24",null,null,null,null,null,1088]
[1089,"2015-11-25","2015-11-25",null,null,null,null,null,{"$f":"+IF(H1098<>\"X\",A1098,0)","v":1089}]
[{"$f":"+A1098+1","v":1090},"2015-11-26","2015-11-26",null,null,null,null,null,1090]
[1091,"2015-11-27","2015-11-27",null,null,null,null,null,1091]
[1092,"2015-11-28","2015-11-28","X",null,null,null,"X",{"$f":"+A1101","v":1092}]
[1093,"2015-11-29","2015-11-29","X",null,null,null,"X",1093]
[1094,"2015-11-30","2015-11-30",null,null,null,null,null,1094]
[1095,"2015-12-01","2015-12-01",null,null,null,null,null,1095]
[1096,"2015-12-02","2015-12-02",null,null,null,null,null,1096]
[1097,"2015-12-03","2015-12-03",null,null,null,null,null,1097]
[1098,"2015-12-04","2015-12-04",null,null,null,null,null,1098]
[1099,"2015-12-05","2015-12-05","X",null,null,null,"X",{"$f":"+A1108","v":1099}]
[1100,"2015-12-06","2015-12-06","X",null,null,null,"X",1100]
[1101,"2015-12-07","2015-12-07",null,null,null,null,null,1101]
[1102,"2015-12-08","2015-12-08",null,"X",null,null,"X",{"$f":"+A1111","v":1102}]
[1103,"2015-12-09","2015-12-09",null,null,null,null,null,1103]
[1104,"2015-12-10","2015-12-10",null,null,null,null,null,1104]
[1105,"2015-12-11","2015-12-11",null,null,null,null,null,1105]
[{"$f":"+A1114+1","v":1106},"2015-12-12","2015-12-12","X",null,null,null,"X",{"$f":"+A1115","v":1106}]
[1107,"2015-12-13","2015-12-13","X",null,null,null,"X",1107]
[1108,"2015-12-14","2015-12-14",null,null,null,null,null,1108]
[1109,"2015-12-15","2015-12-15",null,null,null,null,null,1109]
[1110,"2015-12-16","2015-12-16",null,null,null,null,null,1110]
[1111,"2015-12-17","2015-12-17",null,null,null,null,null,1111]
[1112,"2015-12-18","2015-12-18",null,null,null,null,null,1112]
[1113,"2015-12-19","2015-12-19","X",null,null,null,"X",{"$f":"+A1122","v":1113}]
[1114,"2015-12-20","2015-12-20","X",null,null,null,"X",1114]
[1115,"2015-12-21","2015-12-21",null,null,null,null,null,1115]
[1116,"2015-12-22","2015-12-22",null,null,null,null,null,1116]
[1117,"2015-12-23","2015-12-23",null,null,null,null,null,1117]
[1118,"2015-12-24","2015-12-24",null,null,null,null,null,1118]
[1119,"2015-12-25","2015-12-25",null,"X",null,null,"X",{"$f":"+A1128","v":1119}]
[1120,"2015-12-26","2015-12-26","X",null,null,null,"X",1120]
[1121,"2015-12-27","2015-12-27","X",null,null,null,"X",1121]
[{"$f":"+A1130+1","v":1122},"2015-12-28","2015-12-28",null,null,null,null,null,1122]
[1123,"2015-12-29","2015-12-29",null,null,null,null,null,1123]
[1124,"2015-12-30","2015-12-30",null,null,null,null,null,1124]
[1125,"2015-12-31","2015-12-31",null,null,null,null,"X",0]
[1126,"2016-01-01","2016-01-01",null,"X",null,null,"X",{"$f":"+A1135","v":1126}]
[1127,"2016-01-02","2016-01-02","X",null,null,null,"X",1127]
[1128,"2016-01-03","2016-01-03","X",null,null,null,"X",1128]
[1129,"2016-01-04","2016-01-04",null,null,null,null,null,1129]
[1130,"2016-01-05","2016-01-05",null,null,null,null,null,1130]
[1131,"2016-01-06","2016-01-06",null,null,null,null,null,1131]
[1132,"2016-01-07","2016-01-07",null,null,null,null,null,1132]
[1133,"2016-01-08","2016-01-08",null,null,null,null,null,1133]
[1134,"2016-01-09","2016-01-09","X",null,null,null,"X",{"$f":"+A1143","v":1134}]
[1135,"2016-01-10","2016-01-10","X",null,null,null,"X",1135]
[1136,"2016-01-11","2016-01-11",null,null,null,null,null,1136]
[1137,"2016-01-12","2016-01-12",null,null,null,null,null,1137]
[{"$f":"+A1146+1","v":1138},"2016-01-13","2016-01-13",null,null,null,null,null,1138]
[1139,"2016-01-14","2016-01-14",null,null,null,null,null,1139]
[1140,"2016-01-15","2016-01-15",null,null,null,null,null,1140]
[1141,"2016-01-16","2016-01-16","X",null,null,null,"X",{"$f":"+A1150","v":1141}]
[1142,"2016-01-17","2016-01-17","X",null,null,null,"X",1142]
[1143,"2016-01-18","2016-01-18",null,null,null,null,null,1143]
[1144,"2016-01-19","2016-01-19",null,null,null,null,null,1144]
[1145,"2016-01-20","2016-01-20",null,null,null,null,null,1145]
[1146,"2016-01-21","2016-01-21",null,null,null,null,null,1146]
[1147,"2016-01-22","2016-01-22",null,null,null,null,null,1147]
[1148,"2016-01-23","2016-01-23","X",null,null,null,"X",{"$f":"+A1157","v":1148}]
[1149,"2016-01-24","2016-01-24","X",null,null,null,"X",1149]
[1150,"2016-01-25","2016-01-25",null,null,null,null,null,1150]
[1151,"2016-01-26","2016-01-26",null,null,null,null,null,1151]
[1152,"2016-01-27","2016-01-27",null,null,null,null,null,1152]
[1153,"2016-01-28","2016-01-28",null,null,null,null,null,{"$f":"+IF(H1162<>\"X\",A1162,0)","v":1153}]
[{"$f":"+A1162+1","v":1154},"2016-01-29","2016-01-29",null,null,null,null,null,1154]
[1155,"2016-01-30","2016-01-30","X",null,null,null,"X",{"$f":"+A1164","v":1155}]
[1156,"2016-01-31","2016-01-31","X",null,null,null,"X",1156]
[1157,"2016-02-01","2016-02-01",null,null,null,null,null,1157]
[1158,"2016-02-02","2016-02-02",null,null,null,null,null,1158]
[1159,"2016-02-03","2016-02-03",null,null,null,null,null,1159]
[1160,"2016-02-04","2016-02-04",null,null,null,null,null,1160]
[1161,"2016-02-05","2016-02-05",null,null,null,null,null,1161]
[1162,"2016-02-06","2016-02-06","X",null,null,null,"X",{"$f":"+A1171","v":1162}]
[1163,"2016-02-07","2016-02-07","X",null,null,null,"X",1163]
[1164,"2016-02-08","2016-02-08",null,null,null,null,null,1164]
[1165,"2016-02-09","2016-02-09",null,null,null,null,null,1165]
[1166,"2016-02-10","2016-02-10",null,null,null,null,null,1166]
[1167,"2016-02-11","2016-02-11",null,null,null,null,null,1167]
[1168,"2016-02-12","2016-02-12",null,null,null,null,null,1168]
[1169,"2016-02-13","2016-02-13","X",null,null,null,"X",{"$f":"+A1178","v":1169}]
[{"$f":"+A1178+1","v":1170},"2016-02-14","2016-02-14","X",null,null,null,"X",1170]
[1171,"2016-02-15","2016-02-15",null,null,null,null,null,1171]
[1172,"2016-02-16","2016-02-16",null,null,null,null,null,1172]
[1173,"2016-02-17","2016-02-17",null,null,null,null,null,1173]
[1174,"2016-02-18","2016-02-18",null,null,null,null,null,1174]
[1175,"2016-02-19","2016-02-19",null,null,null,null,null,1175]
[1176,"2016-02-20","2016-02-20","X",null,null,null,"X",{"$f":"+A1185","v":1176}]
[1177,"2016-02-21","2016-02-21","X",null,null,null,"X",1177]
[1178,"2016-02-22","2016-02-22",null,null,null,null,null,1178]
[1179,"2016-02-23","2016-02-23",null,null,null,null,null,1179]
[1180,"2016-02-24","2016-02-24",null,null,null,null,null,1180]
[1181,"2016-02-25","2016-02-25",null,null,null,null,null,1181]
[1182,"2016-02-26","2016-02-26",null,null,null,null,null,1182]
[1183,"2016-02-27","2016-02-27","X",null,null,null,"X",{"$f":"+A1192","v":1183}]
[1184,"2016-02-28","2016-02-28","X",null,null,null,"X",1184]
[1185,"2016-02-29","2016-02-29",null,null,null,null,null,1185]
[{"$f":"+A1194+1","v":1186},"2016-03-01","2016-03-01",null,null,null,null,null,1186]
[1187,"2016-03-02","2016-03-02",null,null,null,null,null,1187]
[1188,"2016-03-03","2016-03-03",null,null,null,null,null,1188]
[1189,"2016-03-04","2016-03-04",null,null,null,null,null,1189]
[1190,"2016-03-05","2016-03-05","X",null,null,null,"X",{"$f":"+A1199","v":1190}]
[1191,"2016-03-06","2016-03-06","X",null,null,null,"X",1191]
[1192,"2016-03-07","2016-03-07",null,null,null,null,null,1192]
[1193,"2016-03-08","2016-03-08",null,null,null,null,null,1193]
[1194,"2016-03-09","2016-03-09",null,null,null,null,null,1194]
[1195,"2016-03-10","2016-03-10",null,null,null,null,null,1195]
[1196,"2016-03-11","2016-03-11",null,null,null,null,null,1196]
[1197,"2016-03-12","2016-03-12","X",null,null,null,"X",{"$f":"+A1206","v":1197}]
[1198,"2016-03-13","2016-03-13","X",null,null,null,"X",1198]
[1199,"2016-03-14","2016-03-14",null,null,null,null,null,1199]
[1200,"2016-03-15","2016-03-15",null,null,null,null,null,1200]
[1201,"2016-03-16","2016-03-16",null,null,null,null,null,1201]
[{"$f":"+A1210+1","v":1202},"2016-03-17","2016-03-17",null,null,null,null,null,1202]
[1203,"2016-03-18","2016-03-18",null,null,null,null,null,1203]
[1204,"2016-03-19","2016-03-19","X",null,null,null,"X",{"$f":"+A1213","v":1204}]
[1205,"2016-03-20","2016-03-20","X",null,null,null,"X",1205]
[1206,"2016-03-21","2016-03-21",null,null,null,null,null,1206]
[1207,"2016-03-22","2016-03-22",null,null,null,null,null,1207]
[1208,"2016-03-23","2016-03-23",null,null,null,null,null,1208]
[1209,"2016-03-24","2016-03-24",null,null,"X",null,"X",{"$f":"+A1218","v":1209}]
[1210,"2016-03-25","2016-03-25",null,null,"X",null,"X",1210]
[1211,"2016-03-26","2016-03-26","X",null,null,null,"X",1211]
[1212,"2016-03-27","2016-03-27","X",null,null,null,"X",1212]
[1213,"2016-03-28","2016-03-28",null,null,null,null,null,1213]
[1214,"2016-03-29","2016-03-29",null,null,null,null,null,1214]
[1215,"2016-03-30","2016-03-30",null,null,null,null,null,1215]
[1216,"2016-03-31","2016-03-31",null,null,null,null,null,1216]
[1217,"2016-04-01","2016-04-01",null,null,null,null,null,{"$f":"+IF(H1226<>\"X\",A1226,0)","v":1217}]
[{"$f":"+A1226+1","v":1218},"2016-04-02","2016-04-02","X",null,null,null,"X",{"$f":"+A1227","v":1218}]
[1219,"2016-04-03","2016-04-03","X",null,null,null,"X",1219]
[1220,"2016-04-04","2016-04-04",null,null,null,null,null,1220]
[1221,"2016-04-05","2016-04-05",null,null,null,null,null,1221]
[1222,"2016-04-06","2016-04-06",null,null,null,null,null,1222]
[1223,"2016-04-07","2016-04-07",null,null,null,null,null,1223]
[1224,"2016-04-08","2016-04-08",null,null,null,null,null,1224]
[1225,"2016-04-09","2016-04-09","X",null,null,null,"X",{"$f":"+A1234","v":1225}]
[1226,"2016-04-10","2016-04-10","X",null,null,null,"X",1226]
[1227,"2016-04-11","2016-04-11",null,null,null,null,null,1227]
[1228,"2016-04-12","2016-04-12",null,null,null,null,null,1228]
[1229,"2016-04-13","2016-04-13",null,null,null,null,null,1229]
[1230,"2016-04-14","2016-04-14",null,null,null,null,null,1230]
[1231,"2016-04-15","2016-04-15",null,null,null,null,null,1231]
[1232,"2016-04-16","2016-04-16","X",null,null,null,"X",{"$f":"+A1241","v":1232}]
[1233,"2016-04-17","2016-04-17","X",null,null,null,"X",1233]
[{"$f":"+A1242+1","v":1234},"2016-04-18","2016-04-18",null,null,null,null,null,1234]
[1235,"2016-04-19","2016-04-19",null,null,null,null,null,1235]
[1236,"2016-04-20","2016-04-20",null,null,null,null,null,1236]
[1237,"2016-04-21","2016-04-21",null,null,null,null,null,1237]
[1238,"2016-04-22","2016-04-22",null,null,null,null,null,1238]
[1239,"2016-04-23","2016-04-23","X",null,null,null,"X",{"$f":"+A1248","v":1239}]
[1240,"2016-04-24","2016-04-24","X",null,null,null,"X",1240]
[1241,"2016-04-25","2016-04-25",null,null,null,null,null,1241]
[1242,"2016-04-26","2016-04-26",null,null,null,null,null,1242]
[1243,"2016-04-27","2016-04-27",null,null,null,null,null,1243]
[1244,"2016-04-28","2016-04-28",null,null,null,null,null,1244]
[1245,"2016-04-29","2016-04-29",null,null,null,null,null,1245]
[1246,"2016-04-30","2016-04-30","X",null,null,null,"X",{"$f":"+A1255","v":1246}]
[1247,"2016-05-01","2016-05-01","X","X",null,null,"X",1247]
[1248,"2016-05-02","2016-05-02",null,null,null,null,null,1248]
[1249,"2016-05-03","2016-05-03",null,null,null,null,null,1249]
[{"$f":"+A1258+1","v":1250},"2016-05-04","2016-05-04",null,null,null,null,null,1250]
[1251,"2016-05-05","2016-05-05",null,null,null,null,null,1251]
[1252,"2016-05-06","2016-05-06",null,null,null,null,null,1252]
[1253,"2016-05-07","2016-05-07","X",null,null,null,"X",{"$f":"+A1262","v":1253}]
[1254,"2016-05-08","2016-05-08","X",null,null,null,"X",1254]
[1255,"2016-05-09","2016-05-09",null,null,null,null,null,1255]
[1256,"2016-05-10","2016-05-10",null,null,null,null,null,1256]
[1257,"2016-05-11","2016-05-11",null,null,null,null,null,1257]
[1258,"2016-05-12","2016-05-12",null,null,null,null,null,1258]
[1259,"2016-05-13","2016-05-13",null,null,null,null,null,1259]
[1260,"2016-05-14","2016-05-14","X",null,null,null,"X",{"$f":"+A1269","v":1260}]
[1261,"2016-05-15","2016-05-15","X",null,null,null,"X",1261]
[1262,"2016-05-16","2016-05-16",null,null,null,null,null,1262]
[1263,"2016-05-17","2016-05-17",null,null,null,null,null,1263]
[1264,"2016-05-18","2016-05-18",null,null,null,null,null,1264]
[1265,"2016-05-19","2016-05-19",null,null,null,null,null,1265]
[{"$f":"+A1274+1","v":1266},"2016-05-20","2016-05-20",null,null,null,null,null,1266]
[1267,"2016-05-21","2016-05-21","X",null,null,null,"X",{"$f":"+A1276","v":1267}]
[1268,"2016-05-22","2016-05-22","X",null,null,null,"X",1268]
[1269,"2016-05-23","2016-05-23",null,null,null,null,null,1269]
[1270,"2016-05-24","2016-05-24",null,null,null,null,null,1270]
[1271,"2016-05-25","2016-05-25",null,null,null,null,null,1271]
[1272,"2016-05-26","2016-05-26",null,null,null,null,null,1272]
[1273,"2016-05-27","2016-05-27",null,null,null,null,null,1273]
[1274,"2016-05-28","2016-05-28","X",null,null,null,"X",{"$f":"+A1283","v":1274}]
[1275,"2016-05-29","2016-05-29","X",null,null,null,"X",1275]
[1276,"2016-05-30","2016-05-30",null,null,null,null,null,1276]
[1277,"2016-05-31","2016-05-31",null,null,null,null,null,1277]
[1278,"2016-06-01","2016-06-01",null,null,null,null,null,1278]
[1279,"2016-06-02","2016-06-02",null,null,null,null,null,1279]
[1280,"2016-06-03","2016-06-03",null,null,null,null,null,1280]
[1281,"2016-06-04","2016-06-04","X",null,null,null,"X",{"$f":"+A1290","v":1281}]
[{"$f":"+A1290+1","v":1282},"2016-06-05","2016-06-05","X",null,null,null,"X",1282]
[1283,"2016-06-06","2016-06-06",null,null,null,null,null,{"$f":"+IF(H1292<>\"X\",A1292,0)","v":1283}]
[1284,"2016-06-07","2016-06-07",null,null,null,null,null,1284]
[1285,"2016-06-08","2016-06-08",null,null,null,null,null,1285]
[1286,"2016-06-09","2016-06-09",null,null,null,null,null,1286]
[1287,"2016-06-10","2016-06-10",null,null,null,null,null,1287]
[1288,"2016-06-11","2016-06-11","X",null,null,null,"X",{"$f":"+A1297","v":1288}]
[1289,"2016-06-12","2016-06-12","X",null,null,null,"X",1289]
[1290,"2016-06-13","2016-06-13",null,null,null,null,null,1290]
[1291,"2016-06-14","2016-06-14",null,null,null,null,null,1291]
[1292,"2016-06-15","2016-06-15",null,null,null,null,null,1292]
[1293,"2016-06-16","2016-06-16",null,null,null,null,null,1293]
[1294,"2016-06-17","2016-06-17",null,null,null,null,null,1294]
[1295,"2016-06-18","2016-06-18","X",null,null,null,"X",{"$f":"+A1304","v":1295}]
[1296,"2016-06-19","2016-06-19","X",null,null,null,"X",1296]
[1297,"2016-06-20","2016-06-20",null,null,null,null,null,1297]
[{"$f":"+A1306+1","v":1298},"2016-06-21","2016-06-21",null,null,null,null,null,1298]
[1299,"2016-06-22","2016-06-22",null,null,null,null,null,1299]
[1300,"2016-06-23","2016-06-23",null,null,null,null,null,1300]
[1301,"2016-06-24","2016-06-24",null,null,null,null,null,1301]
[1302,"2016-06-25","2016-06-25","X",null,null,null,"X",{"$f":"+A1311","v":1302}]
[1303,"2016-06-26","2016-06-26","X",null,null,null,"X",1303]
[1304,"2016-06-27","2016-06-27",null,null,null,null,null,1304]
[1305,"2016-06-28","2016-06-28",null,null,null,null,null,1305]
[1306,"2016-06-29","2016-06-29",null,"X",null,null,"X",{"$f":"+A1315","v":1306}]
[1307,"2016-06-30","2016-06-30",null,null,null,null,null,1307]
[1308,"2016-07-01","2016-07-01",null,null,null,null,null,1308]
[1309,"2016-07-02","2016-07-02","X",null,null,null,"X",{"$f":"+A1318","v":1309}]
[1310,"2016-07-03","2016-07-03","X",null,null,null,"X",1310]
[1311,"2016-07-04","2016-07-04",null,null,null,null,null,1311]
[1312,"2016-07-05","2016-07-05",null,null,null,null,null,1312]
[1313,"2016-07-06","2016-07-06",null,null,null,null,null,1313]
[{"$f":"+A1322+1","v":1314},"2016-07-07","2016-07-07",null,null,null,null,null,1314]
[1315,"2016-07-08","2016-07-08",null,null,null,null,null,1315]
[1316,"2016-07-09","2016-07-09","X",null,null,null,"X",{"$f":"+A1325","v":1316}]
[1317,"2016-07-10","2016-07-10","X",null,null,null,"X",1317]
[1318,"2016-07-11","2016-07-11",null,null,null,null,null,1318]
[1319,"2016-07-12","2016-07-12",null,null,null,null,null,1319]
[1320,"2016-07-13","2016-07-13",null,null,null,null,null,1320]
[1321,"2016-07-14","2016-07-14",null,null,null,null,null,1321]
[1322,"2016-07-15","2016-07-15",null,null,null,null,null,1322]
[1323,"2016-07-16","2016-07-16","X",null,null,null,"X",{"$f":"+A1332","v":1323}]
[1324,"2016-07-17","2016-07-17","X",null,null,null,"X",1324]
[1325,"2016-07-18","2016-07-18",null,null,null,null,null,1325]
[1326,"2016-07-19","2016-07-19",null,null,null,null,null,1326]
[1327,"2016-07-20","2016-07-20",null,null,null,null,null,1327]
[1328,"2016-07-21","2016-07-21",null,null,null,null,null,1328]
[1329,"2016-07-22","2016-07-22",null,null,null,null,null,1329]
[{"$f":"+A1338+1","v":1330},"2016-07-23","2016-07-23","X",null,null,null,"X",{"$f":"+A1339","v":1330}]
[1331,"2016-07-24","2016-07-24","X",null,null,null,"X",1331]
[1332,"2016-07-25","2016-07-25",null,null,null,null,null,1332]
[1333,"2016-07-26","2016-07-26",null,null,null,null,null,1333]
[1334,"2016-07-27","2016-07-27",null,null,null,null,null,1334]
[1335,"2016-07-28","2016-07-28",null,"X",null,null,"X",{"$f":"+A1344","v":1335}]
[1336,"2016-07-29","2016-07-29",null,"X",null,null,"X",1336]
[1337,"2016-07-30","2016-07-30","X",null,null,null,"X",1337]
[1338,"2016-07-31","2016-07-31","X",null,null,null,"X",1338]
[1339,"2016-08-01","2016-08-01",null,null,null,null,null,1339]
[1340,"2016-08-02","2016-08-02",null,null,null,null,null,1340]
[1341,"2016-08-03","2016-08-03",null,null,null,null,null,1341]
[1342,"2016-08-04","2016-08-04",null,null,null,null,null,1342]
[1343,"2016-08-05","2016-08-05",null,null,null,null,null,1343]
[1344,"2016-08-06","2016-08-06","X",null,null,null,"X",{"$f":"+A1353","v":1344}]
[1345,"2016-08-07","2016-08-07","X",null,null,null,"X",1345]
[{"$f":"+A1354+1","v":1346},"2016-08-08","2016-08-08",null,null,null,null,null,{"$f":"+IF(H1355<>\"X\",A1355,0)","v":1346}]
[1347,"2016-08-09","2016-08-09",null,null,null,null,null,1347]
[1348,"2016-08-10","2016-08-10",null,null,null,null,null,1348]
[1349,"2016-08-11","2016-08-11",null,null,null,null,null,1349]
[1350,"2016-08-12","2016-08-12",null,null,null,null,null,1350]
[1351,"2016-08-13","2016-08-13","X",null,null,null,"X",{"$f":"+A1360","v":1351}]
[1352,"2016-08-14","2016-08-14","X",null,null,null,"X",1352]
[1353,"2016-08-15","2016-08-15",null,null,null,null,null,1353]
[1354,"2016-08-16","2016-08-16",null,null,null,null,null,1354]
[1355,"2016-08-17","2016-08-17",null,null,null,null,null,1355]
[1356,"2016-08-18","2016-08-18",null,null,null,null,null,1356]
[1357,"2016-08-19","2016-08-19",null,null,null,null,null,1357]
[1358,"2016-08-20","2016-08-20","X",null,null,null,"X",{"$f":"+A1367","v":1358}]
[1359,"2016-08-21","2016-08-21","X",null,null,null,"X",1359]
[1360,"2016-08-22","2016-08-22",null,null,null,null,null,1360]
[1361,"2016-08-23","2016-08-23",null,null,null,null,null,1361]
[{"$f":"+A1370+1","v":1362},"2016-08-24","2016-08-24",null,null,null,null,null,1362]
[1363,"2016-08-25","2016-08-25",null,null,null,null,null,1363]
[1364,"2016-08-26","2016-08-26",null,null,null,null,null,1364]
[1365,"2016-08-27","2016-08-27","X",null,null,null,"X",{"$f":"+A1374","v":1365}]
[1366,"2016-08-28","2016-08-28","X",null,null,null,"X",1366]
[1367,"2016-08-29","2016-08-29",null,null,null,null,null,1367]
[1368,"2016-08-30","2016-08-30",null,null,null,null,null,1368]
[1369,"2016-08-31","2016-08-31",null,null,null,null,null,1369]
[1370,"2016-09-01","2016-09-01",null,null,null,null,null,1370]
[1371,"2016-09-02","2016-09-02",null,null,null,null,null,1371]
[1372,"2016-09-03","2016-09-03","X",null,null,null,"X",{"$f":"+A1381","v":1372}]
[1373,"2016-09-04","2016-09-04","X",null,null,null,"X",1373]
[1374,"2016-09-05","2016-09-05",null,null,null,null,null,1374]
[1375,"2016-09-06","2016-09-06",null,null,null,null,null,1375]
[1376,"2016-09-07","2016-09-07",null,null,null,null,null,1376]
[1377,"2016-09-08","2016-09-08",null,null,null,null,null,1377]
[{"$f":"+A1386+1","v":1378},"2016-09-09","2016-09-09",null,null,null,null,null,1378]
[1379,"2016-09-10","2016-09-10","X",null,null,null,"X",{"$f":"+A1388","v":1379}]
[1380,"2016-09-11","2016-09-11","X",null,null,null,"X",1380]
[1381,"2016-09-12","2016-09-12",null,null,null,null,null,1381]
[1382,"2016-09-13","2016-09-13",null,null,null,null,null,1382]
[1383,"2016-09-14","2016-09-14",null,null,null,null,null,1383]
[1384,"2016-09-15","2016-09-15",null,null,null,null,null,1384]
[1385,"2016-09-16","2016-09-16",null,null,null,null,null,1385]
[1386,"2016-09-17","2016-09-17","X",null,null,null,"X",{"$f":"+A1395","v":1386}]
[1387,"2016-09-18","2016-09-18","X",null,null,null,"X",1387]
[1388,"2016-09-19","2016-09-19",null,null,null,null,null,1388]
[1389,"2016-09-20","2016-09-20",null,null,null,null,null,1389]
[1390,"2016-09-21","2016-09-21",null,null,null,null,null,1390]
[1391,"2016-09-22","2016-09-22",null,null,null,null,null,1391]
[1392,"2016-09-23","2016-09-23",null,null,null,null,null,1392]
[1393,"2016-09-24","2016-09-24","X",null,null,null,"X",{"$f":"+A1402","v":1393}]
[{"$f":"+A1402+1","v":1394},"2016-09-25","2016-09-25","X",null,null,null,"X",1394]
[1395,"2016-09-26","2016-09-26",null,null,null,null,null,1395]
[1396,"2016-09-27","2016-09-27",null,null,null,null,null,1396]
[1397,"2016-09-28","2016-09-28",null,null,null,null,null,1397]
[1398,"2016-09-29","2016-09-29",null,null,null,null,null,1398]
[1399,"2016-09-30","2016-09-30",null,null,null,null,null,1399]
[1400,"2016-10-01","2016-10-01","X",null,null,null,"X",{"$f":"+A1409","v":1400}]
[1401,"2016-10-02","2016-10-02","X",null,null,null,"X",1401]
[1402,"2016-10-03","2016-10-03",null,null,null,null,null,1402]
[1403,"2016-10-04","2016-10-04",null,null,null,null,null,1403]
[1404,"2016-10-05","2016-10-05",null,null,null,null,null,1404]
[1405,"2016-10-06","2016-10-06",null,null,null,null,null,1405]
[1406,"2016-10-07","2016-10-07",null,null,null,null,null,1406]
[1407,"2016-10-08","2016-10-08","X","X",null,null,"X",{"$f":"+A1416","v":1407}]
[1408,"2016-10-09","2016-10-09","X",null,null,null,"X",1408]
[1409,"2016-10-10","2016-10-10",null,null,null,null,null,{"$f":"+IF(H1418<>\"X\",A1418,0)","v":1409}]
[{"$f":"+A1418+1","v":1410},"2016-10-11","2016-10-11",null,null,null,null,null,1410]
[1411,"2016-10-12","2016-10-12",null,null,null,null,null,1411]
[1412,"2016-10-13","2016-10-13",null,null,null,null,null,1412]
[1413,"2016-10-14","2016-10-14",null,null,null,null,null,1413]
[1414,"2016-10-15","2016-10-15","X",null,null,null,"X",{"$f":"+A1423","v":1414}]
[1415,"2016-10-16","2016-10-16","X",null,null,null,"X",1415]
[1416,"2016-10-17","2016-10-17",null,null,null,null,null,1416]
[1417,"2016-10-18","2016-10-18",null,null,null,null,null,1417]
[1418,"2016-10-19","2016-10-19",null,null,null,null,null,1418]
[1419,"2016-10-20","2016-10-20",null,null,null,null,null,1419]
[1420,"2016-10-21","2016-10-21",null,null,null,null,null,1420]
[1421,"2016-10-22","2016-10-22","X",null,null,null,"X",{"$f":"+A1430","v":1421}]
[1422,"2016-10-23","2016-10-23","X",null,null,null,"X",1422]
[1423,"2016-10-24","2016-10-24",null,null,null,null,null,1423]
[1424,"2016-10-25","2016-10-25",null,null,null,null,null,1424]
[1425,"2016-10-26","2016-10-26",null,null,null,null,null,1425]
[{"$f":"+A1434+1","v":1426},"2016-10-27","2016-10-27",null,null,null,null,null,1426]
[1427,"2016-10-28","2016-10-28",null,null,null,null,null,1427]
[1428,"2016-10-29","2016-10-29","X",null,null,null,"X",{"$f":"+A1437","v":1428}]
[1429,"2016-10-30","2016-10-30","X",null,null,null,"X",1429]
[1430,"2016-10-31","2016-10-31",null,null,null,null,null,1430]
[1431,"2016-11-01","2016-11-01",null,"X",null,null,"X",{"$f":"+A1440","v":1431}]
[1432,"2016-11-02","2016-11-02",null,null,null,null,null,1432]
[1433,"2016-11-03","2016-11-03",null,null,null,null,null,1433]
[1434,"2016-11-04","2016-11-04",null,null,null,null,null,1434]
[1435,"2016-11-05","2016-11-05","X",null,null,null,"X",{"$f":"+A1444","v":1435}]
[1436,"2016-11-06","2016-11-06","X",null,null,null,"X",1436]
[1437,"2016-11-07","2016-11-07",null,null,null,null,null,1437]
[1438,"2016-11-08","2016-11-08",null,null,null,null,null,1438]
[1439,"2016-11-09","2016-11-09",null,null,null,null,null,1439]
[1440,"2016-11-10","2016-11-10",null,null,null,null,null,1440]
[1441,"2016-11-11","2016-11-11",null,null,null,null,null,1441]
[{"$f":"+A1450+1","v":1442},"2016-11-12","2016-11-12","X",null,null,null,"X",{"$f":"+A1451","v":1442}]
[1443,"2016-11-13","2016-11-13","X",null,null,null,"X",1443]
[1444,"2016-11-14","2016-11-14",null,null,null,null,null,1444]
[1445,"2016-11-15","2016-11-15",null,null,null,null,null,1445]
[1446,"2016-11-16","2016-11-16",null,null,null,null,null,1446]
[1447,"2016-11-17","2016-11-17",null,null,null,null,null,1447]
[1448,"2016-11-18","2016-11-18",null,null,null,null,null,1448]
[1449,"2016-11-19","2016-11-19","X",null,null,null,"X",{"$f":"+A1458","v":1449}]
[1450,"2016-11-20","2016-11-20","X",null,null,null,"X",1450]
[1451,"2016-11-21","2016-11-21",null,null,null,null,null,1451]
[1452,"2016-11-22","2016-11-22",null,null,null,null,null,1452]
[1453,"2016-11-23","2016-11-23",null,null,null,null,null,1453]
[1454,"2016-11-24","2016-11-24",null,null,null,null,null,1454]
[1455,"2016-11-25","2016-11-25",null,null,null,null,null,1455]
[1456,"2016-11-26","2016-11-26","X",null,null,null,"X",{"$f":"+A1465","v":1456}]
[1457,"2016-11-27","2016-11-27","X",null,null,null,"X",1457]
[{"$f":"+A1466+1","v":1458},"2016-11-28","2016-11-28",null,null,null,null,null,1458]
[1459,"2016-11-29","2016-11-29",null,null,null,null,null,1459]
[1460,"2016-11-30","2016-11-30",null,null,null,null,null,1460]
[1461,"2016-12-01","2016-12-01",null,null,null,null,null,1461]
[1462,"2016-12-02","2016-12-02",null,null,null,null,null,1462]
[1463,"2016-12-03","2016-12-03","X",null,null,null,"X",{"$f":"+A1472","v":1463}]
[1464,"2016-12-04","2016-12-04","X",null,null,null,"X",1464]
[1465,"2016-12-05","2016-12-05",null,null,null,null,null,1465]
[1466,"2016-12-06","2016-12-06",null,null,null,null,null,1466]
[1467,"2016-12-07","2016-12-07",null,null,null,null,null,1467]
[1468,"2016-12-08","2016-12-08",null,"X",null,null,"X",{"$f":"+A1477","v":1468}]
[1469,"2016-12-09","2016-12-09",null,null,null,null,null,1469]
[1470,"2016-12-10","2016-12-10","X",null,null,null,"X",{"$f":"+A1479","v":1470}]
[1471,"2016-12-11","2016-12-11","X",null,null,null,"X",1471]
[1472,"2016-12-12","2016-12-12",null,null,null,null,null,1472]
[1473,"2016-12-13","2016-12-13",null,null,null,null,null,{"$f":"+IF(H1482<>\"X\",A1482,0)","v":1473}]
[{"$f":"+A1482+1","v":1474},"2016-12-14","2016-12-14",null,null,null,null,null,1474]
[1475,"2016-12-15","2016-12-15",null,null,null,null,null,1475]
[1476,"2016-12-16","2016-12-16",null,null,null,null,null,1476]
[1477,"2016-12-17","2016-12-17","X",null,null,null,"X",{"$f":"+A1486","v":1477}]
[1478,"2016-12-18","2016-12-18","X",null,null,null,"X",1478]
[1479,"2016-12-19","2016-12-19",null,null,null,null,null,1479]
[1480,"2016-12-20","2016-12-20",null,null,null,null,null,1480]
[1481,"2016-12-21","2016-12-21",null,null,null,null,null,1481]
[1482,"2016-12-22","2016-12-22",null,null,null,null,null,1482]
[1483,"2016-12-23","2016-12-23",null,null,null,null,null,1483]
[1484,"2016-12-24","2016-12-24","X",null,null,null,"X",{"$f":"+A1493","v":1484}]
[1485,"2016-12-25","2016-12-25","X","X",null,null,"X",1485]
[1486,"2016-12-26","2016-12-26",null,null,null,null,null,1486]
[1487,"2016-12-27","2016-12-27",null,null,null,null,null,1487]
[1488,"2016-12-28","2016-12-28",null,null,null,null,null,1488]
[1489,"2016-12-29","2016-12-29",null,null,null,null,null,1489]
[{"$f":"+A1498+1","v":1490},"2016-12-30","2016-12-30",null,null,null,null,null,1490]
[1491,"2016-12-31","2016-12-31","X",null,null,null,"X",{"$f":"+A1500","v":1491}]
[1492,"2017-01-01","2017-01-01","X","X",null,null,"X",1492]
[1493,"2017-01-02","2017-01-02",null,null,null,null,null,1493]
[1494,"2017-01-03","2017-01-03",null,null,null,null,null,1494]
[1495,"2017-01-04","2017-01-04",null,null,null,null,null,1495]
[1496,"2017-01-05","2017-01-05",null,null,null,null,null,1496]
[1497,"2017-01-06","2017-01-06",null,null,null,null,null,1497]
[1498,"2017-01-07","2017-01-07","X",null,null,null,"X",{"$f":"+A1507","v":1498}]
[1499,"2017-01-08","2017-01-08","X",null,null,null,"X",1499]
[1500,"2017-01-09","2017-01-09",null,null,null,null,null,1500]
[1501,"2017-01-10","2017-01-10",null,null,null,null,null,1501]
[1502,"2017-01-11","2017-01-11",null,null,null,null,null,1502]
[1503,"2017-01-12","2017-01-12",null,null,null,null,null,1503]
[1504,"2017-01-13","2017-01-13",null,null,null,null,null,1504]
[1505,"2017-01-14","2017-01-14","X",null,null,null,"X",{"$f":"+A1514","v":1505}]
[{"$f":"+A1514+1","v":1506},"2017-01-15","2017-01-15","X",null,null,null,"X",1506]
[1507,"2017-01-16","2017-01-16",null,null,null,null,null,1507]
[1508,"2017-01-17","2017-01-17",null,null,null,null,null,1508]
[1509,"2017-01-18","2017-01-18",null,null,null,null,null,1509]
[1510,"2017-01-19","2017-01-19",null,null,null,null,null,1510]
[1511,"2017-01-20","2017-01-20",null,null,null,null,null,1511]
[1512,"2017-01-21","2017-01-21","X",null,null,null,"X",{"$f":"+A1521","v":1512}]
[1513,"2017-01-22","2017-01-22","X",null,null,null,"X",1513]
[1514,"2017-01-23","2017-01-23",null,null,null,null,null,1514]
[1515,"2017-01-24","2017-01-24",null,null,null,null,null,1515]
[1516,"2017-01-25","2017-01-25",null,null,null,null,null,1516]
[1517,"2017-01-26","2017-01-26",null,null,null,null,null,1517]
[1518,"2017-01-27","2017-01-27",null,null,null,null,null,1518]
[1519,"2017-01-28","2017-01-28","X",null,null,null,"X",{"$f":"+A1528","v":1519}]
[1520,"2017-01-29","2017-01-29","X",null,null,null,"X",1520]
[1521,"2017-01-30","2017-01-30",null,null,null,null,null,1521]
[{"$f":"+A1530+1","v":1522},"2017-01-31","2017-01-31",null,null,null,null,null,1522]
[1523,"2017-02-01","2017-02-01",null,null,null,null,null,1523]
[1524,"2017-02-02","2017-02-02",null,null,null,null,null,1524]
[1525,"2017-02-03","2017-02-03",null,null,null,null,null,1525]
[1526,"2017-02-04","2017-02-04","X",null,null,null,"X",{"$f":"+A1535","v":1526}]
[1527,"2017-02-05","2017-02-05","X",null,null,null,"X",1527]
[1528,"2017-02-06","2017-02-06",null,null,null,null,null,1528]
[1529,"2017-02-07","2017-02-07",null,null,null,null,null,1529]
[1530,"2017-02-08","2017-02-08",null,null,null,null,null,1530]
[1531,"2017-02-09","2017-02-09",null,null,null,null,null,1531]
[1532,"2017-02-10","2017-02-10",null,null,null,null,null,1532]
[1533,"2017-02-11","2017-02-11","X",null,null,null,"X",{"$f":"+A1542","v":1533}]
[1534,"2017-02-12","2017-02-12","X",null,null,null,"X",1534]
[1535,"2017-02-13","2017-02-13",null,null,null,null,null,1535]
[1536,"2017-02-14","2017-02-14",null,null,null,null,null,1536]
[1537,"2017-02-15","2017-02-15",null,null,null,null,null,{"$f":"+IF(H1546<>\"X\",A1546,0)","v":1537}]
[{"$f":"+A1546+1","v":1538},"2017-02-16","2017-02-16",null,null,null,null,null,1538]
[1539,"2017-02-17","2017-02-17",null,null,null,null,null,1539]
[1540,"2017-02-18","2017-02-18","X",null,null,null,"X",{"$f":"+A1549","v":1540}]
[1541,"2017-02-19","2017-02-19","X",null,null,null,"X",1541]
[1542,"2017-02-20","2017-02-20",null,null,null,null,null,1542]
[1543,"2017-02-21","2017-02-21",null,null,null,null,null,1543]
[1544,"2017-02-22","2017-02-22",null,null,null,null,null,1544]
[1545,"2017-02-23","2017-02-23",null,null,null,null,null,1545]
[1546,"2017-02-24","2017-02-24",null,null,null,null,null,1546]
[1547,"2017-02-25","2017-02-25","X",null,null,null,"X",{"$f":"+A1556","v":1547}]
[1548,"2017-02-26","2017-02-26","X",null,null,null,"X",1548]
[1549,"2017-02-27","2017-02-27",null,null,null,null,null,1549]
[1550,"2017-02-28","2017-02-28",null,null,null,null,null,1550]
[1551,"2017-03-01","2017-03-01",null,null,null,null,null,1551]
[1552,"2017-03-02","2017-03-02",null,null,null,null,null,1552]
[1553,"2017-03-03","2017-03-03",null,null,null,null,null,1553]
[{"$f":"+A1562+1","v":1554},"2017-03-04","2017-03-04","X",null,null,null,"X",{"$f":"+A1563","v":1554}]
[1555,"2017-03-05","2017-03-05","X",null,null,null,"X",1555]
[1556,"2017-03-06","2017-03-06",null,null,null,null,null,1556]
[1557,"2017-03-07","2017-03-07",null,null,null,null,null,1557]
[1558,"2017-03-08","2017-03-08",null,null,null,null,null,1558]
[1559,"2017-03-09","2017-03-09",null,null,null,null,null,1559]
[1560,"2017-03-10","2017-03-10",null,null,null,null,null,1560]
[1561,"2017-03-11","2017-03-11","X",null,null,null,"X",{"$f":"+A1570","v":1561}]
[1562,"2017-03-12","2017-03-12","X",null,null,null,"X",1562]
[1563,"2017-03-13","2017-03-13",null,null,null,null,null,1563]
[1564,"2017-03-14","2017-03-14",null,null,null,null,null,1564]
[1565,"2017-03-15","2017-03-15",null,null,null,null,null,1565]
[1566,"2017-03-16","2017-03-16",null,null,null,null,null,1566]
[1567,"2017-03-17","2017-03-17",null,null,null,null,null,1567]
[1568,"2017-03-18","2017-03-18","X",null,null,null,"X",{"$f":"+A1577","v":1568}]
[1569,"2017-03-19","2017-03-19","X",null,null,null,"X",1569]
[{"$f":"+A1578+1","v":1570},"2017-03-20","2017-03-20",null,null,null,null,null,1570]
[1571,"2017-03-21","2017-03-21",null,null,null,null,null,1571]
[1572,"2017-03-22","2017-03-22",null,null,null,null,null,1572]
[1573,"2017-03-23","2017-03-23",null,null,null,null,null,1573]
[1574,"2017-03-24","2017-03-24",null,null,null,null,null,1574]
[1575,"2017-03-25","2017-03-25","X",null,null,null,"X",{"$f":"+A1584","v":1575}]
[1576,"2017-03-26","2017-03-26","X",null,null,null,"X",1576]
[1577,"2017-03-27","2017-03-27",null,null,null,null,null,1577]
[1578,"2017-03-28","2017-03-28",null,null,null,null,null,1578]
[1579,"2017-03-29","2017-03-29",null,null,null,null,null,1579]
[1580,"2017-03-30","2017-03-30",null,null,null,null,null,1580]
[1581,"2017-03-31","2017-03-31",null,null,null,null,null,1581]
[1582,"2017-04-01","2017-04-01","X",null,null,null,"X",{"$f":"+A1591","v":1582}]
[1583,"2017-04-02","2017-04-02","X",null,null,null,"X",1583]
[1584,"2017-04-03","2017-04-03",null,null,null,null,null,1584]
[1585,"2017-04-04","2017-04-04",null,null,null,null,null,1585]
[{"$f":"+A1594+1","v":1586},"2017-04-05","2017-04-05",null,null,null,null,null,1586]
[1587,"2017-04-06","2017-04-06",null,null,null,null,null,1587]
[1588,"2017-04-07","2017-04-07",null,null,null,null,null,1588]
[1589,"2017-04-08","2017-04-08","X",null,null,null,"X",{"$f":"+A1598","v":1589}]
[1590,"2017-04-09","2017-04-09","X",null,null,null,"X",1590]
[1591,"2017-04-10","2017-04-10",null,null,null,null,null,1591]
[1592,"2017-04-11","2017-04-11",null,null,null,null,null,1592]
[1593,"2017-04-12","2017-04-12",null,null,null,null,null,1593]
[1594,"2017-04-13","2017-04-13",null,null,"X",null,"X",{"$f":"+A1603","v":1594}]
[1595,"2017-04-14","2017-04-14",null,null,"X",null,"X",1595]
[1596,"2017-04-15","2017-04-15","X",null,null,null,"X",1596]
[1597,"2017-04-16","2017-04-16","X",null,null,null,"X",1597]
[1598,"2017-04-17","2017-04-17",null,null,null,null,null,1598]
[1599,"2017-04-18","2017-04-18",null,null,null,null,null,1599]
[1600,"2017-04-19","2017-04-19",null,null,null,null,null,1600]
[1601,"2017-04-20","2017-04-20",null,null,null,null,null,{"$f":"+IF(H1610<>\"X\",A1610,0)","v":1601}]
[{"$f":"+A1610+1","v":1602},"2017-04-21","2017-04-21",null,null,null,null,null,1602]
[1603,"2017-04-22","2017-04-22","X",null,null,null,"X",{"$f":"+A1612","v":1603}]
[1604,"2017-04-23","2017-04-23","X",null,null,null,"X",1604]
[1605,"2017-04-24","2017-04-24",null,null,null,null,null,1605]
[1606,"2017-04-25","2017-04-25",null,null,null,null,null,1606]
[1607,"2017-04-26","2017-04-26",null,null,null,null,null,1607]
[1608,"2017-04-27","2017-04-27",null,null,null,null,null,1608]
[1609,"2017-04-28","2017-04-28",null,null,null,null,null,1609]
[1610,"2017-04-29","2017-04-29","X",null,null,null,"X",{"$f":"+A1619","v":1610}]
[1611,"2017-04-30","2017-04-30","X",null,null,null,"X",1611]
[1612,"2017-05-01","2017-05-01",null,"X",null,null,"X",1612]
[1613,"2017-05-02","2017-05-02",null,null,null,null,null,1613]
[1614,"2017-05-03","2017-05-03",null,null,null,null,null,1614]
[1615,"2017-05-04","2017-05-04",null,null,null,null,null,1615]
[1616,"2017-05-05","2017-05-05",null,null,null,null,null,1616]
[1617,"2017-05-06","2017-05-06","X",null,null,null,"X",{"$f":"+A1626","v":1617}]
[{"$f":"+A1626+1","v":1618},"2017-05-07","2017-05-07","X",null,null,null,"X",1618]
[1619,"2017-05-08","2017-05-08",null,null,null,null,null,1619]
[1620,"2017-05-09","2017-05-09",null,null,null,null,null,1620]
[1621,"2017-05-10","2017-05-10",null,null,null,null,null,1621]
[1622,"2017-05-11","2017-05-11",null,null,null,null,null,1622]
[1623,"2017-05-12","2017-05-12",null,null,null,null,null,1623]
[1624,"2017-05-13","2017-05-13","X",null,null,null,"X",{"$f":"+A1633","v":1624}]
[1625,"2017-05-14","2017-05-14","X",null,null,null,"X",1625]
[1626,"2017-05-15","2017-05-15",null,null,null,null,null,1626]
[1627,"2017-05-16","2017-05-16",null,null,null,null,null,1627]
[1628,"2017-05-17","2017-05-17",null,null,null,null,null,1628]
[1629,"2017-05-18","2017-05-18",null,null,null,null,null,1629]
[1630,"2017-05-19","2017-05-19",null,null,null,null,null,1630]
[1631,"2017-05-20","2017-05-20","X",null,null,null,"X",{"$f":"+A1640","v":1631}]
[1632,"2017-05-21","2017-05-21","X",null,null,null,"X",1632]
[1633,"2017-05-22","2017-05-22",null,null,null,null,null,1633]
[{"$f":"+A1642+1","v":1634},"2017-05-23","2017-05-23",null,null,null,null,null,1634]
[1635,"2017-05-24","2017-05-24",null,null,null,null,null,1635]
[1636,"2017-05-25","2017-05-25",null,null,null,null,null,1636]
[1637,"2017-05-26","2017-05-26",null,null,null,null,null,1637]
[1638,"2017-05-27","2017-05-27","X",null,null,null,"X",{"$f":"+A1647","v":1638}]
[1639,"2017-05-28","2017-05-28","X",null,null,null,"X",1639]
[1640,"2017-05-29","2017-05-29",null,null,null,null,null,1640]
[1641,"2017-05-30","2017-05-30",null,null,null,null,null,1641]
[1642,"2017-05-31","2017-05-31",null,null,null,null,null,1642]
[1643,"2017-06-01","2017-06-01",null,null,null,null,null,1643]
[1644,"2017-06-02","2017-06-02",null,null,null,null,null,1644]
[1645,"2017-06-03","2017-06-03","X",null,null,null,"X",{"$f":"+A1654","v":1645}]
[1646,"2017-06-04","2017-06-04","X",null,null,null,"X",1646]
[1647,"2017-06-05","2017-06-05",null,null,null,null,null,1647]
[1648,"2017-06-06","2017-06-06",null,null,null,null,null,1648]
[1649,"2017-06-07","2017-06-07",null,null,null,null,null,1649]
[{"$f":"+A1658+1","v":1650},"2017-06-08","2017-06-08",null,null,null,null,null,1650]
[1651,"2017-06-09","2017-06-09",null,null,null,null,null,1651]
[1652,"2017-06-10","2017-06-10","X",null,null,null,"X",{"$f":"+A1661","v":1652}]
[1653,"2017-06-11","2017-06-11","X",null,null,null,"X",1653]
[1654,"2017-06-12","2017-06-12",null,null,null,null,null,1654]
[1655,"2017-06-13","2017-06-13",null,null,null,null,null,1655]
[1656,"2017-06-14","2017-06-14",null,null,null,null,null,1656]
[1657,"2017-06-15","2017-06-15",null,null,null,null,null,1657]
[1658,"2017-06-16","2017-06-16",null,null,null,null,null,1658]
[1659,"2017-06-17","2017-06-17","X",null,null,null,"X",{"$f":"+A1668","v":1659}]
[1660,"2017-06-18","2017-06-18","X",null,null,null,"X",1660]
[1661,"2017-06-19","2017-06-19",null,null,null,null,null,1661]
[1662,"2017-06-20","2017-06-20",null,null,null,null,null,1662]
[1663,"2017-06-21","2017-06-21",null,null,null,null,null,1663]
[1664,"2017-06-22","2017-06-22",null,null,null,null,null,1664]
[1665,"2017-06-23","2017-06-23",null,null,null,null,null,{"$f":"+IF(H1674<>\"X\",A1674,0)","v":1665}]
[{"$f":"+A1674+1","v":1666},"2017-06-24","2017-06-24","X",null,null,null,"X",{"$f":"+A1675","v":1666}]
[1667,"2017-06-25","2017-06-25","X",null,null,null,"X",1667]
[1668,"2017-06-26","2017-06-26",null,null,null,null,null,1668]
[1669,"2017-06-27","2017-06-27",null,null,null,null,null,1669]
[1670,"2017-06-28","2017-06-28",null,null,null,null,null,1670]
[1671,"2017-06-29","2017-06-29",null,"X",null,null,"X",{"$f":"+A1680","v":1671}]
[1672,"2017-06-30","2017-06-30",null,null,null,"X","X",1672]
[1673,"2017-07-01","2017-07-01",null,null,null,null,null,1673]
[1674,"2017-07-02","2017-07-02","X",null,null,null,"X",{"$f":"+A1683","v":1674}]
[1675,"2017-07-03","2017-07-03",null,null,null,null,null,1675]
[1676,"2017-07-04","2017-07-04",null,null,null,null,null,1676]
[1677,"2017-07-05","2017-07-05",null,null,null,null,null,1677]
[1678,"2017-07-06","2017-07-06",null,null,null,null,null,1678]
[1679,"2017-07-07","2017-07-07",null,null,null,null,null,1679]
[1680,"2017-07-08","2017-07-08","X",null,null,null,"X",{"$f":"+A1689","v":1680}]
[1681,"2017-07-09","2017-07-09","X",null,null,null,"X",1681]
[{"$f":"+A1690+1","v":1682},"2017-07-10","2017-07-10",null,null,null,null,null,1682]
[1683,"2017-07-11","2017-07-11",null,null,null,null,null,1683]
[1684,"2017-07-12","2017-07-12",null,null,null,null,null,1684]
[1685,"2017-07-13","2017-07-13",null,null,null,null,null,1685]
[1686,"2017-07-14","2017-07-14",null,null,null,null,null,1686]
[1687,"2017-07-15","2017-07-15","X",null,null,null,"X",{"$f":"+A1696","v":1687}]
[1688,"2017-07-16","2017-07-16","X",null,null,null,"X",1688]
[1689,"2017-07-17","2017-07-17",null,null,null,null,null,1689]
[1690,"2017-07-18","2017-07-18",null,null,null,null,null,1690]
[1691,"2017-07-19","2017-07-19",null,null,null,null,null,1691]
[1692,"2017-07-20","2017-07-20",null,null,null,null,null,1692]
[1693,"2017-07-21","2017-07-21",null,null,null,null,null,1693]
[1694,"2017-07-22","2017-07-22","X",null,null,null,"X",{"$f":"+A1703","v":1694}]
[1695,"2017-07-23","2017-07-23","X",null,null,null,"X",1695]
[1696,"2017-07-24","2017-07-24",null,null,null,null,null,1696]
[1697,"2017-07-25","2017-07-25",null,null,null,null,null,1697]
[{"$f":"+A1706+1","v":1698},"2017-07-26","2017-07-26",null,null,null,null,null,1698]
[1699,"2017-07-27","2017-07-27",null,null,null,null,null,1699]
[1700,"2017-07-28","2017-07-28",null,"X",null,null,"X",{"$f":"+A1709","v":1700}]
[1701,"2017-07-29","2017-07-29","X","X",null,null,"X",1701]
[1702,"2017-07-30","2017-07-30","X",null,null,null,"X",1702]
[1703,"2017-07-31","2017-07-31",null,null,null,null,null,1703]
[1704,"2017-08-01","2017-08-01",null,null,null,null,null,1704]
[1705,"2017-08-02","2017-08-02",null,null,null,null,null,1705]
[1706,"2017-08-03","2017-08-03",null,null,null,null,null,1706]
[1707,"2017-08-04","2017-08-04",null,null,null,null,null,1707]
[1708,"2017-08-05","2017-08-05","X",null,null,null,"X",{"$f":"+A1717","v":1708}]
[1709,"2017-08-06","2017-08-06","X",null,null,null,"X",1709]
[1710,"2017-08-07","2017-08-07",null,null,null,null,null,1710]
[1711,"2017-08-08","2017-08-08",null,null,null,null,null,1711]
[1712,"2017-08-09","2017-08-09",null,null,null,null,null,1712]
[1713,"2017-08-10","2017-08-10",null,null,null,null,null,1713]
[{"$f":"+A1722+1","v":1714},"2017-08-11","2017-08-11",null,null,null,null,null,1714]
[1715,"2017-08-12","2017-08-12","X",null,null,null,"X",{"$f":"+A1724","v":1715}]
[1716,"2017-08-13","2017-08-13","X",null,null,null,"X",1716]
[1717,"2017-08-14","2017-08-14",null,null,null,null,null,1717]
[1718,"2017-08-15","2017-08-15",null,null,null,null,null,1718]
[1719,"2017-08-16","2017-08-16",null,null,null,null,null,1719]
[1720,"2017-08-17","2017-08-17",null,null,null,null,null,1720]
[1721,"2017-08-18","2017-08-18",null,null,null,null,null,1721]
[1722,"2017-08-19","2017-08-19","X",null,null,null,"X",{"$f":"+A1731","v":1722}]
[1723,"2017-08-20","2017-08-20","X",null,null,null,"X",1723]
[1724,"2017-08-21","2017-08-21",null,null,null,null,null,1724]
[1725,"2017-08-22","2017-08-22",null,null,null,null,null,1725]
[1726,"2017-08-23","2017-08-23",null,null,null,null,null,1726]
[1727,"2017-08-24","2017-08-24",null,null,null,null,null,1727]
[1728,"2017-08-25","2017-08-25",null,null,null,null,null,1728]
[1729,"2017-08-26","2017-08-26","X",null,null,null,"X",{"$f":"+A1738","v":1729}]
[{"$f":"+A1738+1","v":1730},"2017-08-27","2017-08-27","X",null,null,null,"X",1730]
[1731,"2017-08-28","2017-08-28",null,null,null,null,null,{"$f":"+IF(H1740<>\"X\",A1740,0)","v":1731}]
[1732,"2017-08-29","2017-08-29",null,null,null,null,null,1732]
[1733,"2017-08-30","2017-08-30",null,null,null,null,null,1733]
[1734,"2017-08-31","2017-08-31",null,null,null,null,null,1734]
[1735,"2017-09-01","2017-09-01",null,null,null,null,null,1735]
[1736,"2017-09-02","2017-09-02","X",null,null,null,"X",{"$f":"+A1745","v":1736}]
[1737,"2017-09-03","2017-09-03","X",null,null,null,"X",1737]
[1738,"2017-09-04","2017-09-04",null,null,null,null,null,1738]
[1739,"2017-09-05","2017-09-05",null,null,null,null,null,1739]
[1740,"2017-09-06","2017-09-06",null,null,null,null,null,1740]
[1741,"2017-09-07","2017-09-07",null,null,null,null,null,1741]
[1742,"2017-09-08","2017-09-08",null,null,null,null,null,1742]
[1743,"2017-09-09","2017-09-09","X",null,null,null,"X",{"$f":"+A1752","v":1743}]
[1744,"2017-09-10","2017-09-10","X",null,null,null,"X",1744]
[1745,"2017-09-11","2017-09-11",null,null,null,null,null,1745]
[{"$f":"+A1754+1","v":1746},"2017-09-12","2017-09-12",null,null,null,null,null,1746]
[1747,"2017-09-13","2017-09-13",null,null,null,null,null,1747]
[1748,"2017-09-14","2017-09-14",null,null,null,null,null,1748]
[1749,"2017-09-15","2017-09-15",null,null,null,null,null,1749]
[1750,"2017-09-16","2017-09-16","X",null,null,null,"X",{"$f":"+A1759","v":1750}]
[1751,"2017-09-17","2017-09-17","X",null,null,null,"X",1751]
[1752,"2017-09-18","2017-09-18",null,null,null,null,null,1752]
[1753,"2017-09-19","2017-09-19",null,null,null,null,null,1753]
[1754,"2017-09-20","2017-09-20",null,null,null,null,null,1754]
[1755,"2017-09-21","2017-09-21",null,null,null,null,null,1755]
[1756,"2017-09-22","2017-09-22",null,null,null,null,null,1756]
[1757,"2017-09-23","2017-09-23","X",null,null,null,"X",{"$f":"+A1766","v":1757}]
[1758,"2017-09-24","2017-09-24","X",null,null,null,"X",1758]
[1759,"2017-09-25","2017-09-25",null,null,null,null,null,1759]
[1760,"2017-09-26","2017-09-26",null,null,null,null,null,1760]
[1761,"2017-09-27","2017-09-27",null,null,null,null,null,1761]
[{"$f":"+A1770+1","v":1762},"2017-09-28","2017-09-28",null,null,null,null,null,1762]
[1763,"2017-09-29","2017-09-29",null,null,null,null,null,1763]
[1764,"2017-09-30","2017-09-30","X",null,null,null,"X",{"$f":"+A1773","v":1764}]
[1765,"2017-10-01","2017-10-01","X",null,null,null,"X",1765]
[1766,"2017-10-02","2017-10-02",null,null,null,null,null,1766]
[1767,"2017-10-03","2017-10-03",null,null,null,null,null,1767]
[1768,"2017-10-04","2017-10-04",null,null,null,null,null,1768]
[1769,"2017-10-05","2017-10-05",null,null,null,null,null,1769]
[1770,"2017-10-06","2017-10-06",null,null,null,null,null,1770]
[1771,"2017-10-07","2017-10-07","X",null,null,null,"X",{"$f":"+A1780","v":1771}]
[1772,"2017-10-08","2017-10-08","X","X",null,null,"X",1772]
[1773,"2017-10-09","2017-10-09",null,null,null,null,null,1773]
[1774,"2017-10-10","2017-10-10",null,null,null,null,null,1774]
[1775,"2017-10-11","2017-10-11",null,null,null,null,null,1775]
[1776,"2017-10-12","2017-10-12",null,null,null,null,null,1776]
[1777,"2017-10-13","2017-10-13",null,null,null,null,null,1777]
[{"$f":"+A1786+1","v":1778},"2017-10-14","2017-10-14","X",null,null,null,"X",{"$f":"+A1787","v":1778}]
[1779,"2017-10-15","2017-10-15","X",null,null,null,"X",1779]
[1780,"2017-10-16","2017-10-16",null,null,null,null,null,1780]
[1781,"2017-10-17","2017-10-17",null,null,null,null,null,1781]
[1782,"2017-10-18","2017-10-18",null,null,null,null,null,1782]
[1783,"2017-10-19","2017-10-19",null,null,null,null,null,1783]
[1784,"2017-10-20","2017-10-20",null,null,null,null,null,1784]
[1785,"2017-10-21","2017-10-21","X",null,null,null,"X",{"$f":"+A1794","v":1785}]
[1786,"2017-10-22","2017-10-22","X",null,null,null,"X",1786]
[1787,"2017-10-23","2017-10-23",null,null,null,null,null,1787]
[1788,"2017-10-24","2017-10-24",null,null,null,null,null,1788]
[1789,"2017-10-25","2017-10-25",null,null,null,null,null,1789]
[1790,"2017-10-26","2017-10-26",null,null,null,null,null,1790]
[1791,"2017-10-27","2017-10-27",null,null,null,null,null,1791]
[1792,"2017-10-28","2017-10-28","X",null,null,null,"X",{"$f":"+A1801","v":1792}]
[1793,"2017-10-29","2017-10-29","X",null,null,null,"X",1793]
[{"$f":"+A1802+1","v":1794},"2017-10-30","2017-10-30",null,null,null,null,null,{"$f":"+IF(H1803<>\"X\",A1803,0)","v":1794}]
[1795,"2017-10-31","2017-10-31",null,null,null,null,null,1795]
[1796,"2017-11-01","2017-11-01",null,"X",null,null,"X",{"$f":"+A1805","v":1796}]
[1797,"2017-11-02","2017-11-02",null,null,null,null,null,1797]
[1798,"2017-11-03","2017-11-03",null,null,null,null,null,1798]
[1799,"2017-11-04","2017-11-04","X",null,null,null,"X",{"$f":"+A1808","v":1799}]
[1800,"2017-11-05","2017-11-05","X",null,null,null,"X",1800]
[1801,"2017-11-06","2017-11-06",null,null,null,null,null,1801]
[1802,"2017-11-07","2017-11-07",null,null,null,null,null,1802]
[1803,"2017-11-08","2017-11-08",null,null,null,null,null,1803]
[1804,"2017-11-09","2017-11-09",null,null,null,null,null,1804]
[1805,"2017-11-10","2017-11-10",null,null,null,null,null,1805]
[1806,"2017-11-11","2017-11-11","X",null,null,null,"X",{"$f":"+A1815","v":1806}]
[1807,"2017-11-12","2017-11-12","X",null,null,null,"X",1807]
[1808,"2017-11-13","2017-11-13",null,null,null,null,null,1808]
[1809,"2017-11-14","2017-11-14",null,null,null,null,null,1809]
[{"$f":"+A1818+1","v":1810},"2017-11-15","2017-11-15",null,null,null,null,null,1810]
[1811,"2017-11-16","2017-11-16",null,null,null,null,null,1811]
[1812,"2017-11-17","2017-11-17",null,null,null,null,null,1812]
[1813,"2017-11-18","2017-11-18","X",null,null,null,"X",{"$f":"+A1822","v":1813}]
[1814,"2017-11-19","2017-11-19","X",null,null,null,"X",1814]
[1815,"2017-11-20","2017-11-20",null,null,null,null,null,1815]
[1816,"2017-11-21","2017-11-21",null,null,null,null,null,1816]
[1817,"2017-11-22","2017-11-22",null,null,null,null,null,1817]
[1818,"2017-11-23","2017-11-23",null,null,null,null,null,1818]
[1819,"2017-11-24","2017-11-24",null,null,null,null,null,1819]
[1820,"2017-11-25","2017-11-25","X",null,null,null,"X",{"$f":"+A1829","v":1820}]
[1821,"2017-11-26","2017-11-26","X",null,null,null,"X",1821]
[1822,"2017-11-27","2017-11-27",null,null,null,null,null,1822]
[1823,"2017-11-28","2017-11-28",null,null,null,null,null,1823]
[1824,"2017-11-29","2017-11-29",null,null,null,null,null,1824]
[1825,"2017-11-30","2017-11-30",null,null,null,null,null,1825]
[{"$f":"+A1834+1","v":1826},"2017-12-01","2017-12-01",null,null,null,null,null,1826]
[1827,"2017-12-02","2017-12-02","X",null,null,null,"X",{"$f":"+A1836","v":1827}]
[1828,"2017-12-03","2017-12-03","X",null,null,null,"X",1828]
[1829,"2017-12-04","2017-12-04",null,null,null,null,null,1829]
[1830,"2017-12-05","2017-12-05",null,null,null,null,null,1830]
[1831,"2017-12-06","2017-12-06",null,null,null,null,null,1831]
[1832,"2017-12-07","2017-12-07",null,null,null,null,null,1832]
[1833,"2017-12-08","2017-12-08",null,"X",null,null,"X",{"$f":"+A1842","v":1833}]
[1834,"2017-12-09","2017-12-09","X",null,null,null,"X",1834]
[1835,"2017-12-10","2017-12-10","X",null,null,null,"X",1835]
[1836,"2017-12-11","2017-12-11",null,null,null,null,null,1836]
[1837,"2017-12-12","2017-12-12",null,null,null,null,null,1837]
[1838,"2017-12-13","2017-12-13",null,null,null,null,null,1838]
[1839,"2017-12-14","2017-12-14",null,null,null,null,null,1839]
[1840,"2017-12-15","2017-12-15",null,null,null,null,null,1840]
[1841,"2017-12-16","2017-12-16","X",null,null,null,"X",{"$f":"+A1850","v":1841}]
[{"$f":"+A1850+1","v":1842},"2017-12-17","2017-12-17","X",null,null,null,"X",1842]
[1843,"2017-12-18","2017-12-18",null,null,null,null,null,1843]
[1844,"2017-12-19","2017-12-19",null,null,null,null,null,1844]
[1845,"2017-12-20","2017-12-20",null,null,null,null,null,1845]
[1846,"2017-12-21","2017-12-21",null,null,null,null,null,1846]
[1847,"2017-12-22","2017-12-22",null,null,null,null,null,1847]
[1848,"2017-12-23","2017-12-23","X",null,null,null,"X",{"$f":"+A1857","v":1848}]
[1849,"2017-12-24","2017-12-24","X",null,null,null,"X",1849]
[1850,"2017-12-25","2017-12-25",null,"X",null,null,"X",1850]
[1851,"2017-12-26","2017-12-26",null,null,null,null,null,1851]
[1852,"2017-12-27","2017-12-27",null,null,null,null,null,1852]
[1853,"2017-12-28","2017-12-28",null,null,null,null,null,1853]
[1854,"2017-12-29","2017-12-29",null,null,null,null,null,1854]
[1855,"2017-12-30","2017-12-30","X",null,null,null,"X",{"$f":"+A1864","v":1855}]
[1856,"2017-12-31","2017-12-31","X",null,null,null,"X",1856]
[1857,"2018-01-01","2018-01-01",null,"X",null,null,"X",1857]
[{"$f":"+A1866+1","v":1858},"2018-01-02","2018-01-02",null,null,null,null,null,{"$f":"+IF(H1867<>\"X\",A1867,0)","v":1858}]
[1859,"2018-01-03","2018-01-03",null,null,null,null,null,1859]
[1860,"2018-01-04","2018-01-04",null,null,null,null,null,1860]
[1861,"2018-01-05","2018-01-05",null,null,null,null,null,1861]
[1862,"2018-01-06","2018-01-06","X",null,null,null,"X",{"$f":"+A1871","v":1862}]
[1863,"2018-01-07","2018-01-07","X",null,null,null,"X",1863]
[1864,"2018-01-08","2018-01-08",null,null,null,null,null,1864]
[1865,"2018-01-09","2018-01-09",null,null,null,null,null,1865]
[1866,"2018-01-10","2018-01-10",null,null,null,null,null,1866]
[1867,"2018-01-11","2018-01-11",null,null,null,null,null,1867]
[1868,"2018-01-12","2018-01-12",null,null,null,null,null,1868]
[1869,"2018-01-13","2018-01-13","X",null,null,null,"X",{"$f":"+A1878","v":1869}]
[1870,"2018-01-14","2018-01-14","X",null,null,null,"X",1870]
[1871,"2018-01-15","2018-01-15",null,null,null,null,null,1871]
[1872,"2018-01-16","2018-01-16",null,null,null,null,null,1872]
[1873,"2018-01-17","2018-01-17",null,null,null,null,null,1873]
[{"$f":"+A1882+1","v":1874},"2018-01-18","2018-01-18",null,null,null,null,null,1874]
[1875,"2018-01-19","2018-01-19",null,null,null,null,null,1875]
[1876,"2018-01-20","2018-01-20","X",null,null,null,"X",{"$f":"+A1885","v":1876}]
[1877,"2018-01-21","2018-01-21","X",null,null,null,"X",1877]
[1878,"2018-01-22","2018-01-22",null,null,null,null,null,1878]
[1879,"2018-01-23","2018-01-23",null,null,null,null,null,1879]
[1880,"2018-01-24","2018-01-24",null,null,null,null,null,1880]
[1881,"2018-01-25","2018-01-25",null,null,null,null,null,1881]
[1882,"2018-01-26","2018-01-26",null,null,null,null,null,1882]
[1883,"2018-01-27","2018-01-27","X",null,null,null,"X",{"$f":"+A1892","v":1883}]
[1884,"2018-01-28","2018-01-28","X",null,null,null,"X",1884]
[1885,"2018-01-29","2018-01-29",null,null,null,null,null,1885]
[1886,"2018-01-30","2018-01-30",null,null,null,null,null,1886]
[1887,"2018-01-31","2018-01-31",null,null,null,null,null,1887]
[1888,"2018-02-01","2018-02-01",null,null,null,null,null,1888]
[1889,"2018-02-02","2018-02-02",null,null,null,null,null,1889]
[{"$f":"+A1898+1","v":1890},"2018-02-03","2018-02-03","X",null,null,null,"X",{"$f":"+A1899","v":1890}]
[1891,"2018-02-04","2018-02-04","X",null,null,null,"X",1891]
[1892,"2018-02-05","2018-02-05",null,null,null,null,null,1892]
[1893,"2018-02-06","2018-02-06",null,null,null,null,null,1893]
[1894,"2018-02-07","2018-02-07",null,null,null,null,null,1894]
[1895,"2018-02-08","2018-02-08",null,null,null,null,null,1895]
[1896,"2018-02-09","2018-02-09",null,null,null,null,null,1896]
[1897,"2018-02-10","2018-02-10","X",null,null,null,"X",{"$f":"+A1906","v":1897}]
[1898,"2018-02-11","2018-02-11","X",null,null,null,"X",1898]
[1899,"2018-02-12","2018-02-12",null,null,null,null,null,1899]
[1900,"2018-02-13","2018-02-13",null,null,null,null,null,1900]
[1901,"2018-02-14","2018-02-14",null,null,null,null,null,1901]
[1902,"2018-02-15","2018-02-15",null,null,null,null,null,1902]
[1903,"2018-02-16","2018-02-16",null,null,null,null,null,1903]
[1904,"2018-02-17","2018-02-17","X",null,null,null,"X",{"$f":"+A1913","v":1904}]
[1905,"2018-02-18","2018-02-18","X",null,null,null,"X",1905]
[{"$f":"+A1914+1","v":1906},"2018-02-19","2018-02-19",null,null,null,null,null,1906]
[1907,"2018-02-20","2018-02-20",null,null,null,null,null,1907]
[1908,"2018-02-21","2018-02-21",null,null,null,null,null,1908]
[1909,"2018-02-22","2018-02-22",null,null,null,null,null,1909]
[1910,"2018-02-23","2018-02-23",null,null,null,null,null,1910]
[1911,"2018-02-24","2018-02-24","X",null,null,null,"X",{"$f":"+A1920","v":1911}]
[1912,"2018-02-25","2018-02-25","X",null,null,null,"X",1912]
[1913,"2018-02-26","2018-02-26",null,null,null,null,null,1913]
[1914,"2018-02-27","2018-02-27",null,null,null,null,null,1914]
[1915,"2018-02-28","2018-02-28",null,null,null,null,null,1915]
[1916,"2018-03-01","2018-03-01",null,null,null,null,null,1916]
[1917,"2018-03-02","2018-03-02",null,null,null,null,null,1917]
[1918,"2018-03-03","2018-03-03","X",null,null,null,"X",{"$f":"+A1927","v":1918}]
[1919,"2018-03-04","2018-03-04","X",null,null,null,"X",1919]
[1920,"2018-03-05","2018-03-05",null,null,null,null,null,1920]
[1921,"2018-03-06","2018-03-06",null,null,null,null,null,1921]
[{"$f":"+A1930+1","v":1922},"2018-03-07","2018-03-07",null,null,null,null,null,{"$f":"+IF(H1931<>\"X\",A1931,0)","v":1922}]
[1923,"2018-03-08","2018-03-08",null,null,null,null,null,1923]
[1924,"2018-03-09","2018-03-09",null,null,null,null,null,1924]
[1925,"2018-03-10","2018-03-10","X",null,null,null,"X",{"$f":"+A1934","v":1925}]
[1926,"2018-03-11","2018-03-11","X",null,null,null,"X",1926]
[1927,"2018-03-12","2018-03-12",null,null,null,null,null,1927]
[1928,"2018-03-13","2018-03-13",null,null,null,null,null,1928]
[1929,"2018-03-14","2018-03-14",null,null,null,null,null,1929]
[1930,"2018-03-15","2018-03-15",null,null,null,null,null,1930]
[1931,"2018-03-16","2018-03-16",null,null,null,null,null,1931]
[1932,"2018-03-17","2018-03-17","X",null,null,null,"X",{"$f":"+A1941","v":1932}]
[1933,"2018-03-18","2018-03-18","X",null,null,null,"X",1933]
[1934,"2018-03-19","2018-03-19",null,null,null,null,null,1934]
[1935,"2018-03-20","2018-03-20",null,null,null,null,null,1935]
[1936,"2018-03-21","2018-03-21",null,null,null,null,null,1936]
[1937,"2018-03-22","2018-03-22",null,null,null,null,null,1937]
[{"$f":"+A1946+1","v":1938},"2018-03-23","2018-03-23",null,null,null,null,null,1938]
[1939,"2018-03-24","2018-03-24","X",null,null,null,"X",{"$f":"+A1948","v":1939}]
[1940,"2018-03-25","2018-03-25","X",null,null,null,"X",1940]
[1941,"2018-03-26","2018-03-26",null,null,null,null,null,1941]
[1942,"2018-03-27","2018-03-27",null,null,null,null,null,1942]
[1943,"2018-03-28","2018-03-28",null,null,null,null,null,1943]
[1944,"2018-03-29","2018-03-29",null,null,"X",null,"X",{"$f":"+A1953","v":1944}]
[1945,"2018-03-30","2018-03-30",null,null,"X",null,"X",1945]
[1946,"2018-03-31","2018-03-31","X",null,null,null,"X",1946]
[1947,"2018-04-01","2018-04-01","X",null,null,null,"X",1947]
[1948,"2018-04-02","2018-04-02",null,null,null,null,null,1948]
[1949,"2018-04-03","2018-04-03",null,null,null,null,null,1949]
[1950,"2018-04-04","2018-04-04",null,null,null,null,null,1950]
[1951,"2018-04-05","2018-04-05",null,null,null,null,null,1951]
[1952,"2018-04-06","2018-04-06",null,null,null,null,null,1952]
[1953,"2018-04-07","2018-04-07","X",null,null,null,"X",{"$f":"+A1962","v":1953}]
[{"$f":"+A1962+1","v":1954},"2018-04-08","2018-04-08","X",null,null,null,"X",1954]
[1955,"2018-04-09","2018-04-09",null,null,null,null,null,1955]
[1956,"2018-04-10","2018-04-10",null,null,null,null,null,1956]
[1957,"2018-04-11","2018-04-11",null,null,null,null,null,1957]
[1958,"2018-04-12","2018-04-12",null,null,null,null,null,1958]
[1959,"2018-04-13","2018-04-13",null,null,null,null,null,1959]
[1960,"2018-04-14","2018-04-14","X",null,null,null,"X",{"$f":"+A1969","v":1960}]
[1961,"2018-04-15","2018-04-15","X",null,null,null,"X",1961]
[1962,"2018-04-16","2018-04-16",null,null,null,null,null,1962]
[1963,"2018-04-17","2018-04-17",null,null,null,null,null,1963]
[1964,"2018-04-18","2018-04-18",null,null,null,null,null,1964]
[1965,"2018-04-19","2018-04-19",null,null,null,null,null,1965]
[1966,"2018-04-20","2018-04-20",null,null,null,null,null,1966]
[1967,"2018-04-21","2018-04-21","X",null,null,null,"X",{"$f":"+A1976","v":1967}]
[1968,"2018-04-22","2018-04-22","X",null,null,null,"X",1968]
[1969,"2018-04-23","2018-04-23",null,null,null,null,null,1969]
[{"$f":"+A1978+1","v":1970},"2018-04-24","2018-04-24",null,null,null,null,null,1970]
[1971,"2018-04-25","2018-04-25",null,null,null,null,null,1971]
[1972,"2018-04-26","2018-04-26",null,null,null,null,null,1972]
[1973,"2018-04-27","2018-04-27",null,null,null,null,null,1973]
[1974,"2018-04-28","2018-04-28","X",null,null,null,"X",{"$f":"+A1983","v":1974}]
[1975,"2018-04-29","2018-04-29","X",null,null,null,"X",1975]
[1976,"2018-04-30","2018-04-30",null,null,null,null,null,1976]
[1977,"2018-05-01","2018-05-01",null,"X",null,null,"X",{"$f":"+A1986","v":1977}]
[1978,"2018-05-02","2018-05-02",null,null,null,null,null,1978]
[1979,"2018-05-03","2018-05-03",null,null,null,null,null,1979]
[1980,"2018-05-04","2018-05-04",null,null,null,null,null,1980]
[1981,"2018-05-05","2018-05-05","X",null,null,null,"X",{"$f":"+A1990","v":1981}]
[1982,"2018-05-06","2018-05-06","X",null,null,null,"X",1982]
[1983,"2018-05-07","2018-05-07",null,null,null,null,null,1983]
[1984,"2018-05-08","2018-05-08",null,null,null,null,null,1984]
[1985,"2018-05-09","2018-05-09",null,null,null,null,null,1985]
[{"$f":"+A1994+1","v":1986},"2018-05-10","2018-05-10",null,null,null,null,null,{"$f":"+IF(H1995<>\"X\",A1995,0)","v":1986}]
[1987,"2018-05-11","2018-05-11",null,null,null,null,null,1987]
[1988,"2018-05-12","2018-05-12","X",null,null,null,"X",{"$f":"+A1997","v":1988}]
[1989,"2018-05-13","2018-05-13","X",null,null,null,"X",1989]
[1990,"2018-05-14","2018-05-14",null,null,null,null,null,1990]
[1991,"2018-05-15","2018-05-15",null,null,null,null,null,1991]
[1992,"2018-05-16","2018-05-16",null,null,null,null,null,1992]
[1993,"2018-05-17","2018-05-17",null,null,null,null,null,1993]
[1994,"2018-05-18","2018-05-18",null,null,null,null,null,1994]
[1995,"2018-05-19","2018-05-19","X",null,null,null,"X",{"$f":"+A2004","v":1995}]
[1996,"2018-05-20","2018-05-20","X",null,null,null,"X",1996]
[1997,"2018-05-21","2018-05-21",null,null,null,null,null,1997]
[1998,"2018-05-22","2018-05-22",null,null,null,null,null,1998]
[1999,"2018-05-23","2018-05-23",null,null,null,null,null,1999]
[2000,"2018-05-24","2018-05-24",null,null,null,null,null,2000]
[2001,"2018-05-25","2018-05-25",null,null,null,null,null,2001]
[{"$f":"+A2010+1","v":2002},"2018-05-26","2018-05-26","X",null,null,null,"X",{"$f":"+A2011","v":2002}]
[2003,"2018-05-27","2018-05-27","X",null,null,null,"X",2003]
[2004,"2018-05-28","2018-05-28",null,null,null,null,null,2004]
[2005,"2018-05-29","2018-05-29",null,null,null,null,null,2005]
[2006,"2018-05-30","2018-05-30",null,null,null,null,null,2006]
[2007,"2018-05-31","2018-05-31",null,null,null,null,null,2007]
[2008,"2018-06-01","2018-06-01",null,null,null,null,null,2008]
[2009,"2018-06-02","2018-06-02","X",null,null,null,"X",{"$f":"+A2018","v":2009}]
[2010,"2018-06-03","2018-06-03","X",null,null,null,"X",2010]
[2011,"2018-06-04","2018-06-04",null,null,null,null,null,2011]
[2012,"2018-06-05","2018-06-05",null,null,null,null,null,2012]
[2013,"2018-06-06","2018-06-06",null,null,null,null,null,2013]
[2014,"2018-06-07","2018-06-07",null,null,null,null,null,2014]
[2015,"2018-06-08","2018-06-08",null,null,null,null,null,2015]
[2016,"2018-06-09","2018-06-09","X",null,null,null,"X",{"$f":"+A2025","v":2016}]
[2017,"2018-06-10","2018-06-10","X",null,null,null,"X",2017]
[{"$f":"+A2026+1","v":2018},"2018-06-11","2018-06-11",null,null,null,null,null,2018]
[2019,"2018-06-12","2018-06-12",null,null,null,null,null,2019]
[2020,"2018-06-13","2018-06-13",null,null,null,null,null,2020]
[2021,"2018-06-14","2018-06-14",null,null,null,null,null,2021]
[2022,"2018-06-15","2018-06-15",null,null,null,null,null,2022]
[2023,"2018-06-16","2018-06-16","X",null,null,null,"X",{"$f":"+A2032","v":2023}]
[2024,"2018-06-17","2018-06-17","X",null,null,null,"X",2024]
[2025,"2018-06-18","2018-06-18",null,null,null,null,null,2025]
[2026,"2018-06-19","2018-06-19",null,null,null,null,null,2026]
[2027,"2018-06-20","2018-06-20",null,null,null,null,null,2027]
[2028,"2018-06-21","2018-06-21",null,null,null,null,null,2028]
[2029,"2018-06-22","2018-06-22",null,null,null,null,null,2029]
[2030,"2018-06-23","2018-06-23","X",null,null,null,"X",{"$f":"+A2039","v":2030}]
[2031,"2018-06-24","2018-06-24","X",null,null,null,"X",2031]
[2032,"2018-06-25","2018-06-25",null,null,null,null,null,2032]
[2033,"2018-06-26","2018-06-26",null,null,null,null,null,2033]
[{"$f":"+A2042+1","v":2034},"2018-06-27","2018-06-27",null,null,null,null,null,2034]
[2035,"2018-06-28","2018-06-28",null,null,null,null,null,2035]
[2036,"2018-06-29","2018-06-29",null,"X",null,null,"X",{"$f":"+A2045","v":2036}]
[2037,"2018-06-30","2018-06-30","X",null,null,null,"X",2037]
[2038,"2018-07-01","2018-07-01","X",null,null,null,"X",2038]
[2039,"2018-07-02","2018-07-02",null,null,null,null,null,2039]
[2040,"2018-07-03","2018-07-03",null,null,null,null,null,2040]
[2041,"2018-07-04","2018-07-04",null,null,null,null,null,2041]
[2042,"2018-07-05","2018-07-05",null,null,null,null,null,2042]
[2043,"2018-07-06","2018-07-06",null,null,null,null,null,2043]
[2044,"2018-07-07","2018-07-07","X",null,null,null,"X",{"$f":"+A2053","v":2044}]
[2045,"2018-07-08","2018-07-08","X",null,null,null,"X",2045]
[2046,"2018-07-09","2018-07-09",null,null,null,null,null,2046]
[2047,"2018-07-10","2018-07-10",null,null,null,null,null,2047]
[2048,"2018-07-11","2018-07-11",null,null,null,null,null,2048]
[2049,"2018-07-12","2018-07-12",null,null,null,null,null,2049]
[{"$f":"+A2058+1","v":2050},"2018-07-13","2018-07-13",null,null,null,null,null,{"$f":"+IF(H2059<>\"X\",A2059,0)","v":2050}]
[2051,"2018-07-14","2018-07-14","X",null,null,null,"X",{"$f":"+A2060","v":2051}]
[2052,"2018-07-15","2018-07-15","X",null,null,null,"X",2052]
[2053,"2018-07-16","2018-07-16",null,null,null,null,null,2053]
[2054,"2018-07-17","2018-07-17",null,null,null,null,null,2054]
[2055,"2018-07-18","2018-07-18",null,null,null,null,null,2055]
[2056,"2018-07-19","2018-07-19",null,null,null,null,null,2056]
[2057,"2018-07-20","2018-07-20",null,null,null,null,null,2057]
[2058,"2018-07-21","2018-07-21","X",null,null,null,"X",{"$f":"+A2067","v":2058}]
[2059,"2018-07-22","2018-07-22","X",null,null,null,"X",2059]
[2060,"2018-07-23","2018-07-23",null,null,null,null,null,2060]
[2061,"2018-07-24","2018-07-24",null,null,null,null,null,2061]
[2062,"2018-07-25","2018-07-25",null,null,null,null,null,2062]
[2063,"2018-07-26","2018-07-26",null,null,null,null,null,2063]
[2064,"2018-07-27","2018-07-27",null,null,null,null,null,2064]
[2065,"2018-07-28","2018-07-28","X","X",null,null,"X",{"$f":"+A2074","v":2065}]
[{"$f":"+A2074+1","v":2066},"2018-07-29","2018-07-29","X","X",null,null,"X",2066]
[2067,"2018-07-30","2018-07-30",null,null,null,null,null,2067]
[2068,"2018-07-31","2018-07-31",null,null,null,null,null,2068]
[2069,"2018-08-01","2018-08-01",null,null,null,null,null,2069]
[2070,"2018-08-02","2018-08-02",null,null,null,null,null,2070]
[2071,"2018-08-03","2018-08-03",null,null,null,null,null,2071]
[2072,"2018-08-04","2018-08-04","X",null,null,null,"X",{"$f":"+A2081","v":2072}]
[2073,"2018-08-05","2018-08-05","X",null,null,null,"X",2073]
[2074,"2018-08-06","2018-08-06",null,null,null,null,null,2074]
[2075,"2018-08-07","2018-08-07",null,null,null,null,null,2075]
[2076,"2018-08-08","2018-08-08",null,null,null,null,null,2076]
[2077,"2018-08-09","2018-08-09",null,null,null,null,null,2077]
[2078,"2018-08-10","2018-08-10",null,null,null,null,null,2078]
[2079,"2018-08-11","2018-08-11","X",null,null,null,"X",{"$f":"+A2088","v":2079}]
[2080,"2018-08-12","2018-08-12","X",null,null,null,"X",2080]
[2081,"2018-08-13","2018-08-13",null,null,null,null,null,2081]
[{"$f":"+A2090+1","v":2082},"2018-08-14","2018-08-14",null,null,null,null,null,2082]
[2083,"2018-08-15","2018-08-15",null,null,null,null,null,2083]
[2084,"2018-08-16","2018-08-16",null,null,null,null,null,2084]
[2085,"2018-08-17","2018-08-17",null,null,null,null,null,2085]
[2086,"2018-08-18","2018-08-18","X",null,null,null,"X",{"$f":"+A2095","v":2086}]
[2087,"2018-08-19","2018-08-19","X",null,null,null,"X",2087]
[2088,"2018-08-20","2018-08-20",null,null,null,null,null,2088]
[2089,"2018-08-21","2018-08-21",null,null,null,null,null,2089]
[2090,"2018-08-22","2018-08-22",null,null,null,null,null,2090]
[2091,"2018-08-23","2018-08-23",null,null,null,null,null,2091]
[2092,"2018-08-24","2018-08-24",null,null,null,null,null,2092]
[2093,"2018-08-25","2018-08-25","X",null,null,null,"X",{"$f":"+A2102","v":2093}]
[2094,"2018-08-26","2018-08-26","X",null,null,null,"X",2094]
[2095,"2018-08-27","2018-08-27",null,null,null,null,null,2095]
[2096,"2018-08-28","2018-08-28",null,null,null,null,null,2096]
[2097,"2018-08-29","2018-08-29",null,null,null,null,null,2097]
[{"$f":"+A2106+1","v":2098},"2018-08-30","2018-08-30",null,null,null,null,null,2098]
[2099,"2018-08-31","2018-08-31",null,null,null,null,null,2099]
[2100,"2018-09-01","2018-09-01","X",null,null,null,"X",{"$f":"+A2109","v":2100}]
[2101,"2018-09-02","2018-09-02","X",null,null,null,"X",2101]
[2102,"2018-09-03","2018-09-03",null,null,null,null,null,2102]
[2103,"2018-09-04","2018-09-04",null,null,null,null,null,2103]
[2104,"2018-09-05","2018-09-05",null,null,null,null,null,2104]
[2105,"2018-09-06","2018-09-06",null,null,null,null,null,2105]
[2106,"2018-09-07","2018-09-07",null,null,null,null,null,2106]
[2107,"2018-09-08","2018-09-08","X",null,null,null,"X",{"$f":"+A2116","v":2107}]
[2108,"2018-09-09","2018-09-09","X",null,null,null,"X",2108]
[2109,"2018-09-10","2018-09-10",null,null,null,null,null,2109]
[2110,"2018-09-11","2018-09-11",null,null,null,null,null,2110]
[2111,"2018-09-12","2018-09-12",null,null,null,null,null,2111]
[2112,"2018-09-13","2018-09-13",null,null,null,null,null,2112]
[2113,"2018-09-14","2018-09-14",null,null,null,null,null,2113]
[{"$f":"+A2122+1","v":2114},"2018-09-15","2018-09-15","X",null,null,null,"X",{"$f":"+A2123","v":2114}]
[2115,"2018-09-16","2018-09-16","X",null,null,null,"X",2115]
[2116,"2018-09-17","2018-09-17",null,null,null,null,null,{"$f":"+IF(H2125<>\"X\",A2125,0)","v":2116}]
[2117,"2018-09-18","2018-09-18",null,null,null,null,null,2117]
[2118,"2018-09-19","2018-09-19",null,null,null,null,null,2118]
[2119,"2018-09-20","2018-09-20",null,null,null,null,null,2119]
[2120,"2018-09-21","2018-09-21",null,null,null,null,null,2120]
[2121,"2018-09-22","2018-09-22","X",null,null,null,"X",{"$f":"+A2130","v":2121}]
[2122,"2018-09-23","2018-09-23","X",null,null,null,"X",2122]
[2123,"2018-09-24","2018-09-24",null,null,null,null,null,2123]
[2124,"2018-09-25","2018-09-25",null,null,null,null,null,2124]
[2125,"2018-09-26","2018-09-26",null,null,null,null,null,2125]
[2126,"2018-09-27","2018-09-27",null,null,null,null,null,2126]
[2127,"2018-09-28","2018-09-28",null,null,null,null,null,2127]
[2128,"2018-09-29","2018-09-29","X",null,null,null,"X",{"$f":"+A2137","v":2128}]
[2129,"2018-09-30","2018-09-30","X",null,null,null,"X",2129]
[{"$f":"+A2138+1","v":2130},"2018-10-01","2018-10-01",null,null,null,null,null,2130]
[2131,"2018-10-02","2018-10-02",null,null,null,null,null,2131]
[2132,"2018-10-03","2018-10-03",null,null,null,null,null,2132]
[2133,"2018-10-04","2018-10-04",null,null,null,null,null,2133]
[2134,"2018-10-05","2018-10-05",null,null,null,null,null,2134]
[2135,"2018-10-06","2018-10-06","X",null,null,null,"X",{"$f":"+A2144","v":2135}]
[2136,"2018-10-07","2018-10-07","X",null,null,null,"X",2136]
[2137,"2018-10-08","2018-10-08",null,"X",null,null,"X",2137]
[2138,"2018-10-09","2018-10-09",null,null,null,null,null,2138]
[2139,"2018-10-10","2018-10-10",null,null,null,null,null,2139]
[2140,"2018-10-11","2018-10-11",null,null,null,null,null,2140]
[2141,"2018-10-12","2018-10-12",null,null,null,null,null,2141]
[2142,"2018-10-13","2018-10-13","X",null,null,null,"X",{"$f":"+A2151","v":2142}]
[2143,"2018-10-14","2018-10-14","X",null,null,null,"X",2143]
[2144,"2018-10-15","2018-10-15",null,null,null,null,null,2144]
[2145,"2018-10-16","2018-10-16",null,null,null,null,null,2145]
[{"$f":"+A2154+1","v":2146},"2018-10-17","2018-10-17",null,null,null,null,null,2146]
[2147,"2018-10-18","2018-10-18",null,null,null,null,null,2147]
[2148,"2018-10-19","2018-10-19",null,null,null,null,null,2148]
[2149,"2018-10-20","2018-10-20","X",null,null,null,"X",{"$f":"+A2158","v":2149}]
[2150,"2018-10-21","2018-10-21","X",null,null,null,"X",2150]
[2151,"2018-10-22","2018-10-22",null,null,null,null,null,2151]
[2152,"2018-10-23","2018-10-23",null,null,null,null,null,2152]
[2153,"2018-10-24","2018-10-24",null,null,null,null,null,2153]
[2154,"2018-10-25","2018-10-25",null,null,null,null,null,2154]
[2155,"2018-10-26","2018-10-26",null,null,null,null,null,2155]
[2156,"2018-10-27","2018-10-27","X",null,null,null,"X",{"$f":"+A2165","v":2156}]
[2157,"2018-10-28","2018-10-28","X",null,null,null,"X",2157]
[2158,"2018-10-29","2018-10-29",null,null,null,null,null,2158]
[2159,"2018-10-30","2018-10-30",null,null,null,null,null,2159]
[2160,"2018-10-31","2018-10-31",null,null,null,null,null,2160]
[2161,"2018-11-01","2018-11-01",null,"X",null,null,"X",{"$f":"+A2170","v":2161}]
[{"$f":"+A2170+1","v":2162},"2018-11-02","2018-11-02",null,null,null,null,null,2162]
[2163,"2018-11-03","2018-11-03","X",null,null,null,"X",{"$f":"+A2172","v":2163}]
[2164,"2018-11-04","2018-11-04","X",null,null,null,"X",2164]
[2165,"2018-11-05","2018-11-05",null,null,null,null,null,2165]
[2166,"2018-11-06","2018-11-06",null,null,null,null,null,2166]
[2167,"2018-11-07","2018-11-07",null,null,null,null,null,2167]
[2168,"2018-11-08","2018-11-08",null,null,null,null,null,2168]
[2169,"2018-11-09","2018-11-09",null,null,null,null,null,2169]
[2170,"2018-11-10","2018-11-10","X",null,null,null,"X",{"$f":"+A2179","v":2170}]
[2171,"2018-11-11","2018-11-11","X",null,null,null,"X",2171]
[2172,"2018-11-12","2018-11-12",null,null,null,null,null,2172]
[2173,"2018-11-13","2018-11-13",null,null,null,null,null,2173]
[2174,"2018-11-14","2018-11-14",null,null,null,null,null,2174]
[2175,"2018-11-15","2018-11-15",null,null,null,null,null,2175]
[2176,"2018-11-16","2018-11-16",null,null,null,null,null,2176]
[2177,"2018-11-17","2018-11-17","X",null,null,null,"X",{"$f":"+A2186","v":2177}]
[{"$f":"+A2186+1","v":2178},"2018-11-18","2018-11-18","X",null,null,null,"X",2178]
[2179,"2018-11-19","2018-11-19",null,null,null,null,null,{"$f":"+IF(H2188<>\"X\",A2188,0)","v":2179}]
[2180,"2018-11-20","2018-11-20",null,null,null,null,null,2180]
[2181,"2018-11-21","2018-11-21",null,null,null,null,null,2181]
[2182,"2018-11-22","2018-11-22",null,null,null,null,null,2182]
[2183,"2018-11-23","2018-11-23",null,null,null,null,null,2183]
[2184,"2018-11-24","2018-11-24","X",null,null,null,"X",{"$f":"+A2193","v":2184}]
[2185,"2018-11-25","2018-11-25","X",null,null,null,"X",2185]
[2186,"2018-11-26","2018-11-26",null,null,null,null,null,2186]
[2187,"2018-11-27","2018-11-27",null,null,null,null,null,2187]
[2188,"2018-11-28","2018-11-28",null,null,null,null,null,2188]
[2189,"2018-11-29","2018-11-29",null,null,null,null,null,2189]
[2190,"2018-11-30","2018-11-30",null,null,null,null,null,2190]
[2191,"2018-12-01","2018-12-01","X",null,null,null,"X",{"$f":"+A2200","v":2191}]
[2192,"2018-12-02","2018-12-02","X",null,null,null,"X",2192]
[2193,"2018-12-03","2018-12-03",null,null,null,null,null,2193]
[{"$f":"+A2202+1","v":2194},"2018-12-04","2018-12-04",null,null,null,null,null,2194]
[2195,"2018-12-05","2018-12-05",null,null,null,null,null,2195]
[2196,"2018-12-06","2018-12-06",null,null,null,null,null,2196]
[2197,"2018-12-07","2018-12-07",null,null,null,null,null,2197]
[2198,"2018-12-08","2018-12-08","X","X",null,null,"X",{"$f":"+A2207","v":2198}]
[2199,"2018-12-09","2018-12-09","X",null,null,null,"X",2199]
[2200,"2018-12-10","2018-12-10",null,null,null,null,null,2200]
[2201,"2018-12-11","2018-12-11",null,null,null,null,null,2201]
[2202,"2018-12-12","2018-12-12",null,null,null,null,null,2202]
[2203,"2018-12-13","2018-12-13",null,null,null,null,null,2203]
[2204,"2018-12-14","2018-12-14",null,null,null,null,null,2204]
[2205,"2018-12-15","2018-12-15","X",null,null,null,"X",{"$f":"+A2214","v":2205}]
[2206,"2018-12-16","2018-12-16","X",null,null,null,"X",2206]
[2207,"2018-12-17","2018-12-17",null,null,null,null,null,2207]
[2208,"2018-12-18","2018-12-18",null,null,null,null,null,2208]
[2209,"2018-12-19","2018-12-19",null,null,null,null,null,2209]
[{"$f":"+A2218+1","v":2210},"2018-12-20","2018-12-20",null,null,null,null,null,2210]
[2211,"2018-12-21","2018-12-21",null,null,null,null,null,2211]
[2212,"2018-12-22","2018-12-22","X",null,null,null,"X",{"$f":"+A2221","v":2212}]
[2213,"2018-12-23","2018-12-23","X",null,null,null,"X",2213]
[2214,"2018-12-24","2018-12-24",null,null,null,null,null,2214]
[2215,"2018-12-25","2018-12-25",null,"X",null,null,"X",{"$f":"+A2224","v":2215}]
[2216,"2018-12-26","2018-12-26",null,null,null,null,null,2216]
[2217,"2018-12-27","2018-12-27",null,null,null,null,null,2217]
[2218,"2018-12-28","2018-12-28",null,null,null,null,null,2218]
[2219,"2018-12-29","2018-12-29","X",null,null,null,"X",{"$f":"+A2228","v":2219}]
[2220,"2018-12-30","2018-12-30","X",null,null,null,"X",2220]
[2221,"2018-12-31","2018-12-31",null,null,null,null,"X",0]
[2222,"2019-01-01","2019-01-01",null,"X",null,null,"X",{"$f":"+A2231","v":2222}]
[2223,"2019-01-02","2019-01-02",null,null,null,null,null,2223]
[2224,"2019-01-03","2019-01-03",null,null,null,null,null,2224]
[2225,"2019-01-04","2019-01-04",null,null,null,null,null,2225]
[{"$f":"+A2234+1","v":2226},"2019-01-05","2019-01-05","X",null,null,null,"X",{"$f":"+A2235","v":2226}]
[2227,"2019-01-06","2019-01-06","X",null,null,null,"X",2227]
[2228,"2019-01-07","2019-01-07",null,null,null,null,null,2228]
[2229,"2019-01-08","2019-01-08",null,null,null,null,null,2229]
[2230,"2019-01-09","2019-01-09",null,null,null,null,null,2230]
[2231,"2019-01-10","2019-01-10",null,null,null,null,null,2231]
[2232,"2019-01-11","2019-01-11",null,null,null,null,null,2232]
[2233,"2019-01-12","2019-01-12","X",null,null,null,"X",{"$f":"+A2242","v":2233}]
[2234,"2019-01-13","2019-01-13","X",null,null,null,"X",2234]
[2235,"2019-01-14","2019-01-14",null,null,null,null,null,2235]
[2236,"2019-01-15","2019-01-15",null,null,null,null,null,2236]
[2237,"2019-01-16","2019-01-16",null,null,null,null,null,2237]
[2238,"2019-01-17","2019-01-17",null,null,null,null,null,2238]
[2239,"2019-01-18","2019-01-18",null,null,null,null,null,2239]
[2240,"2019-01-19","2019-01-19","X",null,null,null,"X",{"$f":"+A2249","v":2240}]
[2241,"2019-01-20","2019-01-20","X",null,null,null,"X",2241]
[{"$f":"+A2250+1","v":2242},"2019-01-21","2019-01-21",null,null,null,null,null,{"$f":"+IF(H2251<>\"X\",A2251,0)","v":2242}]
[2243,"2019-01-22","2019-01-22",null,null,null,null,null,2243]
[2244,"2019-01-23","2019-01-23",null,null,null,null,null,2244]
[2245,"2019-01-24","2019-01-24",null,null,null,null,null,2245]
[2246,"2019-01-25","2019-01-25",null,null,null,null,null,2246]
[2247,"2019-01-26","2019-01-26","X",null,null,null,"X",{"$f":"+A2256","v":2247}]
[2248,"2019-01-27","2019-01-27","X",null,null,null,"X",2248]
[2249,"2019-01-28","2019-01-28",null,null,null,null,null,2249]
[2250,"2019-01-29","2019-01-29",null,null,null,null,null,2250]
[2251,"2019-01-30","2019-01-30",null,null,null,null,null,2251]
[2252,"2019-01-31","2019-01-31",null,null,null,null,null,2252]
[2253,"2019-02-01","2019-02-01",null,null,null,null,null,2253]
[2254,"2019-02-02","2019-02-02","X",null,null,null,"X",{"$f":"+A2263","v":2254}]
[2255,"2019-02-03","2019-02-03","X",null,null,null,"X",2255]
[2256,"2019-02-04","2019-02-04",null,null,null,null,null,2256]
[2257,"2019-02-05","2019-02-05",null,null,null,null,null,2257]
[{"$f":"+A2266+1","v":2258},"2019-02-06","2019-02-06",null,null,null,null,null,2258]
[2259,"2019-02-07","2019-02-07",null,null,null,null,null,2259]
[2260,"2019-02-08","2019-02-08",null,null,null,null,null,2260]
[2261,"2019-02-09","2019-02-09","X",null,null,null,"X",{"$f":"+A2270","v":2261}]
[2262,"2019-02-10","2019-02-10","X",null,null,null,"X",2262]
[2263,"2019-02-11","2019-02-11",null,null,null,null,null,2263]
[2264,"2019-02-12","2019-02-12",null,null,null,null,null,2264]
[2265,"2019-02-13","2019-02-13",null,null,null,null,null,2265]
[2266,"2019-02-14","2019-02-14",null,null,null,null,null,2266]
[2267,"2019-02-15","2019-02-15",null,null,null,null,null,2267]
[2268,"2019-02-16","2019-02-16","X",null,null,null,"X",{"$f":"+A2277","v":2268}]
[2269,"2019-02-17","2019-02-17","X",null,null,null,"X",2269]
[2270,"2019-02-18","2019-02-18",null,null,null,null,null,2270]
[2271,"2019-02-19","2019-02-19",null,null,null,null,null,2271]
[2272,"2019-02-20","2019-02-20",null,null,null,null,null,2272]
[2273,"2019-02-21","2019-02-21",null,null,null,null,null,2273]
[{"$f":"+A2282+1","v":2274},"2019-02-22","2019-02-22",null,null,null,null,null,2274]
[2275,"2019-02-23","2019-02-23","X",null,null,null,"X",{"$f":"+A2284","v":2275}]
[2276,"2019-02-24","2019-02-24","X",null,null,null,"X",2276]
[2277,"2019-02-25","2019-02-25",null,null,null,null,null,2277]
[2278,"2019-02-26","2019-02-26",null,null,null,null,null,2278]
[2279,"2019-02-27","2019-02-27",null,null,null,null,null,2279]
[2280,"2019-02-28","2019-02-28",null,null,null,null,null,2280]
[2281,"2019-03-01","2019-03-01",null,null,null,null,null,2281]
[2282,"2019-03-02","2019-03-02","X",null,null,null,"X",{"$f":"+A2291","v":2282}]
[2283,"2019-03-03","2019-03-03","X",null,null,null,"X",2283]
[2284,"2019-03-04","2019-03-04",null,null,null,null,null,2284]
[2285,"2019-03-05","2019-03-05",null,null,null,null,null,2285]
[2286,"2019-03-06","2019-03-06",null,null,null,null,null,2286]
[2287,"2019-03-07","2019-03-07",null,null,null,null,null,2287]
[2288,"2019-03-08","2019-03-08",null,null,null,null,null,2288]
[2289,"2019-03-09","2019-03-09","X",null,null,null,"X",{"$f":"+A2298","v":2289}]
[{"$f":"+A2298+1","v":2290},"2019-03-10","2019-03-10","X",null,null,null,"X",2290]
[2291,"2019-03-11","2019-03-11",null,null,null,null,null,2291]
[2292,"2019-03-12","2019-03-12",null,null,null,null,null,2292]
[2293,"2019-03-13","2019-03-13",null,null,null,null,null,2293]
[2294,"2019-03-14","2019-03-14",null,null,null,null,null,2294]
[2295,"2019-03-15","2019-03-15",null,null,null,null,null,2295]
[2296,"2019-03-16","2019-03-16","X",null,null,null,"X",{"$f":"+A2305","v":2296}]
[2297,"2019-03-17","2019-03-17","X",null,null,null,"X",2297]
[2298,"2019-03-18","2019-03-18",null,null,null,null,null,2298]
[2299,"2019-03-19","2019-03-19",null,null,null,null,null,2299]
[2300,"2019-03-20","2019-03-20",null,null,null,null,null,2300]
[2301,"2019-03-21","2019-03-21",null,null,null,null,null,2301]
[2302,"2019-03-22","2019-03-22",null,null,null,null,null,2302]
[2303,"2019-03-23","2019-03-23","X",null,null,null,"X",{"$f":"+A2312","v":2303}]
[2304,"2019-03-24","2019-03-24","X",null,null,null,"X",2304]
[2305,"2019-03-25","2019-03-25",null,null,null,null,null,{"$f":"+IF(H2314<>\"X\",A2314,0)","v":2305}]
[{"$f":"+A2314+1","v":2306},"2019-03-26","2019-03-26",null,null,null,null,null,2306]
[2307,"2019-03-27","2019-03-27",null,null,null,null,null,2307]
[2308,"2019-03-28","2019-03-28",null,null,null,null,null,2308]
[2309,"2019-03-29","2019-03-29",null,null,null,null,null,2309]
[2310,"2019-03-30","2019-03-30","X",null,null,null,"X",{"$f":"+A2319","v":2310}]
[2311,"2019-03-31","2019-03-31","X",null,null,null,"X",2311]
[2312,"2019-04-01","2019-04-01",null,null,null,null,null,2312]
[2313,"2019-04-02","2019-04-02",null,null,null,null,null,2313]
[2314,"2019-04-03","2019-04-03",null,null,null,null,null,2314]
[2315,"2019-04-04","2019-04-04",null,null,null,null,null,2315]
[2316,"2019-04-05","2019-04-05",null,null,null,null,null,2316]
[2317,"2019-04-06","2019-04-06","X",null,null,null,"X",{"$f":"+A2326","v":2317}]
[2318,"2019-04-07","2019-04-07","X",null,null,null,"X",2318]
[2319,"2019-04-08","2019-04-08",null,null,null,null,null,2319]
[2320,"2019-04-09","2019-04-09",null,null,null,null,null,2320]
[2321,"2019-04-10","2019-04-10",null,null,null,null,null,2321]
[{"$f":"+A2330+1","v":2322},"2019-04-11","2019-04-11",null,null,null,null,null,2322]
[2323,"2019-04-12","2019-04-12",null,null,null,null,null,2323]
[2324,"2019-04-13","2019-04-13","X",null,null,null,"X",{"$f":"+A2333","v":2324}]
[2325,"2019-04-14","2019-04-14","X",null,null,null,"X",2325]
[2326,"2019-04-15","2019-04-15",null,null,null,null,null,2326]
[2327,"2019-04-16","2019-04-16",null,null,null,null,null,2327]
[2328,"2019-04-17","2019-04-17",null,null,null,null,null,2328]
[2329,"2019-04-18","2019-04-18",null,null,"X",null,"X",{"$f":"+A2338","v":2329}]
[2330,"2019-04-19","2019-04-19",null,null,"X",null,"X",2330]
[2331,"2019-04-20","2019-04-20","X",null,null,null,"X",2331]
[2332,"2019-04-21","2019-04-21","X",null,null,null,"X",2332]
[2333,"2019-04-22","2019-04-22",null,null,null,null,null,2333]
[2334,"2019-04-23","2019-04-23",null,null,null,null,null,2334]
[2335,"2019-04-24","2019-04-24",null,null,null,null,null,2335]
[2336,"2019-04-25","2019-04-25",null,null,null,null,null,2336]
[2337,"2019-04-26","2019-04-26",null,null,null,null,null,2337]
[{"$f":"+A2346+1","v":2338},"2019-04-27","2019-04-27","X",null,null,null,"X",{"$f":"+A2347","v":2338}]
[2339,"2019-04-28","2019-04-28","X",null,null,null,"X",2339]
[2340,"2019-04-29","2019-04-29",null,null,null,null,null,2340]
[2341,"2019-04-30","2019-04-30",null,null,null,null,null,2341]
[2342,"2019-05-01","2019-05-01",null,"X",null,null,"X",{"$f":"+A2351","v":2342}]
[2343,"2019-05-02","2019-05-02",null,null,null,null,null,2343]
[2344,"2019-05-03","2019-05-03",null,null,null,null,null,2344]
[2345,"2019-05-04","2019-05-04","X",null,null,null,"X",{"$f":"+A2354","v":2345}]
[2346,"2019-05-05","2019-05-05","X",null,null,null,"X",2346]
[2347,"2019-05-06","2019-05-06",null,null,null,null,null,2347]
[2348,"2019-05-07","2019-05-07",null,null,null,null,null,2348]
[2349,"2019-05-08","2019-05-08",null,null,null,null,null,2349]
[2350,"2019-05-09","2019-05-09",null,null,null,null,null,2350]
[2351,"2019-05-10","2019-05-10",null,null,null,null,null,2351]
[2352,"2019-05-11","2019-05-11","X",null,null,null,"X",{"$f":"+A2361","v":2352}]
[2353,"2019-05-12","2019-05-12","X",null,null,null,"X",2353]
[{"$f":"+A2362+1","v":2354},"2019-05-13","2019-05-13",null,null,null,null,null,2354]
[2355,"2019-05-14","2019-05-14",null,null,null,null,null,2355]
[2356,"2019-05-15","2019-05-15",null,null,null,null,null,2356]
[2357,"2019-05-16","2019-05-16",null,null,null,null,null,2357]
[2358,"2019-05-17","2019-05-17",null,null,null,null,null,2358]
[2359,"2019-05-18","2019-05-18","X",null,null,null,"X",{"$f":"+A2368","v":2359}]
[2360,"2019-05-19","2019-05-19","X",null,null,null,"X",2360]
[2361,"2019-05-20","2019-05-20",null,null,null,null,null,2361]
[2362,"2019-05-21","2019-05-21",null,null,null,null,null,2362]
[2363,"2019-05-22","2019-05-22",null,null,null,null,null,2363]
[2364,"2019-05-23","2019-05-23",null,null,null,null,null,2364]
[2365,"2019-05-24","2019-05-24",null,null,null,null,null,2365]
[2366,"2019-05-25","2019-05-25","X",null,null,null,"X",{"$f":"+A2375","v":2366}]
[2367,"2019-05-26","2019-05-26","X",null,null,null,"X",2367]
[2368,"2019-05-27","2019-05-27",null,null,null,null,null,2368]
[2369,"2019-05-28","2019-05-28",null,null,null,null,null,{"$f":"+IF(H2378<>\"X\",A2378,0)","v":2369}]
[{"$f":"+A2378+1","v":2370},"2019-05-29","2019-05-29",null,null,null,null,null,2370]
[2371,"2019-05-30","2019-05-30",null,null,null,null,null,2371]
[2372,"2019-05-31","2019-05-31",null,null,null,"X","X",{"$f":"+A2381","v":2372}]
[2373,"2019-06-01","2019-06-01","X",null,null,null,"X",2373]
[2374,"2019-06-02","2019-06-02","X",null,null,null,"X",2374]
[2375,"2019-06-03","2019-06-03",null,null,null,null,null,2375]
[2376,"2019-06-04","2019-06-04",null,null,null,null,null,2376]
[2377,"2019-06-05","2019-06-05",null,null,null,null,null,2377]
[2378,"2019-06-06","2019-06-06",null,null,null,null,null,2378]
[2379,"2019-06-07","2019-06-07",null,null,null,null,null,2379]
[2380,"2019-06-08","2019-06-08","X",null,null,null,"X",{"$f":"+A2389","v":2380}]
[2381,"2019-06-09","2019-06-09","X",null,null,null,"X",2381]
[2382,"2019-06-10","2019-06-10",null,null,null,null,null,2382]
[2383,"2019-06-11","2019-06-11",null,null,null,null,null,2383]
[2384,"2019-06-12","2019-06-12",null,null,null,null,null,2384]
[2385,"2019-06-13","2019-06-13",null,null,null,null,null,2385]
[{"$f":"+A2394+1","v":2386},"2019-06-14","2019-06-14",null,null,null,null,null,2386]
[2387,"2019-06-15","2019-06-15","X",null,null,null,"X",{"$f":"+A2396","v":2387}]
[2388,"2019-06-16","2019-06-16","X",null,null,null,"X",2388]
[2389,"2019-06-17","2019-06-17",null,null,null,null,null,2389]
[2390,"2019-06-18","2019-06-18",null,null,null,null,null,2390]
[2391,"2019-06-19","2019-06-19",null,null,null,null,null,2391]
[2392,"2019-06-20","2019-06-20",null,null,null,null,null,2392]
[2393,"2019-06-21","2019-06-21",null,null,null,null,null,2393]
[2394,"2019-06-22","2019-06-22","X",null,null,null,"X",{"$f":"+A2403","v":2394}]
[2395,"2019-06-23","2019-06-23","X",null,null,null,"X",2395]
[2396,"2019-06-24","2019-06-24",null,null,null,null,null,2396]
[2397,"2019-06-25","2019-06-25",null,null,null,null,null,2397]
[2398,"2019-06-26","2019-06-26",null,null,null,null,null,2398]
[2399,"2019-06-27","2019-06-27",null,null,null,null,null,2399]
[2400,"2019-06-28","2019-06-28",null,null,null,null,null,2400]
[2401,"2019-06-29","2019-06-29","X","X",null,null,"X",{"$f":"+A2410","v":2401}]
[{"$f":"+A2410+1","v":2402},"2019-06-30","2019-06-30","X",null,null,null,"X",2402]
[2403,"2019-07-01","2019-07-01",null,null,null,null,null,2403]
[2404,"2019-07-02","2019-07-02",null,null,null,null,null,2404]
[2405,"2019-07-03","2019-07-03",null,null,null,null,null,2405]
[2406,"2019-07-04","2019-07-04",null,null,null,null,null,2406]
[2407,"2019-07-05","2019-07-05",null,null,null,null,null,2407]
[2408,"2019-07-06","2019-07-06","X",null,null,null,"X",{"$f":"+A2417","v":2408}]
[2409,"2019-07-07","2019-07-07","X",null,null,null,"X",2409]
[2410,"2019-07-08","2019-07-08",null,null,null,null,null,2410]
[2411,"2019-07-09","2019-07-09",null,null,null,null,null,2411]
[2412,"2019-07-10","2019-07-10",null,null,null,null,null,2412]
[2413,"2019-07-11","2019-07-11",null,null,null,null,null,2413]
[2414,"2019-07-12","2019-07-12",null,null,null,null,null,2414]
[2415,"2019-07-13","2019-07-13","X",null,null,null,"X",{"$f":"+A2424","v":2415}]
[2416,"2019-07-14","2019-07-14","X",null,null,null,"X",2416]
[2417,"2019-07-15","2019-07-15",null,null,null,null,null,2417]
[{"$f":"+A2426+1","v":2418},"2019-07-16","2019-07-16",null,null,null,null,null,2418]
[2419,"2019-07-17","2019-07-17",null,null,null,null,null,2419]
[2420,"2019-07-18","2019-07-18",null,null,null,null,null,2420]
[2421,"2019-07-19","2019-07-19",null,null,null,null,null,2421]
[2422,"2019-07-20","2019-07-20","X",null,null,null,"X",{"$f":"+A2431","v":2422}]
[2423,"2019-07-21","2019-07-21","X",null,null,null,"X",2423]
[2424,"2019-07-22","2019-07-22",null,null,null,null,null,2424]
[2425,"2019-07-23","2019-07-23",null,null,null,null,null,2425]
[2426,"2019-07-24","2019-07-24",null,null,null,null,null,2426]
[2427,"2019-07-25","2019-07-25",null,null,null,null,null,2427]
[2428,"2019-07-26","2019-07-26",null,null,null,null,null,2428]
[2429,"2019-07-27","2019-07-27","X",null,null,null,"X",{"$f":"+A2438","v":2429}]
[2430,"2019-07-28","2019-07-28","X","X",null,null,"X",2430]
[2431,"2019-07-29","2019-07-29",null,"X",null,null,"X",2431]
[2432,"2019-07-30","2019-07-30",null,null,null,null,null,2432]
[2433,"2019-07-31","2019-07-31",null,null,null,null,null,{"$f":"+IF(H2442<>\"X\",A2442,0)","v":2433}]
[{"$f":"+A2442+1","v":2434},"2019-08-01","2019-08-01",null,null,null,null,null,2434]
[2435,"2019-08-02","2019-08-02",null,null,null,null,null,2435]
[2436,"2019-08-03","2019-08-03","X",null,null,null,"X",{"$f":"+A2445","v":2436}]
[2437,"2019-08-04","2019-08-04","X",null,null,null,"X",2437]
[2438,"2019-08-05","2019-08-05",null,null,null,null,null,2438]
[2439,"2019-08-06","2019-08-06",null,null,null,null,null,2439]
[2440,"2019-08-07","2019-08-07",null,null,null,null,null,2440]
[2441,"2019-08-08","2019-08-08",null,null,null,null,null,2441]
[2442,"2019-08-09","2019-08-09",null,null,null,null,null,2442]
[2443,"2019-08-10","2019-08-10","X",null,null,null,"X",{"$f":"+A2452","v":2443}]
[2444,"2019-08-11","2019-08-11","X",null,null,null,"X",2444]
[2445,"2019-08-12","2019-08-12",null,null,null,null,null,2445]
[2446,"2019-08-13","2019-08-13",null,null,null,null,null,2446]
[2447,"2019-08-14","2019-08-14",null,null,null,null,null,2447]
[2448,"2019-08-15","2019-08-15",null,null,null,null,null,2448]
[2449,"2019-08-16","2019-08-16",null,null,null,null,null,2449]
[{"$f":"+A2458+1","v":2450},"2019-08-17","2019-08-17","X",null,null,null,"X",{"$f":"+A2459","v":2450}]
[2451,"2019-08-18","2019-08-18","X",null,null,null,"X",2451]
[2452,"2019-08-19","2019-08-19",null,null,null,null,null,2452]
[2453,"2019-08-20","2019-08-20",null,null,null,null,null,2453]
[2454,"2019-08-21","2019-08-21",null,null,null,null,null,2454]
[2455,"2019-08-22","2019-08-22",null,null,null,null,null,2455]
[2456,"2019-08-23","2019-08-23",null,null,null,null,null,2456]
[2457,"2019-08-24","2019-08-24","X",null,null,null,"X",{"$f":"+A2466","v":2457}]
[2458,"2019-08-25","2019-08-25","X",null,null,null,"X",2458]
[2459,"2019-08-26","2019-08-26",null,null,null,null,null,2459]
[2460,"2019-08-27","2019-08-27",null,null,null,null,null,2460]
[2461,"2019-08-28","2019-08-28",null,null,null,null,null,2461]
[2462,"2019-08-29","2019-08-29",null,null,null,null,null,2462]
[2463,"2019-08-30","2019-08-30",null,null,null,null,null,2463]
[2464,"2019-08-31","2019-08-31","X",null,null,null,"X",{"$f":"+A2473","v":2464}]
[2465,"2019-09-01","2019-09-01","X",null,null,null,"X",2465]
[{"$f":"+A2474+1","v":2466},"2019-09-02","2019-09-02",null,null,null,null,null,2466]
[2467,"2019-09-03","2019-09-03",null,null,null,null,null,2467]
[2468,"2019-09-04","2019-09-04",null,null,null,null,null,2468]
[2469,"2019-09-05","2019-09-05",null,null,null,null,null,2469]
[2470,"2019-09-06","2019-09-06",null,null,null,null,null,2470]
[2471,"2019-09-07","2019-09-07","X",null,null,null,"X",{"$f":"+A2480","v":2471}]
[2472,"2019-09-08","2019-09-08","X",null,null,null,"X",2472]
[2473,"2019-09-09","2019-09-09",null,null,null,null,null,2473]
[2474,"2019-09-10","2019-09-10",null,null,null,null,null,2474]
[2475,"2019-09-11","2019-09-11",null,null,null,null,null,2475]
[2476,"2019-09-12","2019-09-12",null,null,null,null,null,2476]
[2477,"2019-09-13","2019-09-13",null,null,null,null,null,2477]
[2478,"2019-09-14","2019-09-14","X",null,null,null,"X",{"$f":"+A2487","v":2478}]
[2479,"2019-09-15","2019-09-15","X",null,null,null,"X",2479]
[2480,"2019-09-16","2019-09-16",null,null,null,null,null,2480]
[2481,"2019-09-17","2019-09-17",null,null,null,null,null,2481]
[{"$f":"+A2490+1","v":2482},"2019-09-18","2019-09-18",null,null,null,null,null,2482]
[2483,"2019-09-19","2019-09-19",null,null,null,null,null,2483]
[2484,"2019-09-20","2019-09-20",null,null,null,null,null,2484]
[2485,"2019-09-21","2019-09-21","X",null,null,null,"X",{"$f":"+A2494","v":2485}]
[2486,"2019-09-22","2019-09-22","X",null,null,null,"X",2486]
[2487,"2019-09-23","2019-09-23",null,null,null,null,null,2487]
[2488,"2019-09-24","2019-09-24",null,null,null,null,null,2488]
[2489,"2019-09-25","2019-09-25",null,null,null,null,null,2489]
[2490,"2019-09-26","2019-09-26",null,null,null,null,null,2490]
[2491,"2019-09-27","2019-09-27",null,null,null,null,null,2491]
[2492,"2019-09-28","2019-09-28","X",null,null,null,"X",{"$f":"+A2501","v":2492}]
[2493,"2019-09-29","2019-09-29","X",null,null,null,"X",2493]
[2494,"2019-09-30","2019-09-30",null,null,null,null,null,2494]
[2495,"2019-10-01","2019-10-01",null,null,null,null,null,2495]
[2496,"2019-10-02","2019-10-02",null,null,null,null,null,2496]
[2497,"2019-10-03","2019-10-03",null,null,null,null,null,{"$f":"+IF(H2506<>\"X\",A2506,0)","v":2497}]
[{"$f":"+A2506+1","v":2498},"2019-10-04","2019-10-04",null,null,null,null,null,2498]
[2499,"2019-10-05","2019-10-05","X",null,null,null,"X",{"$f":"+A2508","v":2499}]
[2500,"2019-10-06","2019-10-06","X",null,null,null,"X",2500]
[2501,"2019-10-07","2019-10-07",null,null,null,null,null,2501]
[2502,"2019-10-08","2019-10-08",null,"X",null,null,"X",{"$f":"+A2511","v":2502}]
[2503,"2019-10-09","2019-10-09",null,null,null,null,null,2503]
[2504,"2019-10-10","2019-10-10",null,null,null,null,null,2504]
[2505,"2019-10-11","2019-10-11",null,null,null,null,null,2505]
[2506,"2019-10-12","2019-10-12","X",null,null,null,"X",{"$f":"+A2515","v":2506}]
[2507,"2019-10-13","2019-10-13","X",null,null,null,"X",2507]
[2508,"2019-10-14","2019-10-14",null,null,null,null,null,2508]
[2509,"2019-10-15","2019-10-15",null,null,null,null,null,2509]
[2510,"2019-10-16","2019-10-16",null,null,null,null,null,2510]
[2511,"2019-10-17","2019-10-17",null,null,null,null,null,2511]
[2512,"2019-10-18","2019-10-18",null,null,null,null,null,2512]
[2513,"2019-10-19","2019-10-19","X",null,null,null,"X",{"$f":"+A2522","v":2513}]
[{"$f":"+A2522+1","v":2514},"2019-10-20","2019-10-20","X",null,null,null,"X",2514]
[2515,"2019-10-21","2019-10-21",null,null,null,null,null,2515]
[2516,"2019-10-22","2019-10-22",null,null,null,null,null,2516]
[2517,"2019-10-23","2019-10-23",null,null,null,null,null,2517]
[2518,"2019-10-24","2019-10-24",null,null,null,null,null,2518]
[2519,"2019-10-25","2019-10-25",null,null,null,null,null,2519]
[2520,"2019-10-26","2019-10-26","X",null,null,null,"X",{"$f":"+A2529","v":2520}]
[2521,"2019-10-27","2019-10-27","X",null,null,null,"X",2521]
[2522,"2019-10-28","2019-10-28",null,null,null,null,null,2522]
[2523,"2019-10-29","2019-10-29",null,null,null,null,null,2523]
[2524,"2019-10-30","2019-10-30",null,null,null,null,null,2524]
[2525,"2019-10-31","2019-10-31",null,null,null,null,null,2525]
[2526,"2019-11-01","2019-11-01",null,"X",null,null,"X",{"$f":"+A2535","v":2526}]
[2527,"2019-11-02","2019-11-02","X",null,null,null,"X",2527]
[2528,"2019-11-03","2019-11-03","X",null,null,null,"X",2528]
[2529,"2019-11-04","2019-11-04",null,null,null,null,null,2529]
[{"$f":"+A2538+1","v":2530},"2019-11-05","2019-11-05",null,null,null,null,null,2530]
[2531,"2019-11-06","2019-11-06",null,null,null,null,null,2531]
[2532,"2019-11-07","2019-11-07",null,null,null,null,null,2532]
[2533,"2019-11-08","2019-11-08",null,null,null,null,null,2533]
[2534,"2019-11-09","2019-11-09","X",null,null,null,"X",{"$f":"+A2543","v":2534}]
[2535,"2019-11-10","2019-11-10","X",null,null,null,"X",2535]
[2536,"2019-11-11","2019-11-11",null,null,null,null,null,2536]
[2537,"2019-11-12","2019-11-12",null,null,null,null,null,2537]
[2538,"2019-11-13","2019-11-13",null,null,null,null,null,2538]
[2539,"2019-11-14","2019-11-14",null,null,null,null,null,2539]
[2540,"2019-11-15","2019-11-15",null,null,null,null,null,2540]
[2541,"2019-11-16","2019-11-16","X",null,null,null,"X",{"$f":"+A2550","v":2541}]
[2542,"2019-11-17","2019-11-17","X",null,null,null,"X",2542]
[2543,"2019-11-18","2019-11-18",null,null,null,null,null,2543]
[2544,"2019-11-19","2019-11-19",null,null,null,null,null,2544]
[2545,"2019-11-20","2019-11-20",null,null,null,null,null,2545]
[{"$f":"+A2554+1","v":2546},"2019-11-21","2019-11-21",null,null,null,null,null,2546]
[2547,"2019-11-22","2019-11-22",null,null,null,null,null,2547]
[2548,"2019-11-23","2019-11-23","X",null,null,null,"X",{"$f":"+A2557","v":2548}]
[2549,"2019-11-24","2019-11-24","X",null,null,null,"X",2549]
[2550,"2019-11-25","2019-11-25",null,null,null,null,null,2550]
[2551,"2019-11-26","2019-11-26",null,null,null,null,null,2551]
[2552,"2019-11-27","2019-11-27",null,null,null,null,null,2552]
[2553,"2019-11-28","2019-11-28",null,null,null,null,null,2553]
[2554,"2019-11-29","2019-11-29",null,null,null,null,null,2554]
[2555,"2019-11-30","2019-11-30","X",null,null,null,"X",{"$f":"+A2564","v":2555}]
[2556,"2019-12-01","2019-12-01","X",null,null,null,"X",2556]
[2557,"2019-12-02","2019-12-02",null,null,null,null,null,2557]
[2558,"2019-12-03","2019-12-03",null,null,null,null,null,2558]
[2559,"2019-12-04","2019-12-04",null,null,null,null,null,2559]
[2560,"2019-12-05","2019-12-05",null,null,null,null,null,2560]
[2561,"2019-12-06","2019-12-06",null,null,null,null,null,{"$f":"+IF(H2570<>\"X\",A2570,0)","v":2561}]
[{"$f":"+A2570+1","v":2562},"2019-12-07","2019-12-07","X",null,null,null,"X",{"$f":"+A2571","v":2562}]
[2563,"2019-12-08","2019-12-08","X","X",null,null,"X",2563]
[2564,"2019-12-09","2019-12-09",null,null,null,null,null,2564]
[2565,"2019-12-10","2019-12-10",null,null,null,null,null,2565]
[2566,"2019-12-11","2019-12-11",null,null,null,null,null,2566]
[2567,"2019-12-12","2019-12-12",null,null,null,null,null,2567]
[2568,"2019-12-13","2019-12-13",null,null,null,null,null,2568]
[2569,"2019-12-14","2019-12-14","X",null,null,null,"X",{"$f":"+A2578","v":2569}]
[2570,"2019-12-15","2019-12-15","X",null,null,null,"X",2570]
[2571,"2019-12-16","2019-12-16",null,null,null,null,null,2571]
[2572,"2019-12-17","2019-12-17",null,null,null,null,null,2572]
[2573,"2019-12-18","2019-12-18",null,null,null,null,null,2573]
[2574,"2019-12-19","2019-12-19",null,null,null,null,null,2574]
[2575,"2019-12-20","2019-12-20",null,null,null,null,null,2575]
[2576,"2019-12-21","2019-12-21","X",null,null,null,"X",{"$f":"+A2585","v":2576}]
[2577,"2019-12-22","2019-12-22","X",null,null,null,"X",2577]
[{"$f":"+A2586+1","v":2578},"2019-12-23","2019-12-23",null,null,null,null,null,2578]
[2579,"2019-12-24","2019-12-24",null,null,null,null,null,2579]
[2580,"2019-12-25","2019-12-25",null,"X",null,null,"X",{"$f":"+A2589","v":2580}]
[2581,"2019-12-26","2019-12-26",null,null,null,null,null,2581]
[2582,"2019-12-27","2019-12-27",null,null,null,null,null,2582]
[2583,"2019-12-28","2019-12-28","X",null,null,null,"X",{"$f":"+A2592","v":2583}]
[2584,"2019-12-29","2019-12-29","X",null,null,null,"X",2584]
[2585,"2019-12-30","2019-12-30",null,null,null,null,null,2585]
[2586,"2019-12-31","2019-12-31",null,null,null,null,"X",0]
[2587,"2020-01-01","2020-01-01",null,"X",null,null,"X",{"$f":"+A2596","v":2587}]
[2588,"2020-01-02","2020-01-02",null,null,null,null,null,2588]
[2589,"2020-01-03","2020-01-03",null,null,null,null,null,2589]
[2590,"2020-01-04","2020-01-04","X",null,null,null,"X",{"$f":"+A2599","v":2590}]
[2591,"2020-01-05","2020-01-05","X",null,null,null,"X",2591]
[2592,"2020-01-06","2020-01-06",null,null,null,null,null,2592]
[2593,"2020-01-07","2020-01-07",null,null,null,null,null,2593]
[{"$f":"+A2602+1","v":2594},"2020-01-08","2020-01-08",null,null,null,null,null,2594]
[2595,"2020-01-09","2020-01-09",null,null,null,null,null,2595]
[2596,"2020-01-10","2020-01-10",null,null,null,null,null,2596]
[2597,"2020-01-11","2020-01-11","X",null,null,null,"X",{"$f":"+A2606","v":2597}]
[2598,"2020-01-12","2020-01-12","X",null,null,null,"X",2598]
[2599,"2020-01-13","2020-01-13",null,null,null,null,null,2599]
[2600,"2020-01-14","2020-01-14",null,null,null,null,null,2600]
[2601,"2020-01-15","2020-01-15",null,null,null,null,null,2601]
[2602,"2020-01-16","2020-01-16",null,null,null,null,null,2602]
[2603,"2020-01-17","2020-01-17",null,null,null,null,null,2603]
[2604,"2020-01-18","2020-01-18","X",null,null,null,"X",{"$f":"+A2613","v":2604}]
[2605,"2020-01-19","2020-01-19","X",null,null,null,"X",2605]
[2606,"2020-01-20","2020-01-20",null,null,null,null,null,2606]
[2607,"2020-01-21","2020-01-21",null,null,null,null,null,2607]
[2608,"2020-01-22","2020-01-22",null,null,null,null,null,2608]
[2609,"2020-01-23","2020-01-23",null,null,null,null,null,2609]
[{"$f":"+A2618+1","v":2610},"2020-01-24","2020-01-24",null,null,null,null,null,2610]
[2611,"2020-01-25","2020-01-25","X",null,null,null,"X",{"$f":"+A2620","v":2611}]
[2612,"2020-01-26","2020-01-26","X",null,null,null,"X",2612]
[2613,"2020-01-27","2020-01-27",null,null,null,null,null,2613]
[2614,"2020-01-28","2020-01-28",null,null,null,null,null,2614]
[2615,"2020-01-29","2020-01-29",null,null,null,null,null,2615]
[2616,"2020-01-30","2020-01-30",null,null,null,null,null,2616]
[2617,"2020-01-31","2020-01-31",null,null,null,null,null,2617]
[2618,"2020-02-01","2020-02-01","X",null,null,null,"X",{"$f":"+A2627","v":2618}]
[2619,"2020-02-02","2020-02-02","X",null,null,null,"X",2619]
[2620,"2020-02-03","2020-02-03",null,null,null,null,null,2620]
[2621,"2020-02-04","2020-02-04",null,null,null,null,null,2621]
[2622,"2020-02-05","2020-02-05",null,null,null,null,null,2622]
[2623,"2020-02-06","2020-02-06",null,null,null,null,null,2623]
[2624,"2020-02-07","2020-02-07",null,null,null,null,null,2624]
[2625,"2020-02-08","2020-02-08","X",null,null,null,"X",{"$f":"+A2634","v":2625}]
[{"$f":"+A2634+1","v":2626},"2020-02-09","2020-02-09","X",null,null,null,"X",2626]
[2627,"2020-02-10","2020-02-10",null,null,null,null,null,{"$f":"+IF(H2636<>\"X\",A2636,0)","v":2627}]
[2628,"2020-02-11","2020-02-11",null,null,null,null,null,2628]
[2629,"2020-02-12","2020-02-12",null,null,null,null,null,2629]
[2630,"2020-02-13","2020-02-13",null,null,null,null,null,2630]
[2631,"2020-02-14","2020-02-14",null,null,null,null,null,2631]
[2632,"2020-02-15","2020-02-15","X",null,null,null,"X",{"$f":"+A2641","v":2632}]
[2633,"2020-02-16","2020-02-16","X",null,null,null,"X",2633]
[2634,"2020-02-17","2020-02-17",null,null,null,null,null,2634]
[2635,"2020-02-18","2020-02-18",null,null,null,null,null,2635]
[2636,"2020-02-19","2020-02-19",null,null,null,null,null,2636]
[2637,"2020-02-20","2020-02-20",null,null,null,null,null,2637]
[2638,"2020-02-21","2020-02-21",null,null,null,null,null,2638]
[2639,"2020-02-22","2020-02-22","X",null,null,null,"X",{"$f":"+A2648","v":2639}]
[2640,"2020-02-23","2020-02-23","X",null,null,null,"X",2640]
[2641,"2020-02-24","2020-02-24",null,null,null,null,null,2641]
[{"$f":"+A2650+1","v":2642},"2020-02-25","2020-02-25",null,null,null,null,null,2642]
[2643,"2020-02-26","2020-02-26",null,null,null,null,null,2643]
[2644,"2020-02-27","2020-02-27",null,null,null,null,null,2644]
[2645,"2020-02-28","2020-02-28",null,null,null,null,null,2645]
[2646,"2020-02-29","2020-02-29","X",null,null,null,"X",{"$f":"+A2655","v":2646}]
[2647,"2020-03-01","2020-03-01","X",null,null,null,"X",2647]
[2648,"2020-03-02","2020-03-02",null,null,null,null,null,2648]
[2649,"2020-03-03","2020-03-03",null,null,null,null,null,2649]
[2650,"2020-03-04","2020-03-04",null,null,null,null,null,2650]
[2651,"2020-03-05","2020-03-05",null,null,null,null,null,2651]
[2652,"2020-03-06","2020-03-06",null,null,null,null,null,2652]
[2653,"2020-03-07","2020-03-07","X",null,null,null,"X",{"$f":"+A2662","v":2653}]
[2654,"2020-03-08","2020-03-08","X",null,null,null,"X",2654]
[2655,"2020-03-09","2020-03-09",null,null,null,null,null,2655]
[2656,"2020-03-10","2020-03-10",null,null,null,null,null,2656]
[2657,"2020-03-11","2020-03-11",null,null,null,null,null,2657]
[{"$f":"+A2666+1","v":2658},"2020-03-12","2020-03-12",null,null,null,null,null,2658]
[2659,"2020-03-13","2020-03-13",null,null,null,null,null,2659]
[2660,"2020-03-14","2020-03-14","X",null,null,null,"X",{"$f":"+A2669","v":2660}]
[2661,"2020-03-15","2020-03-15","X",null,null,null,"X",2661]
[2662,"2020-03-16","2020-03-16",null,null,null,null,null,2662]
[2663,"2020-03-17","2020-03-17",null,null,null,null,null,2663]
[2664,"2020-03-18","2020-03-18",null,null,null,null,null,2664]
[2665,"2020-03-19","2020-03-19",null,null,null,null,null,2665]
[2666,"2020-03-20","2020-03-20",null,null,null,null,null,2666]
[2667,"2020-03-21","2020-03-21","X",null,null,null,"X",{"$f":"+A2676","v":2667}]
[2668,"2020-03-22","2020-03-22","X",null,null,null,"X",2668]
[2669,"2020-03-23","2020-03-23",null,null,null,null,null,2669]
[2670,"2020-03-24","2020-03-24",null,null,null,null,null,2670]
[2671,"2020-03-25","2020-03-25",null,null,null,null,null,2671]
[2672,"2020-03-26","2020-03-26",null,null,null,null,null,2672]
[2673,"2020-03-27","2020-03-27",null,null,null,null,null,2673]
[{"$f":"+A2682+1","v":2674},"2020-03-28","2020-03-28","X",null,null,null,"X",{"$f":"+A2683","v":2674}]
[2675,"2020-03-29","2020-03-29","X",null,null,null,"X",2675]
[2676,"2020-03-30","2020-03-30",null,null,null,null,null,2676]
[2677,"2020-03-31","2020-03-31",null,null,null,null,null,2677]
[2678,"2020-04-01","2020-04-01",null,null,null,null,null,2678]
[2679,"2020-04-02","2020-04-02",null,null,null,null,null,2679]
[2680,"2020-04-03","2020-04-03",null,null,null,null,null,2680]
[2681,"2020-04-04","2020-04-04","X",null,null,null,"X",{"$f":"+A2690","v":2681}]
[2682,"2020-04-05","2020-04-05","X",null,null,null,"X",2682]
[2683,"2020-04-06","2020-04-06",null,null,null,null,null,2683]
[2684,"2020-04-07","2020-04-07",null,null,null,null,null,2684]
[2685,"2020-04-08","2020-04-08",null,null,null,null,null,2685]
[2686,"2020-04-09","2020-04-09",null,null,"X",null,"X",{"$f":"+A2695","v":2686}]
[2687,"2020-04-10","2020-04-10",null,null,"X",null,"X",2687]
[2688,"2020-04-11","2020-04-11","X",null,null,null,"X",2688]
[2689,"2020-04-12","2020-04-12","X",null,null,null,"X",2689]
[{"$f":"+A2698+1","v":2690},"2020-04-13","2020-04-13",null,null,null,null,null,{"$f":"+IF(H2699<>\"X\",A2699,0)","v":2690}]
[2691,"2020-04-14","2020-04-14",null,null,null,null,null,2691]
[2692,"2020-04-15","2020-04-15",null,null,null,null,null,2692]
[2693,"2020-04-16","2020-04-16",null,null,null,null,null,2693]
[2694,"2020-04-17","2020-04-17",null,null,null,null,null,2694]
[2695,"2020-04-18","2020-04-18","X",null,null,null,"X",{"$f":"+A2704","v":2695}]
[2696,"2020-04-19","2020-04-19","X",null,null,null,"X",2696]
[2697,"2020-04-20","2020-04-20",null,null,null,null,null,2697]
[2698,"2020-04-21","2020-04-21",null,null,null,null,null,2698]
[2699,"2020-04-22","2020-04-22",null,null,null,null,null,2699]
[2700,"2020-04-23","2020-04-23",null,null,null,null,null,2700]
[2701,"2020-04-24","2020-04-24",null,null,null,null,null,2701]
[2702,"2020-04-25","2020-04-25","X",null,null,null,"X",{"$f":"+A2711","v":2702}]
[2703,"2020-04-26","2020-04-26","X",null,null,null,"X",2703]
[2704,"2020-04-27","2020-04-27",null,null,null,null,null,2704]
[2705,"2020-04-28","2020-04-28",null,null,null,null,null,2705]
[{"$f":"+A2714+1","v":2706},"2020-04-29","2020-04-29",null,null,null,null,null,2706]
[2707,"2020-04-30","2020-04-30",null,null,null,null,null,2707]
[2708,"2020-05-01","2020-05-01",null,"X",null,null,"X",{"$f":"+A2717","v":2708}]
[2709,"2020-05-02","2020-05-02","X",null,null,null,"X",2709]
[2710,"2020-05-03","2020-05-03","X",null,null,null,"X",2710]
[2711,"2020-05-04","2020-05-04",null,null,null,null,null,2711]
[2712,"2020-05-05","2020-05-05",null,null,null,null,null,2712]
[2713,"2020-05-06","2020-05-06",null,null,null,null,null,2713]
[2714,"2020-05-07","2020-05-07",null,null,null,null,null,2714]
[2715,"2020-05-08","2020-05-08",null,null,null,null,null,2715]
[2716,"2020-05-09","2020-05-09","X",null,null,null,"X",{"$f":"+A2725","v":2716}]
[2717,"2020-05-10","2020-05-10","X",null,null,null,"X",2717]
[2718,"2020-05-11","2020-05-11",null,null,null,null,null,2718]
[2719,"2020-05-12","2020-05-12",null,null,null,null,null,2719]
[2720,"2020-05-13","2020-05-13",null,null,null,null,null,2720]
[2721,"2020-05-14","2020-05-14",null,null,null,null,null,2721]
[{"$f":"+A2730+1","v":2722},"2020-05-15","2020-05-15",null,null,null,null,null,2722]
[2723,"2020-05-16","2020-05-16","X",null,null,null,"X",{"$f":"+A2732","v":2723}]
[2724,"2020-05-17","2020-05-17","X",null,null,null,"X",2724]
[2725,"2020-05-18","2020-05-18",null,null,null,null,null,2725]
[2726,"2020-05-19","2020-05-19",null,null,null,null,null,2726]
[2727,"2020-05-20","2020-05-20",null,null,null,null,null,2727]
[2728,"2020-05-21","2020-05-21",null,null,null,null,null,2728]
[2729,"2020-05-22","2020-05-22",null,null,null,null,null,2729]
[2730,"2020-05-23","2020-05-23","X",null,null,null,"X",{"$f":"+A2739","v":2730}]
[2731,"2020-05-24","2020-05-24","X",null,null,null,"X",2731]
[2732,"2020-05-25","2020-05-25",null,null,null,null,null,2732]
[2733,"2020-05-26","2020-05-26",null,null,null,null,null,2733]
[2734,"2020-05-27","2020-05-27",null,null,null,null,null,2734]
[2735,"2020-05-28","2020-05-28",null,null,null,null,null,2735]
[2736,"2020-05-29","2020-05-29",null,null,null,null,null,2736]
[2737,"2020-05-30","2020-05-30","X",null,null,null,"X",{"$f":"+A2746","v":2737}]
[{"$f":"+A2746+1","v":2738},"2020-05-31","2020-05-31","X",null,null,null,"X",2738]
[2739,"2020-06-01","2020-06-01",null,null,null,null,null,2739]
[2740,"2020-06-02","2020-06-02",null,null,null,null,null,2740]
[2741,"2020-06-03","2020-06-03",null,null,null,null,null,2741]
[2742,"2020-06-04","2020-06-04",null,null,null,null,null,2742]
[2743,"2020-06-05","2020-06-05",null,null,null,null,null,2743]
[2744,"2020-06-06","2020-06-06","X",null,null,null,"X",{"$f":"+A2753","v":2744}]
[2745,"2020-06-07","2020-06-07","X",null,null,null,"X",2745]
[2746,"2020-06-08","2020-06-08",null,null,null,null,null,2746]
[2747,"2020-06-09","2020-06-09",null,null,null,null,null,2747]
[2748,"2020-06-10","2020-06-10",null,null,null,null,null,2748]
[2749,"2020-06-11","2020-06-11",null,null,null,null,null,2749]
[2750,"2020-06-12","2020-06-12",null,null,null,null,null,2750]
[2751,"2020-06-13","2020-06-13","X",null,null,null,"X",{"$f":"+A2760","v":2751}]
[2752,"2020-06-14","2020-06-14","X",null,null,null,"X",2752]
[2753,"2020-06-15","2020-06-15",null,null,null,null,null,{"$f":"+IF(H2762<>\"X\",A2762,0)","v":2753}]
[{"$f":"+A2762+1","v":2754},"2020-06-16","2020-06-16",null,null,null,null,null,2754]
[2755,"2020-06-17","2020-06-17",null,null,null,null,null,2755]
[2756,"2020-06-18","2020-06-18",null,null,null,null,null,2756]
[2757,"2020-06-19","2020-06-19",null,null,null,null,null,2757]
[2758,"2020-06-20","2020-06-20","X",null,null,null,"X",{"$f":"+A2767","v":2758}]
[2759,"2020-06-21","2020-06-21","X",null,null,null,"X",2759]
[2760,"2020-06-22","2020-06-22",null,null,null,null,null,2760]
[2761,"2020-06-23","2020-06-23",null,null,null,null,null,2761]
[2762,"2020-06-24","2020-06-24",null,null,null,null,null,2762]
[2763,"2020-06-25","2020-06-25",null,null,null,null,null,2763]
[2764,"2020-06-26","2020-06-26",null,null,null,null,null,2764]
[2765,"2020-06-27","2020-06-27","X",null,null,null,"X",{"$f":"+A2774","v":2765}]
[2766,"2020-06-28","2020-06-28","X",null,null,null,"X",2766]
[2767,"2020-06-29","2020-06-29",null,"X",null,null,"X",2767]
[2768,"2020-06-30","2020-06-30",null,null,null,null,null,2768]
[2769,"2020-07-01","2020-07-01",null,null,null,null,null,2769]
[{"$f":"+A2778+1","v":2770},"2020-07-02","2020-07-02",null,null,null,null,null,2770]
[2771,"2020-07-03","2020-07-03",null,null,null,null,null,2771]
[2772,"2020-07-04","2020-07-04","X",null,null,null,"X",{"$f":"+A2781","v":2772}]
[2773,"2020-07-05","2020-07-05","X",null,null,null,"X",2773]
[2774,"2020-07-06","2020-07-06",null,null,null,null,null,2774]
[2775,"2020-07-07","2020-07-07",null,null,null,null,null,2775]
[2776,"2020-07-08","2020-07-08",null,null,null,null,null,2776]
[2777,"2020-07-09","2020-07-09",null,null,null,null,null,2777]
[2778,"2020-07-10","2020-07-10",null,null,null,null,null,2778]
[2779,"2020-07-11","2020-07-11","X",null,null,null,"X",{"$f":"+A2788","v":2779}]
[2780,"2020-07-12","2020-07-12","X",null,null,null,"X",2780]
[2781,"2020-07-13","2020-07-13",null,null,null,null,null,2781]
[2782,"2020-07-14","2020-07-14",null,null,null,null,null,2782]
[2783,"2020-07-15","2020-07-15",null,null,null,null,null,2783]
[2784,"2020-07-16","2020-07-16",null,null,null,null,null,2784]
[2785,"2020-07-17","2020-07-17",null,null,null,null,null,2785]
[{"$f":"+A2794+1","v":2786},"2020-07-18","2020-07-18","X",null,null,null,"X",{"$f":"+A2795","v":2786}]
[2787,"2020-07-19","2020-07-19","X",null,null,null,"X",2787]
[2788,"2020-07-20","2020-07-20",null,null,null,null,null,2788]
[2789,"2020-07-21","2020-07-21",null,null,null,null,null,2789]
[2790,"2020-07-22","2020-07-22",null,null,null,null,null,2790]
[2791,"2020-07-23","2020-07-23",null,null,null,null,null,2791]
[2792,"2020-07-24","2020-07-24",null,null,null,null,null,2792]
[2793,"2020-07-25","2020-07-25","X",null,null,null,"X",{"$f":"+A2802","v":2793}]
[2794,"2020-07-26","2020-07-26","X",null,null,null,"X",2794]
[2795,"2020-07-27","2020-07-27",null,null,null,null,null,2795]
[2796,"2020-07-28","2020-07-28",null,"X",null,null,"X",{"$f":"+A2805","v":2796}]
[2797,"2020-07-29","2020-07-29",null,"X",null,null,"X",2797]
[2798,"2020-07-30","2020-07-30",null,null,null,null,null,2798]
[2799,"2020-07-31","2020-07-31",null,null,null,null,null,2799]
[2800,"2020-08-01","2020-08-01","X",null,null,null,"X",{"$f":"+A2809","v":2800}]
[2801,"2020-08-02","2020-08-02","X",null,null,null,"X",2801]
[{"$f":"+A2810+1","v":2802},"2020-08-03","2020-08-03",null,null,null,null,null,2802]
[2803,"2020-08-04","2020-08-04",null,null,null,null,null,2803]
[2804,"2020-08-05","2020-08-05",null,null,null,null,null,2804]
[2805,"2020-08-06","2020-08-06",null,null,null,null,null,2805]
[2806,"2020-08-07","2020-08-07",null,null,null,null,null,2806]
[2807,"2020-08-08","2020-08-08","X",null,null,null,"X",{"$f":"+A2816","v":2807}]
[2808,"2020-08-09","2020-08-09","X",null,null,null,"X",2808]
[2809,"2020-08-10","2020-08-10",null,null,null,null,null,2809]
[2810,"2020-08-11","2020-08-11",null,null,null,null,null,2810]
[2811,"2020-08-12","2020-08-12",null,null,null,null,null,2811]
[2812,"2020-08-13","2020-08-13",null,null,null,null,null,2812]
[2813,"2020-08-14","2020-08-14",null,null,null,null,null,2813]
[2814,"2020-08-15","2020-08-15","X",null,null,null,"X",{"$f":"+A2823","v":2814}]
[2815,"2020-08-16","2020-08-16","X",null,null,null,"X",2815]
[2816,"2020-08-17","2020-08-17",null,null,null,null,null,2816]
[2817,"2020-08-18","2020-08-18",null,null,null,null,null,{"$f":"+IF(H2826<>\"X\",A2826,0)","v":2817}]
[{"$f":"+A2826+1","v":2818},"2020-08-19","2020-08-19",null,null,null,null,null,2818]
[2819,"2020-08-20","2020-08-20",null,null,null,null,null,2819]
[2820,"2020-08-21","2020-08-21",null,null,null,null,null,2820]
[2821,"2020-08-22","2020-08-22","X",null,null,null,"X",{"$f":"+A2830","v":2821}]
[2822,"2020-08-23","2020-08-23","X",null,null,null,"X",2822]
[2823,"2020-08-24","2020-08-24",null,null,null,null,null,2823]
[2824,"2020-08-25","2020-08-25",null,null,null,null,null,2824]
[2825,"2020-08-26","2020-08-26",null,null,null,null,null,2825]
[2826,"2020-08-27","2020-08-27",null,null,null,null,null,2826]
[2827,"2020-08-28","2020-08-28",null,null,null,null,null,2827]
[2828,"2020-08-29","2020-08-29","X",null,null,null,"X",{"$f":"+A2837","v":2828}]
[2829,"2020-08-30","2020-08-30","X",null,null,null,"X",2829]
[2830,"2020-08-31","2020-08-31",null,null,null,null,null,2830]
[2831,"2020-09-01","2020-09-01",null,null,null,null,null,2831]
[2832,"2020-09-02","2020-09-02",null,null,null,null,null,2832]
[2833,"2020-09-03","2020-09-03",null,null,null,null,null,2833]
[{"$f":"+A2842+1","v":2834},"2020-09-04","2020-09-04",null,null,null,null,null,2834]
[2835,"2020-09-05","2020-09-05","X",null,null,null,"X",{"$f":"+A2844","v":2835}]
[2836,"2020-09-06","2020-09-06","X",null,null,null,"X",2836]
[2837,"2020-09-07","2020-09-07",null,null,null,null,null,2837]
[2838,"2020-09-08","2020-09-08",null,null,null,null,null,2838]
[2839,"2020-09-09","2020-09-09",null,null,null,null,null,2839]
[2840,"2020-09-10","2020-09-10",null,null,null,null,null,2840]
[2841,"2020-09-11","2020-09-11",null,null,null,null,null,2841]
[2842,"2020-09-12","2020-09-12","X",null,null,null,"X",{"$f":"+A2851","v":2842}]
[2843,"2020-09-13","2020-09-13","X",null,null,null,"X",2843]
[2844,"2020-09-14","2020-09-14",null,null,null,null,null,2844]
[2845,"2020-09-15","2020-09-15",null,null,null,null,null,2845]
[2846,"2020-09-16","2020-09-16",null,null,null,null,null,2846]
[2847,"2020-09-17","2020-09-17",null,null,null,null,null,2847]
[2848,"2020-09-18","2020-09-18",null,null,null,null,null,2848]
[2849,"2020-09-19","2020-09-19","X",null,null,null,"X",{"$f":"+A2858","v":2849}]
[{"$f":"+A2858+1","v":2850},"2020-09-20","2020-09-20","X",null,null,null,"X",2850]
[2851,"2020-09-21","2020-09-21",null,null,null,null,null,2851]
[2852,"2020-09-22","2020-09-22",null,null,null,null,null,2852]
[2853,"2020-09-23","2020-09-23",null,null,null,null,null,2853]
[2854,"2020-09-24","2020-09-24",null,null,null,null,null,2854]
[2855,"2020-09-25","2020-09-25",null,null,null,null,null,2855]
[2856,"2020-09-26","2020-09-26","X",null,null,null,"X",{"$f":"+A2865","v":2856}]
[2857,"2020-09-27","2020-09-27","X",null,null,null,"X",2857]
[2858,"2020-09-28","2020-09-28",null,null,null,null,null,2858]
[2859,"2020-09-29","2020-09-29",null,null,null,null,null,2859]
[2860,"2020-09-30","2020-09-30",null,null,null,null,null,2860]
[2861,"2020-10-01","2020-10-01",null,null,null,null,null,2861]
[2862,"2020-10-02","2020-10-02",null,null,null,null,null,2862]
[2863,"2020-10-03","2020-10-03","X",null,null,null,"X",{"$f":"+A2872","v":2863}]
[2864,"2020-10-04","2020-10-04","X",null,null,null,"X",2864]
[2865,"2020-10-05","2020-10-05",null,null,null,null,null,2865]
[{"$f":"+A2874+1","v":2866},"2020-10-06","2020-10-06",null,null,null,null,null,2866]
[2867,"2020-10-07","2020-10-07",null,null,null,null,null,2867]
[2868,"2020-10-08","2020-10-08",null,"X",null,null,"X",{"$f":"+A2877","v":2868}]
[2869,"2020-10-09","2020-10-09",null,null,null,null,null,2869]
[2870,"2020-10-10","2020-10-10","X",null,null,null,"X",{"$f":"+A2879","v":2870}]
[2871,"2020-10-11","2020-10-11","X",null,null,null,"X",2871]
[2872,"2020-10-12","2020-10-12",null,null,null,null,null,2872]
[2873,"2020-10-13","2020-10-13",null,null,null,null,null,2873]
[2874,"2020-10-14","2020-10-14",null,null,null,null,null,2874]
[2875,"2020-10-15","2020-10-15",null,null,null,null,null,2875]
[2876,"2020-10-16","2020-10-16",null,null,null,null,null,2876]
[2877,"2020-10-17","2020-10-17","X",null,null,null,"X",{"$f":"+A2886","v":2877}]
[2878,"2020-10-18","2020-10-18","X",null,null,null,"X",2878]
[2879,"2020-10-19","2020-10-19",null,null,null,null,null,2879]
[2880,"2020-10-20","2020-10-20",null,null,null,null,null,2880]
[2881,"2020-10-21","2020-10-21",null,null,null,null,null,{"$f":"+IF(H2890<>\"X\",A2890,0)","v":2881}]
[{"$f":"+A2890+1","v":2882},"2020-10-22","2020-10-22",null,null,null,null,null,2882]
[2883,"2020-10-23","2020-10-23",null,null,null,null,null,2883]
[2884,"2020-10-24","2020-10-24","X",null,null,null,"X",{"$f":"+A2893","v":2884}]
[2885,"2020-10-25","2020-10-25","X",null,null,null,"X",2885]
[2886,"2020-10-26","2020-10-26",null,null,null,null,null,2886]
[2887,"2020-10-27","2020-10-27",null,null,null,null,null,2887]
[2888,"2020-10-28","2020-10-28",null,null,null,null,null,2888]
[2889,"2020-10-29","2020-10-29",null,null,null,null,null,2889]
[2890,"2020-10-30","2020-10-30",null,null,null,null,null,2890]
[2891,"2020-10-31","2020-10-31","X",null,null,null,"X",{"$f":"+A2900","v":2891}]
[2892,"2020-11-01","2020-11-01","X","X",null,null,"X",2892]
[2893,"2020-11-02","2020-11-02",null,null,null,null,null,2893]
[2894,"2020-11-03","2020-11-03",null,null,null,null,null,2894]
[2895,"2020-11-04","2020-11-04",null,null,null,null,null,2895]
[2896,"2020-11-05","2020-11-05",null,null,null,null,null,2896]
[2897,"2020-11-06","2020-11-06",null,null,null,null,null,2897]
[{"$f":"+A2906+1","v":2898},"2020-11-07","2020-11-07","X",null,null,null,"X",{"$f":"+A2907","v":2898}]
[2899,"2020-11-08","2020-11-08","X",null,null,null,"X",2899]
[2900,"2020-11-09","2020-11-09",null,null,null,null,null,2900]
[2901,"2020-11-10","2020-11-10",null,null,null,null,null,2901]
[2902,"2020-11-11","2020-11-11",null,null,null,null,null,2902]
[2903,"2020-11-12","2020-11-12",null,null,null,null,null,2903]
[2904,"2020-11-13","2020-11-13",null,null,null,null,null,2904]
[2905,"2020-11-14","2020-11-14","X",null,null,null,"X",{"$f":"+A2914","v":2905}]
[2906,"2020-11-15","2020-11-15","X",null,null,null,"X",2906]
[2907,"2020-11-16","2020-11-16",null,null,null,null,null,2907]
[2908,"2020-11-17","2020-11-17",null,null,null,null,null,2908]
[2909,"2020-11-18","2020-11-18",null,null,null,null,null,2909]
[2910,"2020-11-19","2020-11-19",null,null,null,null,null,2910]
[2911,"2020-11-20","2020-11-20",null,null,null,null,null,2911]
[2912,"2020-11-21","2020-11-21","X",null,null,null,"X",{"$f":"+A2921","v":2912}]
[2913,"2020-11-22","2020-11-22","X",null,null,null,"X",2913]
[{"$f":"+A2922+1","v":2914},"2020-11-23","2020-11-23",null,null,null,null,null,2914]
[2915,"2020-11-24","2020-11-24",null,null,null,null,null,2915]
[2916,"2020-11-25","2020-11-25",null,null,null,null,null,2916]
[2917,"2020-11-26","2020-11-26",null,null,null,null,null,2917]
[2918,"2020-11-27","2020-11-27",null,null,null,null,null,2918]
[2919,"2020-11-28","2020-11-28","X",null,null,null,"X",{"$f":"+A2928","v":2919}]
[2920,"2020-11-29","2020-11-29","X",null,null,null,"X",2920]
[2921,"2020-11-30","2020-11-30",null,null,null,null,null,2921]
[2922,"2020-12-01","2020-12-01",null,null,null,null,null,2922]
[2923,"2020-12-02","2020-12-02",null,null,null,null,null,2923]
[2924,"2020-12-03","2020-12-03",null,null,null,null,null,2924]
[2925,"2020-12-04","2020-12-04",null,null,null,null,null,2925]
[2926,"2020-12-05","2020-12-05","X",null,null,null,"X",{"$f":"+A2935","v":2926}]
[2927,"2020-12-06","2020-12-06","X",null,null,null,"X",2927]
[2928,"2020-12-07","2020-12-07",null,null,null,null,null,2928]
[2929,"2020-12-08","2020-12-08",null,"X",null,null,"X",{"$f":"+A2938","v":2929}]
[{"$f":"+A2938+1","v":2930},"2020-12-09","2020-12-09",null,null,null,null,null,2930]
[2931,"2020-12-10","2020-12-10",null,null,null,null,null,2931]
[2932,"2020-12-11","2020-12-11",null,null,null,null,null,2932]
[2933,"2020-12-12","2020-12-12","X",null,null,null,"X",{"$f":"+A2942","v":2933}]
[2934,"2020-12-13","2020-12-13","X",null,null,null,"X",2934]
[2935,"2020-12-14","2020-12-14",null,null,null,null,null,2935]
[2936,"2020-12-15","2020-12-15",null,null,null,null,null,2936]
[2937,"2020-12-16","2020-12-16",null,null,null,null,null,2937]
[2938,"2020-12-17","2020-12-17",null,null,null,null,null,2938]
[2939,"2020-12-18","2020-12-18",null,null,null,null,null,2939]
[2940,"2020-12-19","2020-12-19","X",null,null,null,"X",{"$f":"+A2949","v":2940}]
[2941,"2020-12-20","2020-12-20","X",null,null,null,"X",2941]
[2942,"2020-12-21","2020-12-21",null,null,null,null,null,2942]
[2943,"2020-12-22","2020-12-22",null,null,null,null,null,2943]
[2944,"2020-12-23","2020-12-23",null,null,null,null,null,2944]
[2945,"2020-12-24","2020-12-24",null,null,null,null,null,{"$f":"+IF(H2954<>\"X\",A2954,0)","v":2945}]
[{"$f":"+A2954+1","v":2946},"2020-12-25","2020-12-25",null,"X",null,null,"X",{"$f":"+A2955","v":2946}]
[2947,"2020-12-26","2020-12-26","X",null,null,null,"X",2947]
[2948,"2020-12-27","2020-12-27","X",null,null,null,"X",2948]
[2949,"2020-12-28","2020-12-28",null,null,null,null,null,2949]
[2950,"2020-12-29","2020-12-29",null,null,null,null,null,2950]
[2951,"2020-12-30","2020-12-30",null,null,null,null,null,2951]
[2952,"2020-12-31","2020-12-31",null,null,null,null,"X",0]
[2953,"2021-01-01","2021-01-01",null,"X",null,null,"X",{"$f":"+A2962","v":2953}]
[2954,"2021-01-02","2021-01-02","X",null,null,null,"X",2954]
[2955,"2021-01-03","2021-01-03","X",null,null,null,"X",2955]
[2956,"2021-01-04","2021-01-04",null,null,null,null,null,2956]
[2957,"2021-01-05","2021-01-05",null,null,null,null,null,2957]
[2958,"2021-01-06","2021-01-06",null,null,null,null,null,2958]
[2959,"2021-01-07","2021-01-07",null,null,null,null,null,2959]
[2960,"2021-01-08","2021-01-08",null,null,null,null,null,2960]
[2961,"2021-01-09","2021-01-09","X",null,null,null,"X",{"$f":"+A2970","v":2961}]
[{"$f":"+A2970+1","v":2962},"2021-01-10","2021-01-10","X",null,null,null,"X",2962]
[2963,"2021-01-11","2021-01-11",null,null,null,null,null,2963]
[2964,"2021-01-12","2021-01-12",null,null,null,null,null,2964]
[2965,"2021-01-13","2021-01-13",null,null,null,null,null,2965]
[2966,"2021-01-14","2021-01-14",null,null,null,null,null,2966]
[2967,"2021-01-15","2021-01-15",null,null,null,null,null,2967]
[2968,"2021-01-16","2021-01-16","X",null,null,null,"X",{"$f":"+A2977","v":2968}]
[2969,"2021-01-17","2021-01-17","X",null,null,null,"X",2969]
[2970,"2021-01-18","2021-01-18",null,null,null,null,null,2970]
[2971,"2021-01-19","2021-01-19",null,null,null,null,null,2971]
[2972,"2021-01-20","2021-01-20",null,null,null,null,null,2972]
[2973,"2021-01-21","2021-01-21",null,null,null,null,null,2973]
[2974,"2021-01-22","2021-01-22",null,null,null,null,null,2974]
[2975,"2021-01-23","2021-01-23","X",null,null,null,"X",{"$f":"+A2984","v":2975}]
[2976,"2021-01-24","2021-01-24","X",null,null,null,"X",2976]
[2977,"2021-01-25","2021-01-25",null,null,null,null,null,2977]
[{"$f":"+A2986+1","v":2978},"2021-01-26","2021-01-26",null,null,null,null,null,2978]
[2979,"2021-01-27","2021-01-27",null,null,null,null,null,2979]
[2980,"2021-01-28","2021-01-28",null,null,null,null,null,2980]
[2981,"2021-01-29","2021-01-29",null,null,null,null,null,2981]
[2982,"2021-01-30","2021-01-30","X",null,null,null,"X",{"$f":"+A2991","v":2982}]
[2983,"2021-01-31","2021-01-31","X",null,null,null,"X",2983]
[2984,"2021-02-01","2021-02-01",null,null,null,null,null,2984]
[2985,"2021-02-02","2021-02-02",null,null,null,null,null,2985]
[2986,"2021-02-03","2021-02-03",null,null,null,null,null,2986]
[2987,"2021-02-04","2021-02-04",null,null,null,null,null,2987]
[2988,"2021-02-05","2021-02-05",null,null,null,null,null,2988]
[2989,"2021-02-06","2021-02-06","X",null,null,null,"X",{"$f":"+A2998","v":2989}]
[2990,"2021-02-07","2021-02-07","X",null,null,null,"X",2990]
[2991,"2021-02-08","2021-02-08",null,null,null,null,null,2991]
[2992,"2021-02-09","2021-02-09",null,null,null,null,null,2992]
[2993,"2021-02-10","2021-02-10",null,null,null,null,null,2993]
[{"$f":"+A3002+1","v":2994},"2021-02-11","2021-02-11",null,null,null,null,null,2994]
[2995,"2021-02-12","2021-02-12",null,null,null,null,null,2995]
[2996,"2021-02-13","2021-02-13","X",null,null,null,"X",{"$f":"+A3005","v":2996}]
[2997,"2021-02-14","2021-02-14","X",null,null,null,"X",2997]
[2998,"2021-02-15","2021-02-15",null,null,null,null,null,2998]
[2999,"2021-02-16","2021-02-16",null,null,null,null,null,2999]
[3000,"2021-02-17","2021-02-17",null,null,null,null,null,3000]
[3001,"2021-02-18","2021-02-18",null,null,null,null,null,3001]
[3002,"2021-02-19","2021-02-19",null,null,null,null,null,3002]
[3003,"2021-02-20","2021-02-20","X",null,null,null,"X",{"$f":"+A3012","v":3003}]
[3004,"2021-02-21","2021-02-21","X",null,null,null,"X",3004]
[3005,"2021-02-22","2021-02-22",null,null,null,null,null,3005]
[3006,"2021-02-23","2021-02-23",null,null,null,null,null,3006]
[3007,"2021-02-24","2021-02-24",null,null,null,null,null,3007]
[3008,"2021-02-25","2021-02-25",null,null,null,null,null,3008]
[3009,"2021-02-26","2021-02-26",null,null,null,null,null,{"$f":"+IF(H3018<>\"X\",A3018,0)","v":3009}]
[{"$f":"+A3018+1","v":3010},"2021-02-27","2021-02-27","X",null,null,null,"X",{"$f":"+A3019","v":3010}]
[3011,"2021-02-28","2021-02-28","X",null,null,null,"X",3011]
[3012,"2021-03-01","2021-03-01",null,null,null,null,null,3012]
[3013,"2021-03-02","2021-03-02",null,null,null,null,null,3013]
[3014,"2021-03-03","2021-03-03",null,null,null,null,null,3014]
[3015,"2021-03-04","2021-03-04",null,null,null,null,null,3015]
[3016,"2021-03-05","2021-03-05",null,null,null,null,null,3016]
[3017,"2021-03-06","2021-03-06","X",null,null,null,"X",{"$f":"+A3026","v":3017}]
[3018,"2021-03-07","2021-03-07","X",null,null,null,"X",3018]
[3019,"2021-03-08","2021-03-08",null,null,null,null,null,3019]
[3020,"2021-03-09","2021-03-09",null,null,null,null,null,3020]
[3021,"2021-03-10","2021-03-10",null,null,null,null,null,3021]
[3022,"2021-03-11","2021-03-11",null,null,null,null,null,3022]
[3023,"2021-03-12","2021-03-12",null,null,null,null,null,3023]
[3024,"2021-03-13","2021-03-13","X",null,null,null,"X",{"$f":"+A3033","v":3024}]
[3025,"2021-03-14","2021-03-14","X",null,null,null,"X",3025]
[{"$f":"+A3034+1","v":3026},"2021-03-15","2021-03-15",null,null,null,null,null,3026]
[3027,"2021-03-16","2021-03-16",null,null,null,null,null,3027]
[3028,"2021-03-17","2021-03-17",null,null,null,null,null,3028]
[3029,"2021-03-18","2021-03-18",null,null,null,null,null,3029]
[3030,"2021-03-19","2021-03-19",null,null,null,null,null,3030]
[3031,"2021-03-20","2021-03-20","X",null,null,null,"X",{"$f":"+A3040","v":3031}]
[3032,"2021-03-21","2021-03-21","X",null,null,null,"X",3032]
[3033,"2021-03-22","2021-03-22",null,null,null,null,null,3033]
[3034,"2021-03-23","2021-03-23",null,null,null,null,null,3034]
[3035,"2021-03-24","2021-03-24",null,null,null,null,null,3035]
[3036,"2021-03-25","2021-03-25",null,null,null,null,null,3036]
[3037,"2021-03-26","2021-03-26",null,null,null,null,null,3037]
[3038,"2021-03-27","2021-03-27","X",null,null,null,"X",{"$f":"+A3047","v":3038}]
[3039,"2021-03-28","2021-03-28","X",null,null,null,"X",3039]
[3040,"2021-03-29","2021-03-29",null,null,null,null,null,3040]
[3041,"2021-03-30","2021-03-30",null,null,null,null,null,3041]
[{"$f":"+A3050+1","v":3042},"2021-03-31","2021-03-31",null,null,null,null,null,3042]
[3043,"2021-04-01","2021-04-01",null,null,"X",null,"X",{"$f":"+A3052","v":3043}]
[3044,"2021-04-02","2021-04-02",null,null,"X",null,"X",3044]
[3045,"2021-04-03","2021-04-03","X",null,null,null,"X",3045]
[3046,"2021-04-04","2021-04-04","X",null,null,null,"X",3046]
[3047,"2021-04-05","2021-04-05",null,null,null,null,null,3047]
[3048,"2021-04-06","2021-04-06",null,null,null,null,null,3048]
[3049,"2021-04-07","2021-04-07",null,null,null,null,null,3049]
[3050,"2021-04-08","2021-04-08",null,null,null,null,null,3050]
[3051,"2021-04-09","2021-04-09",null,null,null,null,null,3051]
[3052,"2021-04-10","2021-04-10","X",null,null,null,"X",{"$f":"+A3061","v":3052}]
[3053,"2021-04-11","2021-04-11","X",null,null,null,"X",3053]
[3054,"2021-04-12","2021-04-12",null,null,null,null,null,3054]
[3055,"2021-04-13","2021-04-13",null,null,null,null,null,3055]
[3056,"2021-04-14","2021-04-14",null,null,null,null,null,3056]
[3057,"2021-04-15","2021-04-15",null,null,null,null,null,3057]
[{"$f":"+A3066+1","v":3058},"2021-04-16","2021-04-16",null,null,null,null,null,3058]
[3059,"2021-04-17","2021-04-17","X",null,null,null,"X",{"$f":"+A3068","v":3059}]
[3060,"2021-04-18","2021-04-18","X",null,null,null,"X",3060]
[3061,"2021-04-19","2021-04-19",null,null,null,null,null,3061]
[3062,"2021-04-20","2021-04-20",null,null,null,null,null,3062]
[3063,"2021-04-21","2021-04-21",null,null,null,null,null,3063]
[3064,"2021-04-22","2021-04-22",null,null,null,null,null,3064]
[3065,"2021-04-23","2021-04-23",null,null,null,null,null,3065]
[3066,"2021-04-24","2021-04-24","X",null,null,null,"X",{"$f":"+A3075","v":3066}]
[3067,"2021-04-25","2021-04-25","X",null,null,null,"X",3067]
[3068,"2021-04-26","2021-04-26",null,null,null,null,null,3068]
[3069,"2021-04-27","2021-04-27",null,null,null,null,null,3069]
[3070,"2021-04-28","2021-04-28",null,null,null,null,null,3070]
[3071,"2021-04-29","2021-04-29",null,null,null,null,null,3071]
[3072,"2021-04-30","2021-04-30",null,null,null,null,null,3072]
[3073,"2021-05-01","2021-05-01","X","X",null,null,"X",{"$f":"+A3082","v":3073}]
[{"$f":"+A3082+1","v":3074},"2021-05-02","2021-05-02","X",null,null,null,"X",3074]
[3075,"2021-05-03","2021-05-03",null,null,null,null,null,{"$f":"+IF(H3084<>\"X\",A3084,0)","v":3075}]
[3076,"2021-05-04","2021-05-04",null,null,null,null,null,3076]
[3077,"2021-05-05","2021-05-05",null,null,null,null,null,3077]
[3078,"2021-05-06","2021-05-06",null,null,null,null,null,3078]
[3079,"2021-05-07","2021-05-07",null,null,null,null,null,3079]
[3080,"2021-05-08","2021-05-08","X",null,null,null,"X",{"$f":"+A3089","v":3080}]
[3081,"2021-05-09","2021-05-09","X",null,null,null,"X",3081]
[3082,"2021-05-10","2021-05-10",null,null,null,null,null,3082]
[3083,"2021-05-11","2021-05-11",null,null,null,null,null,3083]
[3084,"2021-05-12","2021-05-12",null,null,null,null,null,3084]
[3085,"2021-05-13","2021-05-13",null,null,null,null,null,3085]
[3086,"2021-05-14","2021-05-14",null,null,null,null,null,3086]
[3087,"2021-05-15","2021-05-15","X",null,null,null,"X",{"$f":"+A3096","v":3087}]
[3088,"2021-05-16","2021-05-16","X",null,null,null,"X",3088]
[3089,"2021-05-17","2021-05-17",null,null,null,null,null,3089]
[{"$f":"+A3098+1","v":3090},"2021-05-18","2021-05-18",null,null,null,null,null,3090]
[3091,"2021-05-19","2021-05-19",null,null,null,null,null,3091]
[3092,"2021-05-20","2021-05-20",null,null,null,null,null,3092]
[3093,"2021-05-21","2021-05-21",null,null,null,null,null,3093]
[3094,"2021-05-22","2021-05-22","X",null,null,null,"X",{"$f":"+A3103","v":3094}]
[3095,"2021-05-23","2021-05-23","X",null,null,null,"X",3095]
[3096,"2021-05-24","2021-05-24",null,null,null,null,null,3096]
[3097,"2021-05-25","2021-05-25",null,null,null,null,null,3097]
[3098,"2021-05-26","2021-05-26",null,null,null,null,null,3098]
[3099,"2021-05-27","2021-05-27",null,null,null,null,null,3099]
[3100,"2021-05-28","2021-05-28",null,null,null,null,null,3100]
[3101,"2021-05-29","2021-05-29","X",null,null,null,"X",{"$f":"+A3110","v":3101}]
[3102,"2021-05-30","2021-05-30","X",null,null,null,"X",3102]
[3103,"2021-05-31","2021-05-31",null,null,null,null,null,3103]
[3104,"2021-06-01","2021-06-01",null,null,null,null,null,3104]
[3105,"2021-06-02","2021-06-02",null,null,null,null,null,3105]
[{"$f":"+A3114+1","v":3106},"2021-06-03","2021-06-03",null,null,null,null,null,3106]
[3107,"2021-06-04","2021-06-04",null,null,null,null,null,3107]
[3108,"2021-06-05","2021-06-05","X",null,null,null,"X",{"$f":"+A3117","v":3108}]
[3109,"2021-06-06","2021-06-06","X",null,null,null,"X",3109]
[3110,"2021-06-07","2021-06-07",null,null,null,null,null,3110]
[3111,"2021-06-08","2021-06-08",null,null,null,null,null,3111]
[3112,"2021-06-09","2021-06-09",null,null,null,null,null,3112]
[3113,"2021-06-10","2021-06-10",null,null,null,null,null,3113]
[3114,"2021-06-11","2021-06-11",null,null,null,null,null,3114]
[3115,"2021-06-12","2021-06-12","X",null,null,null,"X",{"$f":"+A3124","v":3115}]
[3116,"2021-06-13","2021-06-13","X",null,null,null,"X",3116]
[3117,"2021-06-14","2021-06-14",null,null,null,null,null,3117]
[3118,"2021-06-15","2021-06-15",null,null,null,null,null,3118]
[3119,"2021-06-16","2021-06-16",null,null,null,null,null,3119]
[3120,"2021-06-17","2021-06-17",null,null,null,null,null,3120]
[3121,"2021-06-18","2021-06-18",null,null,null,null,null,3121]
[{"$f":"+A3130+1","v":3122},"2021-06-19","2021-06-19","X",null,null,null,"X",{"$f":"+A3131","v":3122}]
[3123,"2021-06-20","2021-06-20","X",null,null,null,"X",3123]
[3124,"2021-06-21","2021-06-21",null,null,null,null,null,3124]
[3125,"2021-06-22","2021-06-22",null,null,null,null,null,3125]
[3126,"2021-06-23","2021-06-23",null,null,null,null,null,3126]
[3127,"2021-06-24","2021-06-24",null,null,null,null,null,3127]
[3128,"2021-06-25","2021-06-25",null,null,null,null,null,3128]
[3129,"2021-06-26","2021-06-26","X",null,null,null,"X",{"$f":"+A3138","v":3129}]
[3130,"2021-06-27","2021-06-27","X",null,null,null,"X",3130]
[3131,"2021-06-28","2021-06-28",null,null,null,null,null,3131]
[3132,"2021-06-29","2021-06-29",null,"X",null,null,"X",{"$f":"+A3141","v":3132}]
[3133,"2021-06-30","2021-06-30",null,null,null,null,null,3133]
[3134,"2021-07-01","2021-07-01",null,null,null,null,null,3134]
[3135,"2021-07-02","2021-07-02",null,null,null,null,null,3135]
[3136,"2021-07-03","2021-07-03","X",null,null,null,"X",{"$f":"+A3145","v":3136}]
[3137,"2021-07-04","2021-07-04","X",null,null,null,"X",3137]
[{"$f":"+A3146+1","v":3138},"2021-07-05","2021-07-05",null,null,null,null,null,{"$f":"+IF(H3147<>\"X\",A3147,0)","v":3138}]
[3139,"2021-07-06","2021-07-06",null,null,null,null,null,3139]
[3140,"2021-07-07","2021-07-07",null,null,null,null,null,3140]
[3141,"2021-07-08","2021-07-08",null,null,null,null,null,3141]
[3142,"2021-07-09","2021-07-09",null,null,null,null,null,3142]
[3143,"2021-07-10","2021-07-10","X",null,null,null,"X",{"$f":"+A3152","v":3143}]
[3144,"2021-07-11","2021-07-11","X",null,null,null,"X",3144]
[3145,"2021-07-12","2021-07-12",null,null,null,null,null,3145]
[3146,"2021-07-13","2021-07-13",null,null,null,null,null,3146]
[3147,"2021-07-14","2021-07-14",null,null,null,null,null,3147]
[3148,"2021-07-15","2021-07-15",null,null,null,null,null,3148]
[3149,"2021-07-16","2021-07-16",null,null,null,null,null,3149]
[3150,"2021-07-17","2021-07-17","X",null,null,null,"X",{"$f":"+A3159","v":3150}]
[3151,"2021-07-18","2021-07-18","X",null,null,null,"X",3151]
[3152,"2021-07-19","2021-07-19",null,null,null,null,null,3152]
[3153,"2021-07-20","2021-07-20",null,null,null,null,null,3153]
[{"$f":"+A3162+1","v":3154},"2021-07-21","2021-07-21",null,null,null,null,null,3154]
[3155,"2021-07-22","2021-07-22",null,null,null,null,null,3155]
[3156,"2021-07-23","2021-07-23",null,null,null,null,null,3156]
[3157,"2021-07-24","2021-07-24","X",null,null,null,"X",{"$f":"+A3166","v":3157}]
[3158,"2021-07-25","2021-07-25","X",null,null,null,"X",3158]
[3159,"2021-07-26","2021-07-26",null,null,null,null,null,3159]
[3160,"2021-07-27","2021-07-27",null,null,null,null,null,3160]
[3161,"2021-07-28","2021-07-28",null,"X",null,null,"X",{"$f":"+A3170","v":3161}]
[3162,"2021-07-29","2021-07-29",null,"X",null,null,"X",3162]
[3163,"2021-07-30","2021-07-30",null,null,null,null,null,3163]
[3164,"2021-07-31","2021-07-31","X",null,null,null,"X",{"$f":"+A3173","v":3164}]
[3165,"2021-08-01","2021-08-01","X",null,null,null,"X",3165]
[3166,"2021-08-02","2021-08-02",null,null,null,null,null,3166]
[3167,"2021-08-03","2021-08-03",null,null,null,null,null,3167]
[3168,"2021-08-04","2021-08-04",null,null,null,null,null,3168]
[3169,"2021-08-05","2021-08-05",null,null,null,null,null,3169]
[{"$f":"+A3178+1","v":3170},"2021-08-06","2021-08-06",null,null,null,null,null,3170]
[3171,"2021-08-07","2021-08-07","X",null,null,null,"X",{"$f":"+A3180","v":3171}]
[3172,"2021-08-08","2021-08-08","X",null,null,null,"X",3172]
[3173,"2021-08-09","2021-08-09",null,null,null,null,null,3173]
[3174,"2021-08-10","2021-08-10",null,null,null,null,null,3174]
[3175,"2021-08-11","2021-08-11",null,null,null,null,null,3175]
[3176,"2021-08-12","2021-08-12",null,null,null,null,null,3176]
[3177,"2021-08-13","2021-08-13",null,null,null,null,null,3177]
[3178,"2021-08-14","2021-08-14","X",null,null,null,"X",{"$f":"+A3187","v":3178}]
[3179,"2021-08-15","2021-08-15","X",null,null,null,"X",3179]
[3180,"2021-08-16","2021-08-16",null,null,null,null,null,3180]
[3181,"2021-08-17","2021-08-17",null,null,null,null,null,3181]
[3182,"2021-08-18","2021-08-18",null,null,null,null,null,3182]
[3183,"2021-08-19","2021-08-19",null,null,null,null,null,3183]
[3184,"2021-08-20","2021-08-20",null,null,null,null,null,3184]
[3185,"2021-08-21","2021-08-21","X",null,null,null,"X",{"$f":"+A3194","v":3185}]
[{"$f":"+A3194+1","v":3186},"2021-08-22","2021-08-22","X",null,null,null,"X",3186]
[3187,"2021-08-23","2021-08-23",null,null,null,null,null,3187]
[3188,"2021-08-24","2021-08-24",null,null,null,null,null,3188]
[3189,"2021-08-25","2021-08-25",null,null,null,null,null,3189]
[3190,"2021-08-26","2021-08-26",null,null,null,null,null,3190]
[3191,"2021-08-27","2021-08-27",null,null,null,null,null,3191]
[3192,"2021-08-28","2021-08-28","X",null,null,null,"X",{"$f":"+A3201","v":3192}]
[3193,"2021-08-29","2021-08-29","X",null,null,null,"X",3193]
[3194,"2021-08-30","2021-08-30",null,null,null,null,null,3194]
[3195,"2021-08-31","2021-08-31",null,null,null,null,null,3195]
[3196,"2021-09-01","2021-09-01",null,null,null,null,null,3196]
[3197,"2021-09-02","2021-09-02",null,null,null,null,null,3197]
[3198,"2021-09-03","2021-09-03",null,null,null,null,null,3198]
[3199,"2021-09-04","2021-09-04","X",null,null,null,"X",{"$f":"+A3208","v":3199}]
[3200,"2021-09-05","2021-09-05","X",null,null,null,"X",3200]
[3201,"2021-09-06","2021-09-06",null,null,null,null,null,{"$f":"+IF(H3210<>\"X\",A3210,0)","v":3201}]
[{"$f":"+A3210+1","v":3202},"2021-09-07","2021-09-07",null,null,null,null,null,3202]
[3203,"2021-09-08","2021-09-08",null,null,null,null,null,3203]
[3204,"2021-09-09","2021-09-09",null,null,null,null,null,3204]
[3205,"2021-09-10","2021-09-10",null,null,null,null,null,3205]
[3206,"2021-09-11","2021-09-11","X",null,null,null,"X",{"$f":"+A3215","v":3206}]
[3207,"2021-09-12","2021-09-12","X",null,null,null,"X",3207]
[3208,"2021-09-13","2021-09-13",null,null,null,null,null,3208]
[3209,"2021-09-14","2021-09-14",null,null,null,null,null,3209]
[3210,"2021-09-15","2021-09-15",null,null,null,null,null,3210]
[3211,"2021-09-16","2021-09-16",null,null,null,null,null,3211]
[3212,"2021-09-17","2021-09-17",null,null,null,null,null,3212]
[3213,"2021-09-18","2021-09-18","X",null,null,null,"X",{"$f":"+A3222","v":3213}]
[3214,"2021-09-19","2021-09-19","X",null,null,null,"X",3214]
[3215,"2021-09-20","2021-09-20",null,null,null,null,null,3215]
[3216,"2021-09-21","2021-09-21",null,null,null,null,null,3216]
[3217,"2021-09-22","2021-09-22",null,null,null,null,null,3217]
[{"$f":"+A3226+1","v":3218},"2021-09-23","2021-09-23",null,null,null,null,null,3218]
[3219,"2021-09-24","2021-09-24",null,null,null,null,null,3219]
[3220,"2021-09-25","2021-09-25","X",null,null,null,"X",{"$f":"+A3229","v":3220}]
[3221,"2021-09-26","2021-09-26","X",null,null,null,"X",3221]
[3222,"2021-09-27","2021-09-27",null,null,null,null,null,3222]
[3223,"2021-09-28","2021-09-28",null,null,null,null,null,3223]
[3224,"2021-09-29","2021-09-29",null,null,null,null,null,3224]
[3225,"2021-09-30","2021-09-30",null,null,null,null,null,3225]
[3226,"2021-10-01","2021-10-01",null,null,null,null,null,3226]
[3227,"2021-10-02","2021-10-02","X",null,null,null,"X",{"$f":"+A3236","v":3227}]
[3228,"2021-10-03","2021-10-03","X",null,null,null,"X",3228]
[3229,"2021-10-04","2021-10-04",null,null,null,null,null,3229]
[3230,"2021-10-05","2021-10-05",null,null,null,null,null,3230]
[3231,"2021-10-06","2021-10-06",null,null,null,null,null,3231]
[3232,"2021-10-07","2021-10-07",null,null,null,null,null,3232]
[3233,"2021-10-08","2021-10-08",null,"X",null,null,"X",{"$f":"+A3242","v":3233}]
[{"$f":"+A3242+1","v":3234},"2021-10-09","2021-10-09","X",null,null,null,"X",3234]
[3235,"2021-10-10","2021-10-10","X",null,null,null,"X",3235]
[3236,"2021-10-11","2021-10-11",null,null,null,null,null,3236]
[3237,"2021-10-12","2021-10-12",null,null,null,null,null,3237]
[3238,"2021-10-13","2021-10-13",null,null,null,null,null,3238]
[3239,"2021-10-14","2021-10-14",null,null,null,null,null,3239]
[3240,"2021-10-15","2021-10-15",null,null,null,null,null,3240]
[3241,"2021-10-16","2021-10-16","X",null,null,null,"X",{"$f":"+A3250","v":3241}]
[3242,"2021-10-17","2021-10-17","X",null,null,null,"X",3242]
[3243,"2021-10-18","2021-10-18",null,null,null,null,null,3243]
[3244,"2021-10-19","2021-10-19",null,null,null,null,null,3244]
[3245,"2021-10-20","2021-10-20",null,null,null,null,null,3245]
[3246,"2021-10-21","2021-10-21",null,null,null,null,null,3246]
[3247,"2021-10-22","2021-10-22",null,null,null,null,null,3247]
[3248,"2021-10-23","2021-10-23","X",null,null,null,"X",{"$f":"+A3257","v":3248}]
[3249,"2021-10-24","2021-10-24","X",null,null,null,"X",3249]
[{"$f":"+A3258+1","v":3250},"2021-10-25","2021-10-25",null,null,null,null,null,3250]
[3251,"2021-10-26","2021-10-26",null,null,null,null,null,3251]
[3252,"2021-10-27","2021-10-27",null,null,null,null,null,3252]
[3253,"2021-10-28","2021-10-28",null,null,null,null,null,3253]
[3254,"2021-10-29","2021-10-29",null,null,null,null,null,3254]
[3255,"2021-10-30","2021-10-30","X",null,null,null,"X",{"$f":"+A3264","v":3255}]
[3256,"2021-10-31","2021-10-31","X",null,null,null,"X",3256]
[3257,"2021-11-01","2021-11-01",null,"X",null,null,"X",3257]
[3258,"2021-11-02","2021-11-02",null,null,null,null,null,3258]
[3259,"2021-11-03","2021-11-03",null,null,null,null,null,3259]
[3260,"2021-11-04","2021-11-04",null,null,null,null,null,3260]
[3261,"2021-11-05","2021-11-05",null,null,null,null,null,3261]
[3262,"2021-11-06","2021-11-06","X",null,null,null,"X",{"$f":"+A3271","v":3262}]
[3263,"2021-11-07","2021-11-07","X",null,null,null,"X",3263]
[3264,"2021-11-08","2021-11-08",null,null,null,null,null,3264]
[3265,"2021-11-09","2021-11-09",null,null,null,null,null,{"$f":"+IF(H3274<>\"X\",A3274,0)","v":3265}]
[{"$f":"+A3274+1","v":3266},"2021-11-10","2021-11-10",null,null,null,null,null,3266]
[3267,"2021-11-11","2021-11-11",null,null,null,null,null,3267]
[3268,"2021-11-12","2021-11-12",null,null,null,null,null,3268]
[3269,"2021-11-13","2021-11-13","X",null,null,null,"X",{"$f":"+A3278","v":3269}]
[3270,"2021-11-14","2021-11-14","X",null,null,null,"X",3270]
[3271,"2021-11-15","2021-11-15",null,null,null,null,null,3271]
[3272,"2021-11-16","2021-11-16",null,null,null,null,null,3272]
[3273,"2021-11-17","2021-11-17",null,null,null,null,null,3273]
[3274,"2021-11-18","2021-11-18",null,null,null,null,null,3274]
[3275,"2021-11-19","2021-11-19",null,null,null,null,null,3275]
[3276,"2021-11-20","2021-11-20","X",null,null,null,"X",{"$f":"+A3285","v":3276}]
[3277,"2021-11-21","2021-11-21","X",null,null,null,"X",3277]
[3278,"2021-11-22","2021-11-22",null,null,null,null,null,3278]
[3279,"2021-11-23","2021-11-23",null,null,null,null,null,3279]
[3280,"2021-11-24","2021-11-24",null,null,null,null,null,3280]
[3281,"2021-11-25","2021-11-25",null,null,null,null,null,3281]
[{"$f":"+A3290+1","v":3282},"2021-11-26","2021-11-26",null,null,null,null,null,3282]
[3283,"2021-11-27","2021-11-27","X",null,null,null,"X",{"$f":"+A3292","v":3283}]
[3284,"2021-11-28","2021-11-28","X",null,null,null,"X",3284]
[3285,"2021-11-29","2021-11-29",null,null,null,null,null,3285]
[3286,"2021-11-30","2021-11-30",null,null,null,null,null,3286]
[3287,"2021-12-01","2021-12-01",null,null,null,null,null,3287]
[3288,"2021-12-02","2021-12-02",null,null,null,null,null,3288]
[3289,"2021-12-03","2021-12-03",null,null,null,null,null,3289]
[3290,"2021-12-04","2021-12-04","X",null,null,null,"X",{"$f":"+A3299","v":3290}]
[3291,"2021-12-05","2021-12-05","X",null,null,null,"X",3291]
[3292,"2021-12-06","2021-12-06",null,null,null,null,null,3292]
[3293,"2021-12-07","2021-12-07",null,null,null,null,null,3293]
[3294,"2021-12-08","2021-12-08",null,"X",null,null,"X",{"$f":"+A3303","v":3294}]
[3295,"2021-12-09","2021-12-09",null,null,null,null,null,3295]
[3296,"2021-12-10","2021-12-10",null,null,null,null,null,3296]
[3297,"2021-12-11","2021-12-11","X",null,null,null,"X",{"$f":"+A3306","v":3297}]
[{"$f":"+A3306+1","v":3298},"2021-12-12","2021-12-12","X",null,null,null,"X",3298]
[3299,"2021-12-13","2021-12-13",null,null,null,null,null,3299]
[3300,"2021-12-14","2021-12-14",null,null,null,null,null,3300]
[3301,"2021-12-15","2021-12-15",null,null,null,null,null,3301]
[3302,"2021-12-16","2021-12-16",null,null,null,null,null,3302]
[3303,"2021-12-17","2021-12-17",null,null,null,null,null,3303]
[3304,"2021-12-18","2021-12-18","X",null,null,null,"X",{"$f":"+A3313","v":3304}]
[3305,"2021-12-19","2021-12-19","X",null,null,null,"X",3305]
[3306,"2021-12-20","2021-12-20",null,null,null,null,null,3306]
[3307,"2021-12-21","2021-12-21",null,null,null,null,null,3307]
[3308,"2021-12-22","2021-12-22",null,null,null,null,null,3308]
[3309,"2021-12-23","2021-12-23",null,null,null,null,null,3309]
[3310,"2021-12-24","2021-12-24",null,null,null,null,null,3310]
[3311,"2021-12-25","2021-12-25","X","X",null,null,"X",{"$f":"+A3320","v":3311}]
[3312,"2021-12-26","2021-12-26","X",null,null,null,"X",3312]
[3313,"2021-12-27","2021-12-27",null,null,null,null,null,3313]
[{"$f":"+A3322+1","v":3314},"2021-12-28","2021-12-28",null,null,null,null,null,3314]
[3315,"2021-12-29","2021-12-29",null,null,null,null,null,3315]
[3316,"2021-12-30","2021-12-30",null,null,null,null,null,3316]
[3317,"2021-12-31","2021-12-31",null,null,null,null,"X",0]
[3318,"2022-01-01","2022-01-01","X","X",null,null,"X",{"$f":"+A3327","v":3318}]
[3319,"2022-01-02","2022-01-02","X",null,null,null,"X",3319]
[3320,"2022-01-03","2022-01-03",null,null,null,null,null,3320]
[3321,"2022-01-04","2022-01-04",null,null,null,null,null,3321]
[3322,"2022-01-05","2022-01-05",null,null,null,null,null,3322]
[3323,"2022-01-06","2022-01-06",null,null,null,null,null,3323]
[3324,"2022-01-07","2022-01-07",null,null,null,null,null,3324]
[3325,"2022-01-08","2022-01-08","X",null,null,null,"X",{"$f":"+A3334","v":3325}]
[3326,"2022-01-09","2022-01-09","X",null,null,null,"X",3326]
[3327,"2022-01-10","2022-01-10",null,null,null,null,null,3327]
[3328,"2022-01-11","2022-01-11",null,null,null,null,null,3328]
[3329,"2022-01-12","2022-01-12",null,null,null,null,null,{"$f":"+IF(H3338<>\"X\",A3338,0)","v":3329}]
[{"$f":"+A3338+1","v":3330},"2022-01-13","2022-01-13",null,null,null,null,null,3330]
[3331,"2022-01-14","2022-01-14",null,null,null,null,null,3331]
[3332,"2022-01-15","2022-01-15","X",null,null,null,"X",{"$f":"+A3341","v":3332}]
[3333,"2022-01-16","2022-01-16","X",null,null,null,"X",3333]
[3334,"2022-01-17","2022-01-17",null,null,null,null,null,3334]
[3335,"2022-01-18","2022-01-18",null,null,null,null,null,3335]
[3336,"2022-01-19","2022-01-19",null,null,null,null,null,3336]
[3337,"2022-01-20","2022-01-20",null,null,null,null,null,3337]
[3338,"2022-01-21","2022-01-21",null,null,null,null,null,3338]
[3339,"2022-01-22","2022-01-22","X",null,null,null,"X",{"$f":"+A3348","v":3339}]
[3340,"2022-01-23","2022-01-23","X",null,null,null,"X",3340]
[3341,"2022-01-24","2022-01-24",null,null,null,null,null,3341]
[3342,"2022-01-25","2022-01-25",null,null,null,null,null,3342]
[3343,"2022-01-26","2022-01-26",null,null,null,null,null,3343]
[3344,"2022-01-27","2022-01-27",null,null,null,null,null,3344]
[3345,"2022-01-28","2022-01-28",null,null,null,null,null,3345]
[{"$f":"+A3354+1","v":3346},"2022-01-29","2022-01-29","X",null,null,null,"X",{"$f":"+A3355","v":3346}]
[3347,"2022-01-30","2022-01-30","X",null,null,null,"X",3347]
[3348,"2022-01-31","2022-01-31",null,null,null,null,null,3348]
[3349,"2022-02-01","2022-02-01",null,null,null,null,null,3349]
[3350,"2022-02-02","2022-02-02",null,null,null,null,null,3350]
[3351,"2022-02-03","2022-02-03",null,null,null,null,null,3351]
[3352,"2022-02-04","2022-02-04",null,null,null,null,null,3352]
[3353,"2022-02-05","2022-02-05","X",null,null,null,"X",{"$f":"+A3362","v":3353}]
[3354,"2022-02-06","2022-02-06","X",null,null,null,"X",3354]
[3355,"2022-02-07","2022-02-07",null,null,null,null,null,3355]
[3356,"2022-02-08","2022-02-08",null,null,null,null,null,3356]
[3357,"2022-02-09","2022-02-09",null,null,null,null,null,3357]
[3358,"2022-02-10","2022-02-10",null,null,null,null,null,3358]
[3359,"2022-02-11","2022-02-11",null,null,null,null,null,3359]
[3360,"2022-02-12","2022-02-12","X",null,null,null,"X",{"$f":"+A3369","v":3360}]
[3361,"2022-02-13","2022-02-13","X",null,null,null,"X",3361]
[{"$f":"+A3370+1","v":3362},"2022-02-14","2022-02-14",null,null,null,null,null,3362]
[3363,"2022-02-15","2022-02-15",null,null,null,null,null,3363]
[3364,"2022-02-16","2022-02-16",null,null,null,null,null,3364]
[3365,"2022-02-17","2022-02-17",null,null,null,null,null,3365]
[3366,"2022-02-18","2022-02-18",null,null,null,null,null,3366]
[3367,"2022-02-19","2022-02-19","X",null,null,null,"X",{"$f":"+A3376","v":3367}]
[3368,"2022-02-20","2022-02-20","X",null,null,null,"X",3368]
[3369,"2022-02-21","2022-02-21",null,null,null,null,null,3369]
[3370,"2022-02-22","2022-02-22",null,null,null,null,null,3370]
[3371,"2022-02-23","2022-02-23",null,null,null,null,null,3371]
[3372,"2022-02-24","2022-02-24",null,null,null,null,null,3372]
[3373,"2022-02-25","2022-02-25",null,null,null,null,null,3373]
[3374,"2022-02-26","2022-02-26","X",null,null,null,"X",{"$f":"+A3383","v":3374}]
[3375,"2022-02-27","2022-02-27","X",null,null,null,"X",3375]
[3376,"2022-02-28","2022-02-28",null,null,null,null,null,3376]
[3377,"2022-03-01","2022-03-01",null,null,null,null,null,3377]
[{"$f":"+A3386+1","v":3378},"2022-03-02","2022-03-02",null,null,null,null,null,3378]
[3379,"2022-03-03","2022-03-03",null,null,null,null,null,3379]
[3380,"2022-03-04","2022-03-04",null,null,null,null,null,3380]
[3381,"2022-03-05","2022-03-05","X",null,null,null,"X",{"$f":"+A3390","v":3381}]
[3382,"2022-03-06","2022-03-06","X",null,null,null,"X",3382]
[3383,"2022-03-07","2022-03-07",null,null,null,null,null,3383]
[3384,"2022-03-08","2022-03-08",null,null,null,null,null,3384]
[3385,"2022-03-09","2022-03-09",null,null,null,null,null,3385]
[3386,"2022-03-10","2022-03-10",null,null,null,null,null,3386]
[3387,"2022-03-11","2022-03-11",null,null,null,null,null,3387]
[3388,"2022-03-12","2022-03-12","X",null,null,null,"X",{"$f":"+A3397","v":3388}]
[3389,"2022-03-13","2022-03-13","X",null,null,null,"X",3389]
[3390,"2022-03-14","2022-03-14",null,null,null,null,null,3390]
[3391,"2022-03-15","2022-03-15",null,null,null,null,null,3391]
[3392,"2022-03-16","2022-03-16",null,null,null,null,null,3392]
[3393,"2022-03-17","2022-03-17",null,null,null,null,null,{"$f":"+IF(H3402<>\"X\",A3402,0)","v":3393}]
[{"$f":"+A3402+1","v":3394},"2022-03-18","2022-03-18",null,null,null,null,null,3394]
[3395,"2022-03-19","2022-03-19","X",null,null,null,"X",{"$f":"+A3404","v":3395}]
[3396,"2022-03-20","2022-03-20","X",null,null,null,"X",3396]
[3397,"2022-03-21","2022-03-21",null,null,null,null,null,3397]
[3398,"2022-03-22","2022-03-22",null,null,null,null,null,3398]
[3399,"2022-03-23","2022-03-23",null,null,null,null,null,3399]
[3400,"2022-03-24","2022-03-24",null,null,null,null,null,3400]
[3401,"2022-03-25","2022-03-25",null,null,null,null,null,3401]
[3402,"2022-03-26","2022-03-26","X",null,null,null,"X",{"$f":"+A3411","v":3402}]
[3403,"2022-03-27","2022-03-27","X",null,null,null,"X",3403]
[3404,"2022-03-28","2022-03-28",null,null,null,null,null,3404]
[3405,"2022-03-29","2022-03-29",null,null,null,null,null,3405]
[3406,"2022-03-30","2022-03-30",null,null,null,null,null,3406]
[3407,"2022-03-31","2022-03-31",null,null,null,null,null,3407]
[3408,"2022-04-01","2022-04-01",null,null,null,null,null,3408]
[3409,"2022-04-02","2022-04-02","X",null,null,null,"X",{"$f":"+A3418","v":3409}]
[{"$f":"+A3418+1","v":3410},"2022-04-03","2022-04-03","X",null,null,null,"X",3410]
[3411,"2022-04-04","2022-04-04",null,null,null,null,null,3411]
[3412,"2022-04-05","2022-04-05",null,null,null,null,null,3412]
[3413,"2022-04-06","2022-04-06",null,null,null,null,null,3413]
[3414,"2022-04-07","2022-04-07",null,null,null,null,null,3414]
[3415,"2022-04-08","2022-04-08",null,null,null,null,null,3415]
[3416,"2022-04-09","2022-04-09","X",null,null,null,"X",{"$f":"+A3425","v":3416}]
[3417,"2022-04-10","2022-04-10","X",null,null,null,"X",3417]
[3418,"2022-04-11","2022-04-11",null,null,null,null,null,3418]
[3419,"2022-04-12","2022-04-12",null,null,null,null,null,3419]
[3420,"2022-04-13","2022-04-13",null,null,null,null,null,3420]
[3421,"2022-04-14","2022-04-14",null,null,"X",null,"X",{"$f":"+A3430","v":3421}]
[3422,"2022-04-15","2022-04-15",null,null,"X",null,"X",3422]
[3423,"2022-04-16","2022-04-16","X",null,null,null,"X",3423]
[3424,"2022-04-17","2022-04-17","X",null,null,null,"X",3424]
[3425,"2022-04-18","2022-04-18",null,null,null,null,null,3425]
[{"$f":"+A3434+1","v":3426},"2022-04-19","2022-04-19",null,null,null,null,null,3426]
[3427,"2022-04-20","2022-04-20",null,null,null,null,null,3427]
[3428,"2022-04-21","2022-04-21",null,null,null,null,null,3428]
[3429,"2022-04-22","2022-04-22",null,null,null,null,null,3429]
[3430,"2022-04-23","2022-04-23","X",null,null,null,"X",{"$f":"+A3439","v":3430}]
[3431,"2022-04-24","2022-04-24","X",null,null,null,"X",3431]
[3432,"2022-04-25","2022-04-25",null,null,null,null,null,3432]
[3433,"2022-04-26","2022-04-26",null,null,null,null,null,3433]
[3434,"2022-04-27","2022-04-27",null,null,null,null,null,3434]
[3435,"2022-04-28","2022-04-28",null,null,null,null,null,3435]
[3436,"2022-04-29","2022-04-29",null,null,null,null,null,3436]
[3437,"2022-04-30","2022-04-30","X",null,null,null,"X",{"$f":"+A3446","v":3437}]
[3438,"2022-05-01","2022-05-01","X","X",null,null,"X",3438]
[3439,"2022-05-02","2022-05-02",null,null,null,null,null,3439]
[3440,"2022-05-03","2022-05-03",null,null,null,null,null,3440]
[3441,"2022-05-04","2022-05-04",null,null,null,null,null,3441]
[{"$f":"+A3450+1","v":3442},"2022-05-05","2022-05-05",null,null,null,null,null,3442]
[3443,"2022-05-06","2022-05-06",null,null,null,null,null,3443]
[3444,"2022-05-07","2022-05-07","X",null,null,null,"X",{"$f":"+A3453","v":3444}]
[3445,"2022-05-08","2022-05-08","X",null,null,null,"X",3445]
[3446,"2022-05-09","2022-05-09",null,null,null,null,null,3446]
[3447,"2022-05-10","2022-05-10",null,null,null,null,null,3447]
[3448,"2022-05-11","2022-05-11",null,null,null,null,null,3448]
[3449,"2022-05-12","2022-05-12",null,null,null,null,null,3449]
[3450,"2022-05-13","2022-05-13",null,null,null,null,null,3450]
[3451,"2022-05-14","2022-05-14","X",null,null,null,"X",{"$f":"+A3460","v":3451}]
[3452,"2022-05-15","2022-05-15","X",null,null,null,"X",3452]
[3453,"2022-05-16","2022-05-16",null,null,null,null,null,3453]
[3454,"2022-05-17","2022-05-17",null,null,null,null,null,3454]
[3455,"2022-05-18","2022-05-18",null,null,null,null,null,3455]
[3456,"2022-05-19","2022-05-19",null,null,null,null,null,3456]
[3457,"2022-05-20","2022-05-20",null,null,null,null,null,{"$f":"+IF(H3466<>\"X\",A3466,0)","v":3457}]
[{"$f":"+A3466+1","v":3458},"2022-05-21","2022-05-21","X",null,null,null,"X",{"$f":"+A3467","v":3458}]
[3459,"2022-05-22","2022-05-22","X",null,null,null,"X",3459]
[3460,"2022-05-23","2022-05-23",null,null,null,null,null,3460]
[3461,"2022-05-24","2022-05-24",null,null,null,null,null,3461]
[3462,"2022-05-25","2022-05-25",null,null,null,null,null,3462]
[3463,"2022-05-26","2022-05-26",null,null,null,null,null,3463]
[3464,"2022-05-27","2022-05-27",null,null,null,null,null,3464]
[3465,"2022-05-28","2022-05-28","X",null,null,null,"X",{"$f":"+A3474","v":3465}]
[3466,"2022-05-29","2022-05-29","X",null,null,null,"X",3466]
[3467,"2022-05-30","2022-05-30",null,null,null,null,null,3467]
[3468,"2022-05-31","2022-05-31",null,null,null,null,null,3468]
[3469,"2022-06-01","2022-06-01",null,null,null,null,null,3469]
[3470,"2022-06-02","2022-06-02",null,null,null,null,null,3470]
[3471,"2022-06-03","2022-06-03",null,null,null,null,null,3471]
[3472,"2022-06-04","2022-06-04","X",null,null,null,"X",{"$f":"+A3481","v":3472}]
[3473,"2022-06-05","2022-06-05","X",null,null,null,"X",3473]
[{"$f":"+A3482+1","v":3474},"2022-06-06","2022-06-06",null,null,null,null,null,3474]
[3475,"2022-06-07","2022-06-07",null,null,null,null,null,3475]
[3476,"2022-06-08","2022-06-08",null,null,null,null,null,3476]
[3477,"2022-06-09","2022-06-09",null,null,null,null,null,3477]
[3478,"2022-06-10","2022-06-10",null,null,null,null,null,3478]
[3479,"2022-06-11","2022-06-11","X",null,null,null,"X",{"$f":"+A3488","v":3479}]
[3480,"2022-06-12","2022-06-12","X",null,null,null,"X",3480]
[3481,"2022-06-13","2022-06-13",null,null,null,null,null,3481]
[3482,"2022-06-14","2022-06-14",null,null,null,null,null,3482]
[3483,"2022-06-15","2022-06-15",null,null,null,null,null,3483]
[3484,"2022-06-16","2022-06-16",null,null,null,null,null,3484]
[3485,"2022-06-17","2022-06-17",null,null,null,null,null,3485]
[3486,"2022-06-18","2022-06-18","X",null,null,null,"X",{"$f":"+A3495","v":3486}]
[3487,"2022-06-19","2022-06-19","X",null,null,null,"X",3487]
[3488,"2022-06-20","2022-06-20",null,null,null,null,null,3488]
[3489,"2022-06-21","2022-06-21",null,null,null,null,null,3489]
[{"$f":"+A3498+1","v":3490},"2022-06-22","2022-06-22",null,null,null,null,null,3490]
[3491,"2022-06-23","2022-06-23",null,null,null,null,null,3491]
[3492,"2022-06-24","2022-06-24",null,null,null,null,null,3492]
[3493,"2022-06-25","2022-06-25","X",null,null,null,"X",{"$f":"+A3502","v":3493}]
[3494,"2022-06-26","2022-06-26","X",null,null,null,"X",3494]
[3495,"2022-06-27","2022-06-27",null,null,null,null,null,3495]
[3496,"2022-06-28","2022-06-28",null,null,null,null,null,3496]
[3497,"2022-06-29","2022-06-29",null,"X",null,null,"X",{"$f":"+A3506","v":3497}]
[3498,"2022-06-30","2022-06-30",null,null,null,null,null,3498]
[3499,"2022-07-01","2022-07-01",null,null,null,null,null,3499]
[3500,"2022-07-02","2022-07-02","X",null,null,null,"X",{"$f":"+A3509","v":3500}]
[3501,"2022-07-03","2022-07-03","X",null,null,null,"X",3501]
[3502,"2022-07-04","2022-07-04",null,null,null,null,null,3502]
[3503,"2022-07-05","2022-07-05",null,null,null,null,null,3503]
[3504,"2022-07-06","2022-07-06",null,null,null,null,null,3504]
[3505,"2022-07-07","2022-07-07",null,null,null,null,null,3505]
[{"$f":"+A3514+1","v":3506},"2022-07-08","2022-07-08",null,null,null,null,null,3506]
[3507,"2022-07-09","2022-07-09","X",null,null,null,"X",{"$f":"+A3516","v":3507}]
[3508,"2022-07-10","2022-07-10","X",null,null,null,"X",3508]
[3509,"2022-07-11","2022-07-11",null,null,null,null,null,3509]
[3510,"2022-07-12","2022-07-12",null,null,null,null,null,3510]
[3511,"2022-07-13","2022-07-13",null,null,null,null,null,3511]
[3512,"2022-07-14","2022-07-14",null,null,null,null,null,3512]
[3513,"2022-07-15","2022-07-15",null,null,null,null,null,3513]
[3514,"2022-07-16","2022-07-16","X",null,null,null,"X",{"$f":"+A3523","v":3514}]
[3515,"2022-07-17","2022-07-17","X",null,null,null,"X",3515]
[3516,"2022-07-18","2022-07-18",null,null,null,null,null,3516]
[3517,"2022-07-19","2022-07-19",null,null,null,null,null,3517]
[3518,"2022-07-20","2022-07-20",null,null,null,null,null,3518]
[3519,"2022-07-21","2022-07-21",null,null,null,null,null,3519]
[3520,"2022-07-22","2022-07-22",null,null,null,null,null,3520]
[3521,"2022-07-23","2022-07-23","X",null,null,null,"X",{"$f":"+A3530","v":3521}]
[{"$f":"+A3530+1","v":3522},"2022-07-24","2022-07-24","X",null,null,null,"X",3522]
[3523,"2022-07-25","2022-07-25",null,null,null,null,null,{"$f":"+IF(H3532<>\"X\",A3532,0)","v":3523}]
[3524,"2022-07-26","2022-07-26",null,null,null,null,null,3524]
[3525,"2022-07-27","2022-07-27",null,null,null,null,null,3525]
[3526,"2022-07-28","2022-07-28",null,"X",null,null,"X",{"$f":"+A3535","v":3526}]
[3527,"2022-07-29","2022-07-29",null,"X",null,null,"X",3527]
[3528,"2022-07-30","2022-07-30","X",null,null,null,"X",3528]
[3529,"2022-07-31","2022-07-31","X",null,null,null,"X",3529]
[3530,"2022-08-01","2022-08-01",null,null,null,null,null,3530]
[3531,"2022-08-02","2022-08-02",null,null,null,null,null,3531]
[3532,"2022-08-03","2022-08-03",null,null,null,null,null,3532]
[3533,"2022-08-04","2022-08-04",null,null,null,null,null,3533]
[3534,"2022-08-05","2022-08-05",null,null,null,null,null,3534]
[3535,"2022-08-06","2022-08-06","X",null,null,null,"X",{"$f":"+A3544","v":3535}]
[3536,"2022-08-07","2022-08-07","X",null,null,null,"X",3536]
[3537,"2022-08-08","2022-08-08",null,null,null,null,null,3537]
[{"$f":"+A3546+1","v":3538},"2022-08-09","2022-08-09",null,null,null,null,null,3538]
[3539,"2022-08-10","2022-08-10",null,null,null,null,null,3539]
[3540,"2022-08-11","2022-08-11",null,null,null,null,null,3540]
[3541,"2022-08-12","2022-08-12",null,null,null,null,null,3541]
[3542,"2022-08-13","2022-08-13","X",null,null,null,"X",{"$f":"+A3551","v":3542}]
[3543,"2022-08-14","2022-08-14","X",null,null,null,"X",3543]
[3544,"2022-08-15","2022-08-15",null,null,null,null,null,3544]
[3545,"2022-08-16","2022-08-16",null,null,null,null,null,3545]
[3546,"2022-08-17","2022-08-17",null,null,null,null,null,3546]
[3547,"2022-08-18","2022-08-18",null,null,null,null,null,3547]
[3548,"2022-08-19","2022-08-19",null,null,null,null,null,3548]
[3549,"2022-08-20","2022-08-20","X",null,null,null,"X",{"$f":"+A3558","v":3549}]
[3550,"2022-08-21","2022-08-21","X",null,null,null,"X",3550]
[3551,"2022-08-22","2022-08-22",null,null,null,null,null,3551]
[3552,"2022-08-23","2022-08-23",null,null,null,null,null,3552]
[3553,"2022-08-24","2022-08-24",null,null,null,null,null,3553]
[{"$f":"+A3562+1","v":3554},"2022-08-25","2022-08-25",null,null,null,null,null,3554]
[3555,"2022-08-26","2022-08-26",null,null,null,null,null,3555]
[3556,"2022-08-27","2022-08-27","X",null,null,null,"X",{"$f":"+A3565","v":3556}]
[3557,"2022-08-28","2022-08-28","X",null,null,null,"X",3557]
[3558,"2022-08-29","2022-08-29",null,null,null,null,null,3558]
[3559,"2022-08-30","2022-08-30",null,null,null,null,null,3559]
[3560,"2022-08-31","2022-08-31",null,null,null,null,null,3560]
[3561,"2022-09-01","2022-09-01",null,null,null,null,null,3561]
[3562,"2022-09-02","2022-09-02",null,null,null,null,null,3562]
[3563,"2022-09-03","2022-09-03","X",null,null,null,"X",{"$f":"+A3572","v":3563}]
[3564,"2022-09-04","2022-09-04","X",null,null,null,"X",3564]
[3565,"2022-09-05","2022-09-05",null,null,null,null,null,3565]
[3566,"2022-09-06","2022-09-06",null,null,null,null,null,3566]
[3567,"2022-09-07","2022-09-07",null,null,null,null,null,3567]
[3568,"2022-09-08","2022-09-08",null,null,null,null,null,3568]
[3569,"2022-09-09","2022-09-09",null,null,null,null,null,3569]
[{"$f":"+A3578+1","v":3570},"2022-09-10","2022-09-10","X",null,null,null,"X",{"$f":"+A3579","v":3570}]
[3571,"2022-09-11","2022-09-11","X",null,null,null,"X",3571]
[3572,"2022-09-12","2022-09-12",null,null,null,null,null,3572]
[3573,"2022-09-13","2022-09-13",null,null,null,null,null,3573]
[3574,"2022-09-14","2022-09-14",null,null,null,null,null,3574]
[3575,"2022-09-15","2022-09-15",null,null,null,null,null,3575]
[3576,"2022-09-16","2022-09-16",null,null,null,null,null,3576]
[3577,"2022-09-17","2022-09-17","X",null,null,null,"X",{"$f":"+A3586","v":3577}]
[3578,"2022-09-18","2022-09-18","X",null,null,null,"X",3578]
[3579,"2022-09-19","2022-09-19",null,null,null,null,null,3579]
[3580,"2022-09-20","2022-09-20",null,null,null,null,null,3580]
[3581,"2022-09-21","2022-09-21",null,null,null,null,null,3581]
[3582,"2022-09-22","2022-09-22",null,null,null,null,null,3582]
[3583,"2022-09-23","2022-09-23",null,null,null,null,null,3583]
[3584,"2022-09-24","2022-09-24","X",null,null,null,"X",{"$f":"+A3593","v":3584}]
[3585,"2022-09-25","2022-09-25","X",null,null,null,"X",3585]
[{"$f":"+A3594+1","v":3586},"2022-09-26","2022-09-26",null,null,null,null,null,{"$f":"+IF(H3595<>\"X\",A3595,0)","v":3586}]
[3587,"2022-09-27","2022-09-27",null,null,null,null,null,3587]
[3588,"2022-09-28","2022-09-28",null,null,null,null,null,3588]
[3589,"2022-09-29","2022-09-29",null,null,null,null,null,3589]
[3590,"2022-09-30","2022-09-30",null,null,null,null,null,3590]
[3591,"2022-10-01","2022-10-01","X",null,null,null,"X",{"$f":"+A3600","v":3591}]
[3592,"2022-10-02","2022-10-02","X",null,null,null,"X",3592]
[3593,"2022-10-03","2022-10-03",null,null,null,null,null,3593]
[3594,"2022-10-04","2022-10-04",null,null,null,null,null,3594]
[3595,"2022-10-05","2022-10-05",null,null,null,null,null,3595]
[3596,"2022-10-06","2022-10-06",null,null,null,null,null,3596]
[3597,"2022-10-07","2022-10-07",null,null,null,null,null,3597]
[3598,"2022-10-08","2022-10-08","X","X",null,null,"X",{"$f":"+A3607","v":3598}]
[3599,"2022-10-09","2022-10-09","X",null,null,null,"X",3599]
[3600,"2022-10-10","2022-10-10",null,null,null,null,null,3600]
[3601,"2022-10-11","2022-10-11",null,null,null,null,null,3601]
[{"$f":"+A3610+1","v":3602},"2022-10-12","2022-10-12",null,null,null,null,null,3602]
[3603,"2022-10-13","2022-10-13",null,null,null,null,null,3603]
[3604,"2022-10-14","2022-10-14",null,null,null,null,null,3604]
[3605,"2022-10-15","2022-10-15","X",null,null,null,"X",{"$f":"+A3614","v":3605}]
[3606,"2022-10-16","2022-10-16","X",null,null,null,"X",3606]
[3607,"2022-10-17","2022-10-17",null,null,null,null,null,3607]
[3608,"2022-10-18","2022-10-18",null,null,null,null,null,3608]
[3609,"2022-10-19","2022-10-19",null,null,null,null,null,3609]
[3610,"2022-10-20","2022-10-20",null,null,null,null,null,3610]
[3611,"2022-10-21","2022-10-21",null,null,null,null,null,3611]
[3612,"2022-10-22","2022-10-22","X",null,null,null,"X",{"$f":"+A3621","v":3612}]
[3613,"2022-10-23","2022-10-23","X",null,null,null,"X",3613]
[3614,"2022-10-24","2022-10-24",null,null,null,null,null,3614]
[3615,"2022-10-25","2022-10-25",null,null,null,null,null,3615]
[3616,"2022-10-26","2022-10-26",null,null,null,null,null,3616]
[3617,"2022-10-27","2022-10-27",null,null,null,null,null,3617]
[{"$f":"+A3626+1","v":3618},"2022-10-28","2022-10-28",null,null,null,null,null,3618]
[3619,"2022-10-29","2022-10-29","X",null,null,null,"X",{"$f":"+A3628","v":3619}]
[3620,"2022-10-30","2022-10-30","X",null,null,null,"X",3620]
[3621,"2022-10-31","2022-10-31",null,null,null,null,null,3621]
[3622,"2022-11-01","2022-11-01",null,"X",null,null,"X",{"$f":"+A3631","v":3622}]
[3623,"2022-11-02","2022-11-02",null,null,null,null,null,3623]
[3624,"2022-11-03","2022-11-03",null,null,null,null,null,3624]
[3625,"2022-11-04","2022-11-04",null,null,null,null,null,3625]
[3626,"2022-11-05","2022-11-05","X",null,null,null,"X",{"$f":"+A3635","v":3626}]
[3627,"2022-11-06","2022-11-06","X",null,null,null,"X",3627]
[3628,"2022-11-07","2022-11-07",null,null,null,null,null,3628]
[3629,"2022-11-08","2022-11-08",null,null,null,null,null,3629]
[3630,"2022-11-09","2022-11-09",null,null,null,null,null,3630]
[3631,"2022-11-10","2022-11-10",null,null,null,null,null,3631]
[3632,"2022-11-11","2022-11-11",null,null,null,null,null,3632]
[3633,"2022-11-12","2022-11-12","X",null,null,null,"X",{"$f":"+A3642","v":3633}]
[{"$f":"+A3642+1","v":3634},"2022-11-13","2022-11-13","X",null,null,null,"X",3634]
[3635,"2022-11-14","2022-11-14",null,null,null,null,null,3635]
[3636,"2022-11-15","2022-11-15",null,null,null,null,null,3636]
[3637,"2022-11-16","2022-11-16",null,null,null,null,null,3637]
[3638,"2022-11-17","2022-11-17",null,null,null,null,null,3638]
[3639,"2022-11-18","2022-11-18",null,null,null,null,null,3639]
[3640,"2022-11-19","2022-11-19","X",null,null,null,"X",{"$f":"+A3649","v":3640}]
[3641,"2022-11-20","2022-11-20","X",null,null,null,"X",3641]
[3642,"2022-11-21","2022-11-21",null,null,null,null,null,3642]
[3643,"2022-11-22","2022-11-22",null,null,null,null,null,3643]
[3644,"2022-11-23","2022-11-23",null,null,null,null,null,3644]
[3645,"2022-11-24","2022-11-24",null,null,null,null,null,3645]
[3646,"2022-11-25","2022-11-25",null,null,null,null,null,3646]
[3647,"2022-11-26","2022-11-26","X",null,null,null,"X",{"$f":"+A3656","v":3647}]
[3648,"2022-11-27","2022-11-27","X",null,null,null,"X",3648]
[3649,"2022-11-28","2022-11-28",null,null,null,null,null,{"$f":"+IF(H3658<>\"X\",A3658,0)","v":3649}]
[{"$f":"+A3658+1","v":3650},"2022-11-29","2022-11-29",null,null,null,null,null,3650]
[3651,"2022-11-30","2022-11-30",null,null,null,null,null,3651]
[3652,"2022-12-01","2022-12-01",null,null,null,null,null,3652]
[3653,"2022-12-02","2022-12-02",null,null,null,null,null,3653]
[3654,"2022-12-03","2022-12-03","X",null,null,null,"X",{"$f":"+A3663","v":3654}]
[3655,"2022-12-04","2022-12-04","X",null,null,null,"X",3655]
[3656,"2022-12-05","2022-12-05",null,null,null,null,null,3656]
[3657,"2022-12-06","2022-12-06",null,null,null,null,null,3657]
[3658,"2022-12-07","2022-12-07",null,null,null,null,null,3658]
[3659,"2022-12-08","2022-12-08",null,"X",null,null,"X",{"$f":"+A3668","v":3659}]
[3660,"2022-12-09","2022-12-09",null,null,null,null,null,3660]
[3661,"2022-12-10","2022-12-10","X",null,null,null,"X",{"$f":"+A3670","v":3661}]
[3662,"2022-12-11","2022-12-11","X",null,null,null,"X",3662]
[3663,"2022-12-12","2022-12-12",null,null,null,null,null,3663]
[3664,"2022-12-13","2022-12-13",null,null,null,null,null,3664]
[3665,"2022-12-14","2022-12-14",null,null,null,null,null,3665]
[{"$f":"+A3674+1","v":3666},"2022-12-15","2022-12-15",null,null,null,null,null,3666]
[3667,"2022-12-16","2022-12-16",null,null,null,null,null,3667]
[3668,"2022-12-17","2022-12-17","X",null,null,null,"X",{"$f":"+A3677","v":3668}]
[3669,"2022-12-18","2022-12-18","X",null,null,null,"X",3669]
[3670,"2022-12-19","2022-12-19",null,null,null,null,null,3670]
[3671,"2022-12-20","2022-12-20",null,null,null,null,null,3671]
[3672,"2022-12-21","2022-12-21",null,null,null,null,null,3672]
[3673,"2022-12-22","2022-12-22",null,null,null,null,null,3673]
[3674,"2022-12-23","2022-12-23",null,null,null,null,null,3674]
[3675,"2022-12-24","2022-12-24","X",null,null,null,"X",{"$f":"+A3684","v":3675}]
[3676,"2022-12-25","2022-12-25","X","X",null,null,"X",3676]
[3677,"2022-12-26","2022-12-26",null,null,null,null,null,3677]
[3678,"2022-12-27","2022-12-27",null,null,null,null,null,3678]
[3679,"2022-12-28","2022-12-28",null,null,null,null,null,3679]
[3680,"2022-12-29","2022-12-29",null,null,null,null,null,3680]
[3681,"2022-12-30","2022-12-30",null,null,null,null,null,3681]
[{"$f":"+A3690+1","v":3682},"2022-12-31","2022-12-31","X",null,null,null,"X",{"$f":"+A3691","v":3682}]
[3683,"2023-01-01","2023-01-01","X","X",null,null,"X",3683]
[3684,"2023-01-02","2023-01-02",null,null,null,null,null,3684]
[3685,"2023-01-03","2023-01-03",null,null,null,null,null,3685]
[3686,"2023-01-04","2023-01-04",null,null,null,null,null,3686]
[3687,"2023-01-05","2023-01-05",null,null,null,null,null,3687]
[3688,"2023-01-06","2023-01-06",null,null,null,null,null,3688]
[3689,"2023-01-07","2023-01-07","X",null,null,null,"X",{"$f":"+A3698","v":3689}]
[3690,"2023-01-08","2023-01-08","X",null,null,null,"X",3690]
[3691,"2023-01-09","2023-01-09",null,null,null,null,null,3691]
[3692,"2023-01-10","2023-01-10",null,null,null,null,null,3692]
[3693,"2023-01-11","2023-01-11",null,null,null,null,null,3693]
[3694,"2023-01-12","2023-01-12",null,null,null,null,null,3694]
[3695,"2023-01-13","2023-01-13",null,null,null,null,null,3695]
[3696,"2023-01-14","2023-01-14","X",null,null,null,"X",{"$f":"+A3705","v":3696}]
[3697,"2023-01-15","2023-01-15","X",null,null,null,"X",3697]
[{"$f":"+A3706+1","v":3698},"2023-01-16","2023-01-16",null,null,null,null,null,3698]
[3699,"2023-01-17","2023-01-17",null,null,null,null,null,3699]
[3700,"2023-01-18","2023-01-18",null,null,null,null,null,3700]
[3701,"2023-01-19","2023-01-19",null,null,null,null,null,3701]
[3702,"2023-01-20","2023-01-20",null,null,null,null,null,3702]
[3703,"2023-01-21","2023-01-21","X",null,null,null,"X",{"$f":"+A3712","v":3703}]
[3704,"2023-01-22","2023-01-22","X",null,null,null,"X",3704]
[3705,"2023-01-23","2023-01-23",null,null,null,null,null,3705]
[3706,"2023-01-24","2023-01-24",null,null,null,null,null,3706]
[3707,"2023-01-25","2023-01-25",null,null,null,null,null,3707]
[3708,"2023-01-26","2023-01-26",null,null,null,null,null,3708]
[3709,"2023-01-27","2023-01-27",null,null,null,null,null,3709]
[3710,"2023-01-28","2023-01-28","X",null,null,null,"X",{"$f":"+A3719","v":3710}]
[3711,"2023-01-29","2023-01-29","X",null,null,null,"X",3711]
[3712,"2023-01-30","2023-01-30",null,null,null,null,null,3712]
[3713,"2023-01-31","2023-01-31",null,null,null,null,null,{"$f":"+IF(H3722<>\"X\",A3722,0)","v":3713}]
[{"$f":"+A3722+1","v":3714},"2023-02-01","2023-02-01",null,null,null,null,null,3714]
[3715,"2023-02-02","2023-02-02",null,null,null,null,null,3715]
[3716,"2023-02-03","2023-02-03",null,null,null,null,null,3716]
[3717,"2023-02-04","2023-02-04","X",null,null,null,"X",{"$f":"+A3726","v":3717}]
[3718,"2023-02-05","2023-02-05","X",null,null,null,"X",3718]
[3719,"2023-02-06","2023-02-06",null,null,null,null,null,3719]
[3720,"2023-02-07","2023-02-07",null,null,null,null,null,3720]
[3721,"2023-02-08","2023-02-08",null,null,null,null,null,3721]
[3722,"2023-02-09","2023-02-09",null,null,null,null,null,3722]
[3723,"2023-02-10","2023-02-10",null,null,null,null,null,3723]
[3724,"2023-02-11","2023-02-11","X",null,null,null,"X",{"$f":"+A3733","v":3724}]
[3725,"2023-02-12","2023-02-12","X",null,null,null,"X",3725]
[3726,"2023-02-13","2023-02-13",null,null,null,null,null,3726]
[3727,"2023-02-14","2023-02-14",null,null,null,null,null,3727]
[3728,"2023-02-15","2023-02-15",null,null,null,null,null,3728]
[3729,"2023-02-16","2023-02-16",null,null,null,null,null,3729]
[{"$f":"+A3738+1","v":3730},"2023-02-17","2023-02-17",null,null,null,null,null,3730]
[3731,"2023-02-18","2023-02-18","X",null,null,null,"X",{"$f":"+A3740","v":3731}]
[3732,"2023-02-19","2023-02-19","X",null,null,null,"X",3732]
[3733,"2023-02-20","2023-02-20",null,null,null,null,null,3733]
[3734,"2023-02-21","2023-02-21",null,null,null,null,null,3734]
[3735,"2023-02-22","2023-02-22",null,null,null,null,null,3735]
[3736,"2023-02-23","2023-02-23",null,null,null,null,null,3736]
[3737,"2023-02-24","2023-02-24",null,null,null,null,null,3737]
[3738,"2023-02-25","2023-02-25","X",null,null,null,"X",{"$f":"+A3747","v":3738}]
[3739,"2023-02-26","2023-02-26","X",null,null,null,"X",3739]
[3740,"2023-02-27","2023-02-27",null,null,null,null,null,3740]
[3741,"2023-02-28","2023-02-28",null,null,null,null,null,3741]
[3742,"2023-03-01","2023-03-01",null,null,null,null,null,3742]
[3743,"2023-03-02","2023-03-02",null,null,null,null,null,3743]
[3744,"2023-03-03","2023-03-03",null,null,null,null,null,3744]
[3745,"2023-03-04","2023-03-04","X",null,null,null,"X",{"$f":"+A3754","v":3745}]
[{"$f":"+A3754+1","v":3746},"2023-03-05","2023-03-05","X",null,null,null,"X",3746]
[3747,"2023-03-06","2023-03-06",null,null,null,null,null,3747]
[3748,"2023-03-07","2023-03-07",null,null,null,null,null,3748]
[3749,"2023-03-08","2023-03-08",null,null,null,null,null,3749]
[3750,"2023-03-09","2023-03-09",null,null,null,null,null,3750]
[3751,"2023-03-10","2023-03-10",null,null,null,null,null,3751]
[3752,"2023-03-11","2023-03-11","X",null,null,null,"X",{"$f":"+A3761","v":3752}]
[3753,"2023-03-12","2023-03-12","X",null,null,null,"X",3753]
[3754,"2023-03-13","2023-03-13",null,null,null,null,null,3754]
[3755,"2023-03-14","2023-03-14",null,null,null,null,null,3755]
[3756,"2023-03-15","2023-03-15",null,null,null,null,null,3756]
[3757,"2023-03-16","2023-03-16",null,null,null,null,null,3757]
[3758,"2023-03-17","2023-03-17",null,null,null,null,null,3758]
[3759,"2023-03-18","2023-03-18","X",null,null,null,"X",{"$f":"+A3768","v":3759}]
[3760,"2023-03-19","2023-03-19","X",null,null,null,"X",3760]
[3761,"2023-03-20","2023-03-20",null,null,null,null,null,3761]
[{"$f":"+A3770+1","v":3762},"2023-03-21","2023-03-21",null,null,null,null,null,3762]
[3763,"2023-03-22","2023-03-22",null,null,null,null,null,3763]
[3764,"2023-03-23","2023-03-23",null,null,null,null,null,3764]
[3765,"2023-03-24","2023-03-24",null,null,null,null,null,3765]
[3766,"2023-03-25","2023-03-25","X",null,null,null,"X",{"$f":"+A3775","v":3766}]
[3767,"2023-03-26","2023-03-26","X",null,null,null,"X",3767]
[3768,"2023-03-27","2023-03-27",null,null,null,null,null,3768]
[3769,"2023-03-28","2023-03-28",null,null,null,null,null,3769]
[3770,"2023-03-29","2023-03-29",null,null,null,null,null,3770]
[3771,"2023-03-30","2023-03-30",null,null,null,null,null,3771]
[3772,"2023-03-31","2023-03-31",null,null,null,null,null,3772]
[3773,"2023-04-01","2023-04-01","X",null,null,null,"X",{"$f":"+A3782","v":3773}]
[3774,"2023-04-02","2023-04-02","X",null,null,null,"X",3774]
[3775,"2023-04-03","2023-04-03",null,null,null,null,null,3775]
[3776,"2023-04-04","2023-04-04",null,null,null,null,null,3776]
[3777,"2023-04-05","2023-04-05",null,null,null,null,null,{"$f":"+IF(H3786<>\"X\",A3786,0)","v":3777}]
[{"$f":"+A3786+1","v":3778},"2023-04-06","2023-04-06",null,null,"X",null,"X",{"$f":"+A3787","v":3778}]
[3779,"2023-04-07","2023-04-07",null,null,"X",null,"X",3779]
[3780,"2023-04-08","2023-04-08","X",null,null,null,"X",3780]
[3781,"2023-04-09","2023-04-09","X",null,null,null,"X",3781]
[3782,"2023-04-10","2023-04-10",null,null,null,null,null,3782]
[3783,"2023-04-11","2023-04-11",null,null,null,null,null,3783]
[3784,"2023-04-12","2023-04-12",null,null,null,null,null,3784]
[3785,"2023-04-13","2023-04-13",null,null,null,null,null,3785]
[3786,"2023-04-14","2023-04-14",null,null,null,null,null,3786]
[3787,"2023-04-15","2023-04-15","X",null,null,null,"X",{"$f":"+A3796","v":3787}]
[3788,"2023-04-16","2023-04-16","X",null,null,null,"X",3788]
[3789,"2023-04-17","2023-04-17",null,null,null,null,null,3789]
[3790,"2023-04-18","2023-04-18",null,null,null,null,null,3790]
[3791,"2023-04-19","2023-04-19",null,null,null,null,null,3791]
[3792,"2023-04-20","2023-04-20",null,null,null,null,null,3792]
[3793,"2023-04-21","2023-04-21",null,null,null,null,null,3793]
[{"$f":"+A3802+1","v":3794},"2023-04-22","2023-04-22","X",null,null,null,"X",{"$f":"+A3803","v":3794}]
[3795,"2023-04-23","2023-04-23","X",null,null,null,"X",3795]
[3796,"2023-04-24","2023-04-24",null,null,null,null,null,3796]
[3797,"2023-04-25","2023-04-25",null,null,null,null,null,3797]
[3798,"2023-04-26","2023-04-26",null,null,null,null,null,3798]
[3799,"2023-04-27","2023-04-27",null,null,null,null,null,3799]
[3800,"2023-04-28","2023-04-28",null,null,null,null,null,3800]
[3801,"2023-04-29","2023-04-29","X",null,null,null,"X",{"$f":"+A3810","v":3801}]
[3802,"2023-04-30","2023-04-30","X",null,null,null,"X",3802]
[3803,"2023-05-01","2023-05-01",null,"X",null,null,"X",3803]
[3804,"2023-05-02","2023-05-02",null,null,null,null,null,3804]
[3805,"2023-05-03","2023-05-03",null,null,null,null,null,3805]
[3806,"2023-05-04","2023-05-04",null,null,null,null,null,3806]
[3807,"2023-05-05","2023-05-05",null,null,null,null,null,3807]
[3808,"2023-05-06","2023-05-06","X",null,null,null,"X",{"$f":"+A3817","v":3808}]
[3809,"2023-05-07","2023-05-07","X",null,null,null,"X",3809]
[{"$f":"+A3818+1","v":3810},"2023-05-08","2023-05-08",null,null,null,null,null,3810]
[3811,"2023-05-09","2023-05-09",null,null,null,null,null,3811]
[3812,"2023-05-10","2023-05-10",null,null,null,null,null,3812]
[3813,"2023-05-11","2023-05-11",null,null,null,null,null,3813]
[3814,"2023-05-12","2023-05-12",null,null,null,null,null,3814]
[3815,"2023-05-13","2023-05-13","X",null,null,null,"X",{"$f":"+A3824","v":3815}]
[3816,"2023-05-14","2023-05-14","X",null,null,null,"X",3816]
[3817,"2023-05-15","2023-05-15",null,null,null,null,null,3817]
[3818,"2023-05-16","2023-05-16",null,null,null,null,null,3818]
[3819,"2023-05-17","2023-05-17",null,null,null,null,null,3819]
[3820,"2023-05-18","2023-05-18",null,null,null,null,null,3820]
[3821,"2023-05-19","2023-05-19",null,null,null,null,null,3821]
[3822,"2023-05-20","2023-05-20","X",null,null,null,"X",{"$f":"+A3831","v":3822}]
[3823,"2023-05-21","2023-05-21","X",null,null,null,"X",3823]
[3824,"2023-05-22","2023-05-22",null,null,null,null,null,3824]
[3825,"2023-05-23","2023-05-23",null,null,null,null,null,3825]
[{"$f":"+A3834+1","v":3826},"2023-05-24","2023-05-24",null,null,null,null,null,3826]
[3827,"2023-05-25","2023-05-25",null,null,null,null,null,3827]
[3828,"2023-05-26","2023-05-26",null,null,null,null,null,3828]
[3829,"2023-05-27","2023-05-27","X",null,null,null,"X",{"$f":"+A3838","v":3829}]
[3830,"2023-05-28","2023-05-28","X",null,null,null,"X",3830]
[3831,"2023-05-29","2023-05-29",null,null,null,null,null,3831]
[3832,"2023-05-30","2023-05-30",null,null,null,null,null,3832]
[3833,"2023-05-31","2023-05-31",null,null,null,null,null,3833]
[3834,"2023-06-01","2023-06-01",null,null,null,null,null,3834]
[3835,"2023-06-02","2023-06-02",null,null,null,null,null,3835]
[3836,"2023-06-03","2023-06-03","X",null,null,null,"X",{"$f":"+A3845","v":3836}]
[3837,"2023-06-04","2023-06-04","X",null,null,null,"X",3837]
[3838,"2023-06-05","2023-06-05",null,null,null,null,null,3838]
[3839,"2023-06-06","2023-06-06",null,null,null,null,null,3839]
[3840,"2023-06-07","2023-06-07",null,null,null,null,null,3840]
[3841,"2023-06-08","2023-06-08",null,null,null,null,null,{"$f":"+IF(H3850<>\"X\",A3850,0)","v":3841}]
[{"$f":"+A3850+1","v":3842},"2023-06-09","2023-06-09",null,null,null,null,null,3842]
[3843,"2023-06-10","2023-06-10","X",null,null,null,"X",{"$f":"+A3852","v":3843}]
[3844,"2023-06-11","2023-06-11","X",null,null,null,"X",3844]
[3845,"2023-06-12","2023-06-12",null,null,null,null,null,3845]
[3846,"2023-06-13","2023-06-13",null,null,null,null,null,3846]
[3847,"2023-06-14","2023-06-14",null,null,null,null,null,3847]
[3848,"2023-06-15","2023-06-15",null,null,null,null,null,3848]
[3849,"2023-06-16","2023-06-16",null,null,null,null,null,3849]
[3850,"2023-06-17","2023-06-17","X",null,null,null,"X",{"$f":"+A3859","v":3850}]
[3851,"2023-06-18","2023-06-18","X",null,null,null,"X",3851]
[3852,"2023-06-19","2023-06-19",null,null,null,null,null,3852]
[3853,"2023-06-20","2023-06-20",null,null,null,null,null,3853]
[3854,"2023-06-21","2023-06-21",null,null,null,null,null,3854]
[3855,"2023-06-22","2023-06-22",null,null,null,null,null,3855]
[3856,"2023-06-23","2023-06-23",null,null,null,null,null,3856]
[3857,"2023-06-24","2023-06-24","X",null,null,null,"X",{"$f":"+A3866","v":3857}]
[{"$f":"+A3866+1","v":3858},"2023-06-25","2023-06-25","X",null,null,null,"X",3858]
[3859,"2023-06-26","2023-06-26",null,null,null,null,null,3859]
[3860,"2023-06-27","2023-06-27",null,null,null,null,null,3860]
[3861,"2023-06-28","2023-06-28",null,null,null,null,null,3861]
[3862,"2023-06-29","2023-06-29",null,"X",null,null,"X",{"$f":"+A3871","v":3862}]
[3863,"2023-06-30","2023-06-30",null,null,null,null,null,3863]
[3864,"2023-07-01","2023-07-01","X",null,null,null,"X",{"$f":"+A3873","v":3864}]
[3865,"2023-07-02","2023-07-02","X",null,null,null,"X",3865]
[3866,"2023-07-03","2023-07-03",null,null,null,null,null,3866]
[3867,"2023-07-04","2023-07-04",null,null,null,null,null,3867]
[3868,"2023-07-05","2023-07-05",null,null,null,null,null,3868]
[3869,"2023-07-06","2023-07-06",null,null,null,null,null,3869]
[3870,"2023-07-07","2023-07-07",null,null,null,null,null,3870]
[3871,"2023-07-08","2023-07-08","X",null,null,null,"X",{"$f":"+A3880","v":3871}]
[3872,"2023-07-09","2023-07-09","X",null,null,null,"X",3872]
[3873,"2023-07-10","2023-07-10",null,null,null,null,null,3873]
[{"$f":"+A3882+1","v":3874},"2023-07-11","2023-07-11",null,null,null,null,null,3874]
[3875,"2023-07-12","2023-07-12",null,null,null,null,null,3875]
[3876,"2023-07-13","2023-07-13",null,null,null,null,null,3876]
[3877,"2023-07-14","2023-07-14",null,null,null,null,null,3877]
[3878,"2023-07-15","2023-07-15","X",null,null,null,"X",{"$f":"+A3887","v":3878}]
[3879,"2023-07-16","2023-07-16","X",null,null,null,"X",3879]
[3880,"2023-07-17","2023-07-17",null,null,null,null,null,3880]
[3881,"2023-07-18","2023-07-18",null,null,null,null,null,3881]
[3882,"2023-07-19","2023-07-19",null,null,null,null,null,3882]
[3883,"2023-07-20","2023-07-20",null,null,null,null,null,3883]
[3884,"2023-07-21","2023-07-21",null,null,null,null,null,3884]
[3885,"2023-07-22","2023-07-22","X",null,null,null,"X",{"$f":"+A3894","v":3885}]
[3886,"2023-07-23","2023-07-23","X",null,null,null,"X",3886]
[3887,"2023-07-24","2023-07-24",null,null,null,null,null,3887]
[3888,"2023-07-25","2023-07-25",null,null,null,null,null,3888]
[3889,"2023-07-26","2023-07-26",null,null,null,null,null,3889]
[{"$f":"+A3898+1","v":3890},"2023-07-27","2023-07-27",null,null,null,null,null,3890]
[3891,"2023-07-28","2023-07-28",null,"X",null,null,"X",{"$f":"+A3900","v":3891}]
[3892,"2023-07-29","2023-07-29","X","X",null,null,"X",3892]
[3893,"2023-07-30","2023-07-30","X",null,null,null,"X",3893]
[3894,"2023-07-31","2023-07-31",null,null,null,null,null,3894]
[3895,"2023-08-01","2023-08-01",null,null,null,null,null,3895]
[3896,"2023-08-02","2023-08-02",null,null,null,null,null,3896]
[3897,"2023-08-03","2023-08-03",null,null,null,null,null,3897]
[3898,"2023-08-04","2023-08-04",null,null,null,null,null,3898]
[3899,"2023-08-05","2023-08-05","X",null,null,null,"X",{"$f":"+A3908","v":3899}]
[3900,"2023-08-06","2023-08-06","X",null,null,null,"X",3900]
[3901,"2023-08-07","2023-08-07",null,null,null,null,null,3901]
[3902,"2023-08-08","2023-08-08",null,null,null,null,null,3902]
[3903,"2023-08-09","2023-08-09",null,null,null,null,null,3903]
[3904,"2023-08-10","2023-08-10",null,null,null,null,null,3904]
[3905,"2023-08-11","2023-08-11",null,null,null,null,null,{"$f":"+IF(H3914<>\"X\",A3914,0)","v":3905}]
[{"$f":"+A3914+1","v":3906},"2023-08-12","2023-08-12","X",null,null,null,"X",{"$f":"+A3915","v":3906}]
[3907,"2023-08-13","2023-08-13","X",null,null,null,"X",3907]
[3908,"2023-08-14","2023-08-14",null,null,null,null,null,3908]
[3909,"2023-08-15","2023-08-15",null,null,null,null,null,3909]
[3910,"2023-08-16","2023-08-16",null,null,null,null,null,3910]
[3911,"2023-08-17","2023-08-17",null,null,null,null,null,3911]
[3912,"2023-08-18","2023-08-18",null,null,null,null,null,3912]
[3913,"2023-08-19","2023-08-19","X",null,null,null,"X",{"$f":"+A3922","v":3913}]
[3914,"2023-08-20","2023-08-20","X",null,null,null,"X",3914]
[3915,"2023-08-21","2023-08-21",null,null,null,null,null,3915]
[3916,"2023-08-22","2023-08-22",null,null,null,null,null,3916]
[3917,"2023-08-23","2023-08-23",null,null,null,null,null,3917]
[3918,"2023-08-24","2023-08-24",null,null,null,null,null,3918]
[3919,"2023-08-25","2023-08-25",null,null,null,null,null,3919]
[3920,"2023-08-26","2023-08-26","X",null,null,null,"X",{"$f":"+A3929","v":3920}]
[3921,"2023-08-27","2023-08-27","X",null,null,null,"X",3921]
[{"$f":"+A3930+1","v":3922},"2023-08-28","2023-08-28",null,null,null,null,null,3922]
[3923,"2023-08-29","2023-08-29",null,null,null,null,null,3923]
[3924,"2023-08-30","2023-08-30",null,null,null,null,null,3924]
[3925,"2023-08-31","2023-08-31",null,null,null,null,null,3925]
[3926,"2023-09-01","2023-09-01",null,null,null,null,null,3926]
[3927,"2023-09-02","2023-09-02","X",null,null,null,"X",{"$f":"+A3936","v":3927}]
[3928,"2023-09-03","2023-09-03","X",null,null,null,"X",3928]
[3929,"2023-09-04","2023-09-04",null,null,null,null,null,3929]
[3930,"2023-09-05","2023-09-05",null,null,null,null,null,3930]
[3931,"2023-09-06","2023-09-06",null,null,null,null,null,3931]
[3932,"2023-09-07","2023-09-07",null,null,null,null,null,3932]
[3933,"2023-09-08","2023-09-08",null,null,null,null,null,3933]
[3934,"2023-09-09","2023-09-09","X",null,null,null,"X",{"$f":"+A3943","v":3934}]
[3935,"2023-09-10","2023-09-10","X",null,null,null,"X",3935]
[3936,"2023-09-11","2023-09-11",null,null,null,null,null,3936]
[3937,"2023-09-12","2023-09-12",null,null,null,null,null,3937]
[{"$f":"+A3946+1","v":3938},"2023-09-13","2023-09-13",null,null,null,null,null,3938]
[3939,"2023-09-14","2023-09-14",null,null,null,null,null,3939]
[3940,"2023-09-15","2023-09-15",null,null,null,null,null,3940]
[3941,"2023-09-16","2023-09-16","X",null,null,null,"X",{"$f":"+A3950","v":3941}]
[3942,"2023-09-17","2023-09-17","X",null,null,null,"X",3942]
[3943,"2023-09-18","2023-09-18",null,null,null,null,null,3943]
[3944,"2023-09-19","2023-09-19",null,null,null,null,null,3944]
[3945,"2023-09-20","2023-09-20",null,null,null,null,null,3945]
[3946,"2023-09-21","2023-09-21",null,null,null,null,null,3946]
[3947,"2023-09-22","2023-09-22",null,null,null,null,null,3947]
[3948,"2023-09-23","2023-09-23","X",null,null,null,"X",{"$f":"+A3957","v":3948}]
[3949,"2023-09-24","2023-09-24","X",null,null,null,"X",3949]
[3950,"2023-09-25","2023-09-25",null,null,null,null,null,3950]
[3951,"2023-09-26","2023-09-26",null,null,null,null,null,3951]
[3952,"2023-09-27","2023-09-27",null,null,null,null,null,3952]
[3953,"2023-09-28","2023-09-28",null,null,null,null,null,3953]
[{"$f":"+A3962+1","v":3954},"2023-09-29","2023-09-29",null,null,null,null,null,3954]
[3955,"2023-09-30","2023-09-30","X",null,null,null,"X",{"$f":"+A3964","v":3955}]
[3956,"2023-10-01","2023-10-01","X",null,null,null,"X",3956]
[3957,"2023-10-02","2023-10-02",null,null,null,null,null,3957]
[3958,"2023-10-03","2023-10-03",null,null,null,null,null,3958]
[3959,"2023-10-04","2023-10-04",null,null,null,null,null,3959]
[3960,"2023-10-05","2023-10-05",null,null,null,null,null,3960]
[3961,"2023-10-06","2023-10-06",null,null,null,null,null,3961]
[3962,"2023-10-07","2023-10-07","X",null,null,null,"X",{"$f":"+A3971","v":3962}]
[3963,"2023-10-08","2023-10-08","X","X",null,null,"X",3963]
[3964,"2023-10-09","2023-10-09",null,null,null,null,null,3964]
[3965,"2023-10-10","2023-10-10",null,null,null,null,null,3965]
[3966,"2023-10-11","2023-10-11",null,null,null,null,null,3966]
[3967,"2023-10-12","2023-10-12",null,null,null,null,null,3967]
[3968,"2023-10-13","2023-10-13",null,null,null,null,null,3968]
[3969,"2023-10-14","2023-10-14","X",null,null,null,"X",{"$f":"+A3978","v":3969}]
[{"$f":"+A3978+1","v":3970},"2023-10-15","2023-10-15","X",null,null,null,"X",3970]
[3971,"2023-10-16","2023-10-16",null,null,null,null,null,{"$f":"+IF(H3980<>\"X\",A3980,0)","v":3971}]
[3972,"2023-10-17","2023-10-17",null,null,null,null,null,3972]
[3973,"2023-10-18","2023-10-18",null,null,null,null,null,3973]
[3974,"2023-10-19","2023-10-19",null,null,null,null,null,3974]
[3975,"2023-10-20","2023-10-20",null,null,null,null,null,3975]
[3976,"2023-10-21","2023-10-21","X",null,null,null,"X",{"$f":"+A3985","v":3976}]
[3977,"2023-10-22","2023-10-22","X",null,null,null,"X",3977]
[3978,"2023-10-23","2023-10-23",null,null,null,null,null,3978]
[3979,"2023-10-24","2023-10-24",null,null,null,null,null,3979]
[3980,"2023-10-25","2023-10-25",null,null,null,null,null,3980]
[3981,"2023-10-26","2023-10-26",null,null,null,null,null,3981]
[3982,"2023-10-27","2023-10-27",null,null,null,null,null,3982]
[3983,"2023-10-28","2023-10-28","X",null,null,null,"X",{"$f":"+A3992","v":3983}]
[3984,"2023-10-29","2023-10-29","X",null,null,null,"X",3984]
[3985,"2023-10-30","2023-10-30",null,null,null,null,null,3985]
[{"$f":"+A3994+1","v":3986},"2023-10-31","2023-10-31",null,null,null,null,null,3986]
[3987,"2023-11-01","2023-11-01",null,"X",null,null,"X",{"$f":"+A3996","v":3987}]
[3988,"2023-11-02","2023-11-02",null,null,null,null,null,3988]
[3989,"2023-11-03","2023-11-03",null,null,null,null,null,3989]
[3990,"2023-11-04","2023-11-04","X",null,null,null,"X",{"$f":"+A3999","v":3990}]
[3991,"2023-11-05","2023-11-05","X",null,null,null,"X",3991]
[3992,"2023-11-06","2023-11-06",null,null,null,null,null,3992]
[3993,"2023-11-07","2023-11-07",null,null,null,null,null,3993]
[3994,"2023-11-08","2023-11-08",null,null,null,null,null,3994]
[3995,"2023-11-09","2023-11-09",null,null,null,null,null,3995]
[3996,"2023-11-10","2023-11-10",null,null,null,null,null,3996]
[3997,"2023-11-11","2023-11-11","X",null,null,null,"X",{"$f":"+A4006","v":3997}]
[3998,"2023-11-12","2023-11-12","X",null,null,null,"X",3998]
[3999,"2023-11-13","2023-11-13",null,null,null,null,null,3999]
[4000,"2023-11-14","2023-11-14",null,null,null,null,null,4000]
[4001,"2023-11-15","2023-11-15",null,null,null,null,null,4001]
[{"$f":"+A4010+1","v":4002},"2023-11-16","2023-11-16",null,null,null,null,null,4002]
[4003,"2023-11-17","2023-11-17",null,null,null,null,null,4003]
[4004,"2023-11-18","2023-11-18","X",null,null,null,"X",{"$f":"+A4013","v":4004}]
[4005,"2023-11-19","2023-11-19","X",null,null,null,"X",4005]
[4006,"2023-11-20","2023-11-20",null,null,null,null,null,4006]
[4007,"2023-11-21","2023-11-21",null,null,null,null,null,4007]
[4008,"2023-11-22","2023-11-22",null,null,null,null,null,4008]
[4009,"2023-11-23","2023-11-23",null,null,null,null,null,4009]
[4010,"2023-11-24","2023-11-24",null,null,null,null,null,4010]
[4011,"2023-11-25","2023-11-25","X",null,null,null,"X",{"$f":"+A4020","v":4011}]
[4012,"2023-11-26","2023-11-26","X",null,null,null,"X",4012]
[4013,"2023-11-27","2023-11-27",null,null,null,null,null,4013]
[4014,"2023-11-28","2023-11-28",null,null,null,null,null,4014]
[4015,"2023-11-29","2023-11-29",null,null,null,null,null,4015]
[4016,"2023-11-30","2023-11-30",null,null,null,null,null,4016]
[4017,"2023-12-01","2023-12-01",null,null,null,null,null,4017]
[{"$f":"+A4026+1","v":4018},"2023-12-02","2023-12-02","X",null,null,null,"X",{"$f":"+A4027","v":4018}]
[4019,"2023-12-03","2023-12-03","X",null,null,null,"X",4019]
[4020,"2023-12-04","2023-12-04",null,null,null,null,null,4020]
[4021,"2023-12-05","2023-12-05",null,null,null,null,null,4021]
[4022,"2023-12-06","2023-12-06",null,null,null,null,null,4022]
[4023,"2023-12-07","2023-12-07",null,null,null,null,null,4023]
[4024,"2023-12-08","2023-12-08",null,"X",null,null,"X",{"$f":"+A4033","v":4024}]
[4025,"2023-12-09","2023-12-09","X",null,null,null,"X",4025]
[4026,"2023-12-10","2023-12-10","X",null,null,null,"X",4026]
[4027,"2023-12-11","2023-12-11",null,null,null,null,null,4027]
[4028,"2023-12-12","2023-12-12",null,null,null,null,null,4028]
[4029,"2023-12-13","2023-12-13",null,null,null,null,null,4029]
[4030,"2023-12-14","2023-12-14",null,null,null,null,null,4030]
[4031,"2023-12-15","2023-12-15",null,null,null,null,null,4031]
[4032,"2023-12-16","2023-12-16","X",null,null,null,"X",{"$f":"+A4041","v":4032}]
[4033,"2023-12-17","2023-12-17","X",null,null,null,"X",4033]
[{"$f":"+A4042+1","v":4034},"2023-12-18","2023-12-18",null,null,null,null,null,{"$f":"+IF(H4043<>\"X\",A4043,0)","v":4034}]
[4035,"2023-12-19","2023-12-19",null,null,null,null,null,4035]
[4036,"2023-12-20","2023-12-20",null,null,null,null,null,4036]
[4037,"2023-12-21","2023-12-21",null,null,null,null,null,4037]
[4038,"2023-12-22","2023-12-22",null,null,null,null,null,4038]
[4039,"2023-12-23","2023-12-23","X",null,null,null,"X",{"$f":"+A4048","v":4039}]
[4040,"2023-12-24","2023-12-24","X",null,null,null,"X",4040]
[4041,"2023-12-25","2023-12-25",null,"X",null,null,"X",4041]
[4042,"2023-12-26","2023-12-26",null,null,null,null,null,4042]
[4043,"2023-12-27","2023-12-27",null,null,null,null,null,4043]
[4044,"2023-12-28","2023-12-28",null,null,null,null,null,4044]
[4045,"2023-12-29","2023-12-29",null,null,null,null,null,4045]
[4046,"2023-12-30","2023-12-30","X",null,null,null,"X",{"$f":"+A4055","v":4046}]
[4047,"2023-12-31","2023-12-31","X",null,null,null,"X",4047]
[4048,"2024-01-01","2024-01-01",null,"X",null,null,"X",4048]
[4049,"2024-01-02","2024-01-02",null,null,null,null,null,4049]
[{"$f":"+A4058+1","v":4050},"2024-01-03","2024-01-03",null,null,null,null,null,4050]
[4051,"2024-01-04","2024-01-04",null,null,null,null,null,4051]
[4052,"2024-01-05","2024-01-05",null,null,null,null,null,4052]
[4053,"2024-01-06","2024-01-06","X",null,null,null,"X",{"$f":"+A4062","v":4053}]
[4054,"2024-01-07","2024-01-07","X",null,null,null,"X",4054]
[4055,"2024-01-08","2024-01-08",null,null,null,null,null,4055]
[4056,"2024-01-09","2024-01-09",null,null,null,null,null,4056]
[4057,"2024-01-10","2024-01-10",null,null,null,null,null,4057]
[4058,"2024-01-11","2024-01-11",null,null,null,null,null,4058]
[4059,"2024-01-12","2024-01-12",null,null,null,null,null,4059]
[4060,"2024-01-13","2024-01-13","X",null,null,null,"X",{"$f":"+A4069","v":4060}]
[4061,"2024-01-14","2024-01-14","X",null,null,null,"X",4061]
[4062,"2024-01-15","2024-01-15",null,null,null,null,null,4062]
[4063,"2024-01-16","2024-01-16",null,null,null,null,null,4063]
[4064,"2024-01-17","2024-01-17",null,null,null,null,null,4064]
[4065,"2024-01-18","2024-01-18",null,null,null,null,null,4065]
[{"$f":"+A4074+1","v":4066},"2024-01-19","2024-01-19",null,null,null,null,null,4066]
[4067,"2024-01-20","2024-01-20","X",null,null,null,"X",{"$f":"+A4076","v":4067}]
[4068,"2024-01-21","2024-01-21","X",null,null,null,"X",4068]

{"sheet":"CronogramaValoresNvo","index":5,"n_rows":61,"n_cols":13,"rows_kept":61,"cut":false,"hidden":false,"merged":[[1,1,3,12],[59,1,59,3]]}
[]
[null,{"$f":"CronogramaValores!$B$2","v":"CRONOGRAMA DE CUOTAS - CREDITO CADENAS PRODUCTIVAS"}]
[]
[]
[null,{"$f":"CronogramaValores!B5","v":"Moneda"},{"$f":"CronogramaValores!D5","v":"Soles"},{"$f":"CronogramaValores!E6","v":"Cuota a pagar"},{"$f":"CronogramaValores!G6","v":338.02395439260948},{"$f":"CronogramaValores!$L$5","v":"Tasa Efectiva Anual (T.E.A) compensatoria"},null,null,{"$f":"CronogramaValores!$P$5","v":0.155},null,{"$f":"CronogramaValores!$L$7","v":"Fecha de desembolso"},null,{"$f":"CronogramaValores!$P$7","v":"2017-12-17"}]
[null,{"$f":"CronogramaValores!B6","v":"Monto solicitado"},{"$f":"CronogramaValores!D6","v":3500},{"$f":"MID(Simulador!C27,1,12)","v":"Periodicidad"},{"$f":"Simulador!G27","v":"1 mes"},{"$f":"CronogramaValores!$L$6","v":"Tasa Costo Efectiva Anual (T.C.E.A)"},null,null,{"$f":"CronogramaValores!$P$6","v":0.31501950343921714}]
[null,{"$f":"CronogramaValores!B7","v":"Nº de cuotas"},{"$f":"CronogramaValores!D7","v":12},{"$f":"CronogramaValores!$H$7","v":"ITF"},{"$f":"CronogramaValores!$K$7","v":5.0000000000000002E-5},"Seguro de Desgravamen",null,null,{"$f":"Simulador!$G$40","v":20.362386889201687}]
[]
[null,"Nro.","Fecha","Saldo del monto","Principal","Intereses","Operador","Seguro de","Reportes","Seguro","Portes","ITF","Cuota "]
[null,"de cuota","de pago","del crédito",null,null,"de Créditos","desgravamen","Legales","Agrícola",null,null,"a pagar"]
[null,null,null,"(a)","(c)","(d)","(f)","(g)","(h)","(i)","(j)","(k)","(l) = (e)+(f)+(g)+(h)+(i)+(j)+(k)"]
[null,1,"2018-01-17",3500,271.75543979800534,43.70081568717066,8.3333333333333357,1.6968655741001408,4.4408920985006262E-16,12.537499999999996,0,0,338.02395439260948]
[null,2,"2018-02-19",3228.2445602019948,272.53085232411519,42.925403161060807,8.3333333333333357,1.6968655741001408,4.4408920985006262E-16,12.537499999999996,0,0,338.02395439260943]
[null,3,"2018-03-19",2955.7137078778796,282.14285769227166,33.313397792904318,8.3333333333333357,1.6968655741001408,4.4408920985006262E-16,12.537499999999996,0,0,338.02395439260943]
[null,4,"2018-04-17",2673.5708501856079,284.2403948086544,31.215860676521569,8.3333333333333357,1.6968655741001408,4.4408920985006262E-16,12.537499999999996,0,0,338.02395439260943]
[null,5,"2018-05-17",2389.3304553769531,286.59134717155297,28.864908313623008,8.3333333333333357,1.6968655741001408,4.4408920985006262E-16,12.537499999999996,0,0,338.02395439260943]
[null,6,"2018-06-18",2102.7391082054,288.34920419177598,27.107051293399973,8.3333333333333357,1.6968655741001408,4.4408920985006262E-16,12.537499999999996,0,0,338.02395439260943]
[null,7,"2018-07-17",1814.3899040136243,294.27194968956007,21.184305795615877,8.3333333333333357,1.6968655741001408,4.4408920985006262E-16,12.537499999999996,0,0,338.02395439260943]
[null,8,"2018-08-17",1520.1179543240642,296.476142758126,18.980112727049956,8.3333333333333357,1.6968655741001408,4.4408920985006262E-16,12.537499999999996,0,0,338.02395439260943]
[null,9,"2018-09-17",1223.641811565938,300.17792826393065,15.278327221245339,8.3333333333333357,1.6968655741001408,4.4408920985006262E-16,12.537499999999996,0,0,338.02395439260943]
[null,10,"2018-10-17",923.46388330200716,304.30011747066709,11.156138014508908,8.3333333333333357,1.6968655741001408,4.4408920985006262E-16,12.537499999999996,0,0,338.02395439260943]
[null,11,"2018-11-19",619.16376583134024,307.22334320873807,8.2329122764379221,8.3333333333333357,1.6968655741001408,4.4408920985006262E-16,12.537499999999996,0,0,338.02395439260943]
[null,12,"2018-12-17",311.940422622602,311.94042262260336,3.5158328625726307,8.3333333333333357,1.6968655741001408,4.4408920985006262E-16,12.537499999999996,0,0,338.02395439260943]
[null,13,null,0,0,0,0,0,0,0,0,0,0]
[null,14,null,0,0,0,0,0,0,0,0,0,0]
[null,15,null,0,0,0,0,0,0,0,0,0,0]
[null,16,null,0,0,0,0,0,0,0,0,0,0]
[null,17,null,0,0,0,0,0,0,0,0,0,0]
[null,18,null,0,0,0,0,0,0,0,0,0,0]
[null,19,null,0,0,0,0,0,0,0,0,0,0]
[null,20,null,0,0,0,0,0,0,0,0,0,0]
[null,21,null,0,0,0,0,0,0,0,0,0,0]
[null,22,null,0,0,0,0,0,0,0,0,0,0]
[null,23,null,0,0,0,0,0,0,0,0,0,0]
[null,24,null,0,0,0,0,0,0,0,0,0,0]
[null,25,null,0,0,0,0,0,0,0,0,0,0]
[null,26,null,0,0,0,0,0,0,0,0,0,0]
[null,27,null,0,0,0,0,0,0,0,0,0,0]
[null,28,null,0,0,0,0,0,0,0,0,0,0]
[null,29,null,0,0,0,0,0,0,0,0,0,0]
[null,30,null,0,0,0,0,0,0,0,0,0,0]
[null,31,null,0,0,0,0,0,0,0,0,0,0]
[null,32,null,0,0,0,0,0,0,0,0,0,0]
[null,33,null,0,0,0,0,0,0,0,0,0,0]
[null,34,null,0,0,0,0,0,0,0,0,0,0]
[null,35,null,0,0,0,0,0,0,0,0,0,0]
[null,36,null,0,0,0,0,0,0,0,0,0,0]
[null,37,null,0,0,0,0,0,0,0,0,0,0]
[null,38,null,0,0,0,0,0,0,0,0,0,0]
[null,39,null,0,0,0,0,0,0,0,0,0,0]
[null,40,null,0,0,0,0,0,0,0,0,0,0]
[null,41,null,0,0,0,0,0,0,0,0,0,0]
[null,42,null,0,0,0,0,0,0,0,0,0,0]
[null,43,null,0,0,0,0,0,0,0,0,0,0]
[null,44,null,0,0,0,0,0,0,0,0,0,0]
[null,45,null,0,0,0,0,0,0,0,0,0,0]
[null,46,null,0,0,0,0,0,0,0,0,0,0]
[null,47,null,0,0,0,0,0,0,0,0,0,0]
[null,48,null,0,0,0,0,0,0,0,0,0,0]
[null,"Totales",null,null,3500.0000000000014,285.47506582211088,100.00000000000006,20.362386889201691,5.3290705182007514E-15,150.44999999999996,0,0,4056.287452711314]
[null,"*Se ajusta por redondeo según criterio establecido en la Ley N°28194"]